BEGIN:VCALENDAR
VERSION:2.0
PRODID:-//Miejski Dom Kultury w Piekarach Śląskich - ECPv6.15.17.1//NONSGML v1.0//EN
CALSCALE:GREGORIAN
METHOD:PUBLISH
X-ORIGINAL-URL:https://www.mdk.piekary.pl
X-WR-CALDESC:Wydarzenia dla Miejski Dom Kultury w Piekarach Śląskich
REFRESH-INTERVAL;VALUE=DURATION:PT1H
X-Robots-Tag:noindex
X-PUBLISHED-TTL:PT1H
BEGIN:VTIMEZONE
TZID:Europe/Warsaw
BEGIN:DAYLIGHT
TZOFFSETFROM:+0100
TZOFFSETTO:+0200
TZNAME:CEST
DTSTART:20240331T010000
END:DAYLIGHT
BEGIN:STANDARD
TZOFFSETFROM:+0200
TZOFFSETTO:+0100
TZNAME:CET
DTSTART:20241027T010000
END:STANDARD
BEGIN:DAYLIGHT
TZOFFSETFROM:+0100
TZOFFSETTO:+0200
TZNAME:CEST
DTSTART:20250330T010000
END:DAYLIGHT
BEGIN:STANDARD
TZOFFSETFROM:+0200
TZOFFSETTO:+0100
TZNAME:CET
DTSTART:20251026T010000
END:STANDARD
BEGIN:DAYLIGHT
TZOFFSETFROM:+0100
TZOFFSETTO:+0200
TZNAME:CEST
DTSTART:20260329T010000
END:DAYLIGHT
BEGIN:STANDARD
TZOFFSETFROM:+0200
TZOFFSETTO:+0100
TZNAME:CET
DTSTART:20261025T010000
END:STANDARD
END:VTIMEZONE
BEGIN:VEVENT
DTSTART;TZID=Europe/Warsaw:20250505T190000
DTEND;TZID=Europe/Warsaw:20250505T203000
DTSTAMP:20260424T115852
CREATED:20250415T075215Z
LAST-MODIFIED:20250415T081207Z
UID:14112-1746471600-1746477000@www.mdk.piekary.pl
SUMMARY:Mariusz Kałamaga STAND UP
DESCRIPTION:„Mamo! Papier się kończy!” \n\n\n\n\n\n\nKUP BILET\n\n\n\n\n \n\n\n\n\n\n\n\nMariusz Kałamaga – na co dzień budzi ludzi w RMF FM i tam go tylko słychać. Wieczorami wychodzi ze swojej żeremi i budzi ludzi ze sceny i tam go widać. “Mamo! Papier się kończy!” to zestaw spostrzeżeń\, przemyśleń\, doświadczeń komika\, które odpowiada myśli: Czyń BOBRO miej dystans\, ssij a będzie Ci ssane. Papier się kończy a wraz z nim pewna era. Nadchodzi sztuczna inteligencja i prawdziwa głupota. bo człowiek\, by nie myśleć wymyślił robota. Duża dawka\, energii i próba pozytywnego spojrzenia na ten żywot człowieka miejmy nadzieję jeszcze poczciwego.
URL:https://www.mdk.piekary.pl/wydarzenie/mariusz-kalamaga-stand-up/
LOCATION:Piekary Śląskie ul. Bytomska 73
ATTACH;FMTTYPE=image/jpeg:https://www.mdk.piekary.pl/wp-content/uploads/2025/04/MK_STANDUP_PLAKAT_internet_prev-scaled.jpg
ORGANIZER;CN="Miejski Dom Kultury w Piekarach %C5%9Al%C4%85skich":MAILTO:impresariat@mdk.piekary.pl
END:VEVENT
BEGIN:VEVENT
DTSTART;TZID=Europe/Warsaw:20250522T200000
DTEND;TZID=Europe/Warsaw:20250522T213000
DTSTAMP:20260424T115852
CREATED:20250213T103809Z
LAST-MODIFIED:20250213T103810Z
UID:13840-1747944000-1747949400@www.mdk.piekary.pl
SUMMARY:ADAM VAN BENDLER - STAND UP
DESCRIPTION:Z nowym programem: ULTIMATUM \n\n\n\n\n\n\n\n\nKUP BILECIK\n\n\n\n\n\n\n\n\nNowy program Van Bendlera wjeżdża na salony!Szczęśliwie\, jest on dla ludzi\, zarówno w każdym\, jak i w żadnym wieku. Bez względu na płeć\, rasę czy stan licznika wody.Będzie to podróż przez rwącą rzekę durnoty\, leciwą tratewką\, zbitą z tematów ważnych i niepoważnych. W tym przyciasnym\, trącącym pawiem i gilem\, kapoczku z wikliny\, doglądać będziemy brzegu\, niczym ostatniej puenty na koniec tego zwariowanego show. Klasycznie\, poruszymy problemy\, od których uciec nie sposób. Nooo ok\, chyba\, że ma się immunitet poselski\, 50 w bicepsie\, 300 w udzie i 400 w ogonie. Wtedy jesteś Tyranozaurem. I wtedy to ty jesteś problemem. No chyba\, że nie jesz mięsa. Wtedy jesteś „hooy nie tireks” – jak mówią Treiceratopsy na dzielni. Kogo w ogóle obchodzi zdanie Triceratopsów? No\, nie ważne. Anyway… zapraszamy na „ULTIMATUM”! \n\n\n\nStart 20:00Bramy 19:30Bilety: 90 PLN \n\n\n\nDo zobaczenia!
URL:https://www.mdk.piekary.pl/wydarzenie/adam-van-bendler-stand-up/
LOCATION:Piekary Śląskie ul. Bytomska 73
ATTACH;FMTTYPE=image/jpeg:https://www.mdk.piekary.pl/wp-content/uploads/2025/02/Bendler-plakat.jpg
ORGANIZER;CN="Miejski Dom Kultury w Piekarach %C5%9Al%C4%85skich":MAILTO:impresariat@mdk.piekary.pl
END:VEVENT
BEGIN:VEVENT
DTSTART;TZID=Europe/Warsaw:20250525T170000
DTEND;TZID=Europe/Warsaw:20250525T183000
DTSTAMP:20260424T115852
CREATED:20250313T132524Z
LAST-MODIFIED:20250513T065302Z
UID:13931-1748192400-1748197800@www.mdk.piekary.pl
SUMMARY:”Czy nas jeszcze pamiętasz?" Koncert Piotra Kuźniaka w repertuarze Krzysztofa Krawczyka zorganizowany z okazji Dnia Matki
DESCRIPTION:KUP BILET\n\n\n\n\n \n\n\n\n\nKUPBILECIK.PL\n\n\n\n\n \n\n\n\n\n\n\n\nZapraszamy na wyjątkowy koncert w wykonaniu Piotra Kuźniaka\, wspaniałego muzykai gitarzysty\, zdobywcę złotego medalu „Zasłużony Kulturze Gloria Artis”\, który wykona największe przeboje „legendy polskiej piosenki” – Krzysztofa Krawczyka. Tego popołudnia artyście towarzyszyć będą niesamowite chórki –  Alicja Pszczółkowska i Urszula Lidwin. \n\n\n\nTen wyjątkowy artysta zabierze nas w świat największych przebojów tj. „Za Tobą pójdę jak na bal”\, „Gdzie się podziały tamte prywatki”\, ” Bo jesteś Ty”\, „Samba Pa Ti” wykonanych na instrumencie mistrza Carlosa Santany we wspaniałych rockowychi tylko w oryginalnych aranżacjach. To tylko tylko wybrane największe przeboje\, przy których bawią się tłumy młodszych i starszych fanów Polskiej muzyki rozrywkowej. \n\n\n\nPiotr Kuźniak (ur. 15 kwietnia 1948 w Poznaniu) – wybitny polski instrumentalistai wokalista oraz aranżer. Członek i solista Poznańskich Słowików. Od 1993 po reaktywacji i po dziś dzień członek legendarnych TRUBADURÓW. Sporą popularność przyniosły mu interpretacje piosenek Czesława Niemena (prywatnie przyjaciela). Od 2012 członek zespołu „Poznakowski Band”. Jego wykonania utworów legendarnego Carlosa Santany\, przysporzyły mu tłumy fanów w Polsce i za granicą. Utwory wykonuje na oryginalnym instrumencie Santany. \n\n\n\nBilety są dostępne w Biurze Obsługi Klienta MDK oraz online na www.mdk.piekary.pli www.kupbilecik.pl. Liczba miejsc ograniczona.
URL:https://www.mdk.piekary.pl/wydarzenie/czy-nas-jeszcze-pamietasz-koncert-piotra-kuzniaka-w-repertuarze-krzysztofa-krawczyka-zorganizowany-z-okazji-dnia-matki/
LOCATION:Piekary Śląskie ul. Bytomska 73
ATTACH;FMTTYPE=image/jpeg:https://www.mdk.piekary.pl/wp-content/uploads/2025/03/DZIEN-MATKI-plakat.jpg
ORGANIZER;CN="Miejski Dom Kultury w Piekarach %C5%9Al%C4%85skich":MAILTO:impresariat@mdk.piekary.pl
END:VEVENT
BEGIN:VEVENT
DTSTART;TZID=Europe/Warsaw:20250530T170000
DTEND;TZID=Europe/Warsaw:20250530T183000
DTSTAMP:20260424T115852
CREATED:20250402T122545Z
LAST-MODIFIED:20250530T154510Z
UID:14019-1748624400-1748629800@www.mdk.piekary.pl
SUMMARY:DZIEŃ DZIECKA                                   Koncert zespołu Małe TGD
DESCRIPTION:KUP BILET\n\n\n\n\n\n\n\n\nMiejski Dom Kultury w Piekarach Śląskich zaprasza na wyjątkowy koncert „Dziecka dzień” z zespołem Małe TGD!Z okazji Dnia Dziecka przygotowaliśmy coś absolutnie niezwykłego – koncert\, który porwie do wspólnej zabawy zarówno najmłodszych\, jak i tych trochę starszych! 30 maja 2025 roku o godz. 17:00 scena Miejskiego Domu Kultury w Piekarach Śląskich zamieni się w prawdziwe muzyczne święto pełne radości\, tańca i pozytywnej energii.Małe TGD to fenomen na polskiej scenie muzycznej – najpopularniejszy dziecięcy zespół pop\, który zachwyca swoimi przebojami i mądrym\, ponadczasowym przekazem. Ich hit „Góry do góry” zgromadził już ponad 100 milionów wyświetleń na YouTube\, a takie utwory jak „Bohater”\, „Siema” czy „Ukulele” rozbrzmiewają w domach i na szkolnych korytarzach w całym kraju.Podczas tego niezwykłego koncertu na widzów czeka widowisko pełne energii\, skocznych rytmów i niesamowitych dziecięcych głosów. To nie tylko muzyka – to prawdziwa eksplozja radości i pozytywnych emocji\, które sprawią\, że ten dzień będzie wyjątkowy dla całej rodziny!Niech Dzień Dziecka trwa cały rok – do zobaczenia na koncercie w MDK Piekary Śląskie!
URL:https://www.mdk.piekary.pl/wydarzenie/dzien-dziecka-koncert-zespolu-male-tgd/
LOCATION:Piekary Śląskie ul. Bytomska 73
ATTACH;FMTTYPE=image/jpeg:https://www.mdk.piekary.pl/wp-content/uploads/2025/04/PLAKAT-TGD.jpg
ORGANIZER;CN="Miejski Dom Kultury w Piekarach %C5%9Al%C4%85skich":MAILTO:impresariat@mdk.piekary.pl
END:VEVENT
END:VCALENDAR