BEGIN:VCALENDAR
VERSION:2.0
PRODID:-//Miejski Dom Kultury w Piekarach Śląskich - ECPv6.15.17.1//NONSGML v1.0//EN
CALSCALE:GREGORIAN
METHOD:PUBLISH
X-WR-CALNAME:Miejski Dom Kultury w Piekarach Śląskich
X-ORIGINAL-URL:https://www.mdk.piekary.pl
X-WR-CALDESC:Wydarzenia dla Miejski Dom Kultury w Piekarach Śląskich
REFRESH-INTERVAL;VALUE=DURATION:PT1H
X-Robots-Tag:noindex
X-PUBLISHED-TTL:PT1H
BEGIN:VTIMEZONE
TZID:Europe/Warsaw
BEGIN:DAYLIGHT
TZOFFSETFROM:+0100
TZOFFSETTO:+0200
TZNAME:CEST
DTSTART:20240331T010000
END:DAYLIGHT
BEGIN:STANDARD
TZOFFSETFROM:+0200
TZOFFSETTO:+0100
TZNAME:CET
DTSTART:20241027T010000
END:STANDARD
BEGIN:DAYLIGHT
TZOFFSETFROM:+0100
TZOFFSETTO:+0200
TZNAME:CEST
DTSTART:20250330T010000
END:DAYLIGHT
BEGIN:STANDARD
TZOFFSETFROM:+0200
TZOFFSETTO:+0100
TZNAME:CET
DTSTART:20251026T010000
END:STANDARD
BEGIN:DAYLIGHT
TZOFFSETFROM:+0100
TZOFFSETTO:+0200
TZNAME:CEST
DTSTART:20260329T010000
END:DAYLIGHT
BEGIN:STANDARD
TZOFFSETFROM:+0200
TZOFFSETTO:+0100
TZNAME:CET
DTSTART:20261025T010000
END:STANDARD
END:VTIMEZONE
BEGIN:VEVENT
DTSTART;TZID=Europe/Warsaw:20250403T180000
DTEND;TZID=Europe/Warsaw:20250403T190000
DTSTAMP:20260424T133205
CREATED:20250324T130641Z
LAST-MODIFIED:20250324T130641Z
UID:13963-1743703200-1743706800@www.mdk.piekary.pl
SUMMARY:WERNISAŻ SEKCJI PLASTYCZNEJ FLEK
DESCRIPTION:„Świerklaniec w barwach jesieni i zimy” \n\n\n\n\n\n\n\n \n\n\n\n\n\n\n\n„ŚWIERKLANIEC W BARWACH JESIENI I ZIMY”- poplenerowa wystawa obrazów sekcji plastycznej „FLEK” \n\n\n\nOd 4 kwietnia w Sali kameralnej Miejskiego Domu Kultury w Piekarach Śląskich można podziwiać prace plastyczne sekcji plastycznej FLEK”\, które są efektem pleneru malarskiego w okresie jesienno-zimowym. \n\n\n\nPracownia malarska „Fleka” Miejskiego Domu Kultury w Piekarach Śląskich na stałe stała się już miejscem inspirującym artystów do wspólnej pracy\, wymiany doświadczeń tym samym integracji piekarskiego środowiska plastycznego. \n\n\n\nWystawa potrwa do 24 kwietnia 2025r.
URL:https://www.mdk.piekary.pl/wydarzenie/wernisaz-sekcji-plastycznej-flek/
LOCATION:Piekary Śląskie ul. Bytomska 73
ATTACH;FMTTYPE=image/jpeg:https://www.mdk.piekary.pl/wp-content/uploads/2025/03/Wystawa-Flek-plakat.jpg
ORGANIZER;CN="Miejski Dom Kultury w Piekarach %C5%9Al%C4%85skich":MAILTO:impresariat@mdk.piekary.pl
END:VEVENT
BEGIN:VEVENT
DTSTART;TZID=Europe/Warsaw:20250424T190000
DTEND;TZID=Europe/Warsaw:20250424T210000
DTSTAMP:20260424T133205
CREATED:20250110T194731Z
LAST-MODIFIED:20250110T200900Z
UID:13516-1745521200-1745528400@www.mdk.piekary.pl
SUMMARY:Spektakl "KOBIETA NA ZAMÓWIENIE"
DESCRIPTION:Przezabawna komedia\, której nie możesz przegapić! \n\n\n\n\n\n\nKUP BILET\n\n\n\n\n \n\n\n\n\nKUPBILECIK.PL\n\n\n\n\n \n\n\n\n\n\n\n\nBill (Jacek Kawalec)\, nudnawy statystyk w stosownym wieku\, dostaje na urodziny od swojego najlepszego przyjaciela Leona (Dariusz Niebudek) – niecodzienny prezent. Tym prezentem okazuje się być ankieta matrymonialna. Dziesięć cech idealnej kobiety\, o której marzy każdy facet. Hmm.. no może nie każdy\, ale z pewnością większość. Bill początkowo niechętnie przyjmuje zadanie wypełnienia ankiety\, jednak z czasem idea stworzenia kobiety idealnej wciąga go bez reszty. Chwilę później niewinny prezent (Beata Zarembianka) puka do drzwi i … Zapraszamy Państwa na przezabawną komedię\, w której – jak to i w życiu bywa\, nawet najpiękniejsze marzenia gdy tylko zaczną się spełniać\, wywracają nasze poukładane życie do góry nogami! Występują: Beata Zarembianka\, Jacek Kawalec\, Dariusz Niebudek Reżyseria: Marcin Sławiński Tłumaczenie: Mirosław Połatyński Muzyka: Jarek Babula Scenografia i kostiumy: Barbara Guzik Produkcja: AVE Teatr Czas trwania spektaklu: 100 minut bez przerwy Management: Impresariat Artystyczny „Kreatywna Pantera”
URL:https://www.mdk.piekary.pl/wydarzenie/spektakl-kobieta-na-zamowienie/
LOCATION:Piekary Śląskie ul. Bytomska 73
ATTACH;FMTTYPE=image/png:https://www.mdk.piekary.pl/wp-content/uploads/2025/01/Kobieta-Piekary-A3.png
ORGANIZER;CN="Miejski Dom Kultury w Piekarach %C5%9Al%C4%85skich":MAILTO:impresariat@mdk.piekary.pl
END:VEVENT
END:VCALENDAR