BEGIN:VCALENDAR
VERSION:2.0
PRODID:-//Miejski Dom Kultury w Piekarach Śląskich - ECPv6.15.17.1//NONSGML v1.0//EN
CALSCALE:GREGORIAN
METHOD:PUBLISH
X-ORIGINAL-URL:https://www.mdk.piekary.pl
X-WR-CALDESC:Wydarzenia dla Miejski Dom Kultury w Piekarach Śląskich
REFRESH-INTERVAL;VALUE=DURATION:PT1H
X-Robots-Tag:noindex
X-PUBLISHED-TTL:PT1H
BEGIN:VTIMEZONE
TZID:Europe/Warsaw
BEGIN:DAYLIGHT
TZOFFSETFROM:+0100
TZOFFSETTO:+0200
TZNAME:CEST
DTSTART:20240331T010000
END:DAYLIGHT
BEGIN:STANDARD
TZOFFSETFROM:+0200
TZOFFSETTO:+0100
TZNAME:CET
DTSTART:20241027T010000
END:STANDARD
BEGIN:DAYLIGHT
TZOFFSETFROM:+0100
TZOFFSETTO:+0200
TZNAME:CEST
DTSTART:20250330T010000
END:DAYLIGHT
BEGIN:STANDARD
TZOFFSETFROM:+0200
TZOFFSETTO:+0100
TZNAME:CET
DTSTART:20251026T010000
END:STANDARD
BEGIN:DAYLIGHT
TZOFFSETFROM:+0100
TZOFFSETTO:+0200
TZNAME:CEST
DTSTART:20260329T010000
END:DAYLIGHT
BEGIN:STANDARD
TZOFFSETFROM:+0200
TZOFFSETTO:+0100
TZNAME:CET
DTSTART:20261025T010000
END:STANDARD
END:VTIMEZONE
BEGIN:VEVENT
DTSTART;TZID=Europe/Warsaw:20250214T180000
DTEND;TZID=Europe/Warsaw:20250214T193000
DTSTAMP:20260423T142848
CREATED:20250121T103657Z
LAST-MODIFIED:20250127T075004Z
UID:13614-1739556000-1739561400@www.mdk.piekary.pl
SUMMARY:Koncert walentynkowy: PIOTR HERDZINA Z ZESPOŁEM
DESCRIPTION:KUP BILET\n\n\n\n\n \n\n\n\n\nKUP BILECIK\n\n\n\n\n \n\n\n\n\n\n\n\n Walentynkowy Koncert w MDK  \n\n\n\nZ okazji Święta Zakochanych zapraszamy na wyjątkowy koncert\, który rozgrzeje Wasze serca!  \n\n\n\nPiotr Herdzina\, uczestnik The Voice of Poland – artysta zaproszony do udziału w prestiżowym Rawa Blues Festival\, zabierze nas w niezapomnianą podróż przez rock&rollowe przeboje\, pełne energii utwory oraz rozrywkowe hity.  \n\n\n\nA wszystko to w towarzystwie świetnego zespołu i niezapomnianych emocji!
URL:https://www.mdk.piekary.pl/wydarzenie/koncert-walentynkowy-piotr-herdzina-z-zespolem/
LOCATION:Piekary Śląskie ul. Bytomska 73
ATTACH;FMTTYPE=image/jpeg:https://www.mdk.piekary.pl/wp-content/uploads/2025/01/Herdzina-2025-plakat.jpg
ORGANIZER;CN="Miejski Dom Kultury w Piekarach %C5%9Al%C4%85skich":MAILTO:impresariat@mdk.piekary.pl
END:VEVENT
BEGIN:VEVENT
DTSTART;TZID=Europe/Warsaw:20250221T170000
DTEND;TZID=Europe/Warsaw:20250221T190000
DTSTAMP:20260423T142848
CREATED:20250205T094258Z
LAST-MODIFIED:20250205T101652Z
UID:13792-1740157200-1740164400@www.mdk.piekary.pl
SUMMARY:Bal Przebierańców dla dzieci
DESCRIPTION:KUP BILET\n\n\n\n\n \n\n\n\n\n\n\n\nSzalone pląsy\, kolorowe przebrania\, świetna zabawa i słodki poczęstunek– tak zapowiada się Bal przebierańców\, na który zapraszamy wszystkie dzieci do Filii Miejskiego Domu Kulturyw Piekarach Śląskich. \n\n\n\nBal prowadzony przez profesjonalnych animatorów odbędzie się 21 lutego w godz. 17.00 – 19.00 w Filii MDK w Kozłowej Górze przy ul. Tarnogórska 49. \n\n\n\nW cenie biletu: \n\n\n\n\nudział w balu\n\n\n\nsłodki poczęstunek\n\n\n\nwstęp dla opiekuna
URL:https://www.mdk.piekary.pl/wydarzenie/bal-przebierancow-dla-dzieci-3/
LOCATION:Piekary Śląskie ul. Tarnogórska 49
ATTACH;FMTTYPE=image/jpeg:https://www.mdk.piekary.pl/wp-content/uploads/2025/02/Bal-przebierancow-2025-plakat.jpg
END:VEVENT
BEGIN:VEVENT
DTSTART;TZID=Europe/Warsaw:20250228T190000
DTEND;TZID=Europe/Warsaw:20250228T203000
DTSTAMP:20260423T142848
CREATED:20250122T075853Z
LAST-MODIFIED:20250122T075854Z
UID:13634-1740769200-1740774600@www.mdk.piekary.pl
SUMMARY:MICHAŁ PASZCZYK STAND-UP
DESCRIPTION:ŻONA\, RODZINA I INNE PATOLOGIE \n\n\n\n\n\n\n\n\nKUP BILET\n\n\n\n\n \n\n\n\n\n\n\n\n \n\n\n\nMichał Paszczyk vel Romek Rybak\, vel Dziadek Stanisław\, vel Zbigniew Teścik – znany z występów w Kabarecie Paranienormalni – rusza ze swoim debiutanckim programem w podróż po grząskim standupowym szlaku. \n\n\n\nDlaczego z żoną się nigdy nie wygra\, do czego służą kwiaty i jak dzieci potrafią zniszczyć życie – tego dowiecie się z programu „Żona\, rodzina i inne patologie”. \n\n\n\nW tej przygodzie Michałowi towarzyszy Szymon Łątkowski.90 minut śmiechu i przyjemnego dla męskich widzów poczucia\, że ktoś ma gorzej od nich.
URL:https://www.mdk.piekary.pl/wydarzenie/michal-paszczyk-stand-up-2/
LOCATION:Piekary Śląskie ul. Bytomska 73
ATTACH;FMTTYPE=image/jpeg:https://www.mdk.piekary.pl/wp-content/uploads/2025/01/Paszczyk-28.02.2025.jpg
ORGANIZER;CN="Miejski Dom Kultury w Piekarach %C5%9Al%C4%85skich":MAILTO:impresariat@mdk.piekary.pl
END:VEVENT
END:VCALENDAR