BEGIN:VCALENDAR
VERSION:2.0
PRODID:-//Miejski Dom Kultury w Piekarach Śląskich - ECPv6.15.17.1//NONSGML v1.0//EN
CALSCALE:GREGORIAN
METHOD:PUBLISH
X-ORIGINAL-URL:https://www.mdk.piekary.pl
X-WR-CALDESC:Wydarzenia dla Miejski Dom Kultury w Piekarach Śląskich
REFRESH-INTERVAL;VALUE=DURATION:PT1H
X-Robots-Tag:noindex
X-PUBLISHED-TTL:PT1H
BEGIN:VTIMEZONE
TZID:Europe/Warsaw
BEGIN:DAYLIGHT
TZOFFSETFROM:+0100
TZOFFSETTO:+0200
TZNAME:CEST
DTSTART:20240331T010000
END:DAYLIGHT
BEGIN:STANDARD
TZOFFSETFROM:+0200
TZOFFSETTO:+0100
TZNAME:CET
DTSTART:20241027T010000
END:STANDARD
BEGIN:DAYLIGHT
TZOFFSETFROM:+0100
TZOFFSETTO:+0200
TZNAME:CEST
DTSTART:20250330T010000
END:DAYLIGHT
BEGIN:STANDARD
TZOFFSETFROM:+0200
TZOFFSETTO:+0100
TZNAME:CET
DTSTART:20251026T010000
END:STANDARD
BEGIN:DAYLIGHT
TZOFFSETFROM:+0100
TZOFFSETTO:+0200
TZNAME:CEST
DTSTART:20260329T010000
END:DAYLIGHT
BEGIN:STANDARD
TZOFFSETFROM:+0200
TZOFFSETTO:+0100
TZNAME:CET
DTSTART:20261025T010000
END:STANDARD
END:VTIMEZONE
BEGIN:VEVENT
DTSTART;TZID=Europe/Warsaw:20250104T163000
DTEND;TZID=Europe/Warsaw:20250104T163000
DTSTAMP:20260425T022955
CREATED:20240228T145121Z
LAST-MODIFIED:20240228T145353Z
UID:10443-1736008200-1736008200@www.mdk.piekary.pl
SUMMARY:PAWEŁ GOŁECKI
DESCRIPTION:ŚWIĄTECZNE MELODIE W DUSZY ROZRYWKI \n\n\n\n\n\n\n\n\nKUP BILET\n\n\n\n\n \n\n\n\n\n\n\n\nKoncert Paweł Gołecki – Świąteczne melodie w duszy rozrywki – tak tak  myślimy już o kolejnym roku  \n\n\n\nZapraszamy na niezapomniany koncert „Paweł Gołecki – Świąteczne melodie w duszy rozrywki”. Doświadczymy wspaniałej atmosfery\, pełnej świątecznych dźwięków. Nie zabraknie także góralskiej nuty\, którą tak bardzo kocha nasza publiczność. \n\n\n\nUsłyszymy muzyczne połączenie świątecznej magii i rozrywki\, a to wszystko w wykonaniu Pawła Gołeckiego z zespołem.
URL:https://www.mdk.piekary.pl/wydarzenie/pawel-golecki/
LOCATION:Piekary Śląskie ul. Bytomska 73
ATTACH;FMTTYPE=image/jpeg:https://www.mdk.piekary.pl/wp-content/uploads/2024/02/KOLĘDY-GOLECKI-plakat.jpg
ORGANIZER;CN="Miejski Dom Kultury w Piekarach %C5%9Al%C4%85skich":MAILTO:impresariat@mdk.piekary.pl
END:VEVENT
BEGIN:VEVENT
DTSTART;TZID=Europe/Warsaw:20250118T180000
DTEND;TZID=Europe/Warsaw:20250118T200000
DTSTAMP:20260425T022955
CREATED:20240905T074053Z
LAST-MODIFIED:20241003T122607Z
UID:12244-1737223200-1737230400@www.mdk.piekary.pl
SUMMARY:STAND-UP: KOWALSKI\, REJENT\, ZALEWSKI
DESCRIPTION:STAND-UP – TRASA POWIATOWA \n\n\n\n\n\n\n\n\nKUP BILET\n\n\n\n\n \n\n\n\n\n\n\n\nZapraszamy do Piekar Śląskich na komedię na żywo w najlepszym wydaniu. Trójka stand-uperów zaprezentuje swoje najlepsze żarty ze swoich najnowszych materiałów solowych. Stand-up w potrójnym wykonaniu\, to gwarancja* dobrej zabawy. Gwarancja Trasy Powiatowej. \n\n\n\nCzym jest Trasa Powiatowa?Polska to dziwna bestia. Jej stolica zasłania czasem całą resztę\, a przecież to właśnie tam płynie krew tego kraju. Czasami dosłownie\, ale to inna sprawa. Wychodząc z inicjatywą spotkania Łukasz Kowalski\, Sebastian Rejent i Bartosz Zalewski zmontowali trasę\, w której odwiedzą ośrodki czasami omijane przez wykonawców stand-upowych. Przywiozą ze sobą the best swoich najnowszych programów\, żarty specjalistyczne i ogólne oraz coś z Avonu (jeśli trzeba). \n\n\n\nJeżeli to twoje pierwsze spotkanie ze stand-upem\, poniżej krótkie przedstawienie wykonawców.Jeżeli już coś kumasz to na co czekasz? Bilety znikają jak marzenia lat 90. XX wieku. \n\n\n\nSebastian REJENT – Jeden z najdłużej występujących komików w kraju\, specjalista od zadań szczególnych\, który w wielkim stylu wrócił do klasyki gatunku\, czyli nicowania rzeczywistości swoją głową. Powiedzieć\, że to głowa nietęga\, to mało. Można też inne epitety znaleźć\, ale po co? Należy przyjść\, bo ten człowiek nie zna granic. Zwłaszcza tych wojewódzkich. \n\n\n\nŁukasz KOWALSKI – Pochodzący z warszawskiego obwarzanka okruch słońca w naszych życiach\, życie swoje przedstawiający tak\, by przestawić choć kilka mebli w umysłach słuchaczy\, słuchem komediowym obdarzony doskonałym. Wszystko to\, przekłada się na występy\, które grzeją jeszcze długo potem jak łyk dobrego napoju zażywanego w celach leczniczych. \n\n\n\nBartosz ZALEWSKI – Jaszczurowaty z natury\, zarówno pod względem nagłości spazmów umysłowo-ruchowych jak i za sprawą mieniącej się łuski. Na szczęście na diecie z miłych listków\, więc nie gryzie. Za to na kiju w naszym terrarium wycina hołubce aż miło popatrzyć\, niektórzy nawet słuchają. Chwała im\, bo on sam nie słucha\, oj nie. \n\n\n\nWięc teraz już wiecie\, ogarniajcie bilety\, bo dużo ich nie będzie. \n\n\n\n*Nie jest to gwarancja w znaczeniu prawnym\, po prostu mocne przekonanie. 
URL:https://www.mdk.piekary.pl/wydarzenie/kowalski-rejent-zalewski/
LOCATION:Piekary Śląskie ul. Bytomska 73
ATTACH;FMTTYPE=image/jpeg:https://www.mdk.piekary.pl/wp-content/uploads/2024/09/Trasa-powiatowa.jpg
ORGANIZER;CN="Miejski Dom Kultury w Piekarach %C5%9Al%C4%85skich":MAILTO:impresariat@mdk.piekary.pl
END:VEVENT
BEGIN:VEVENT
DTSTART;TZID=Europe/Warsaw:20250118T180000
DTEND;TZID=Europe/Warsaw:20250118T193000
DTSTAMP:20260425T022955
CREATED:20241223T085916Z
LAST-MODIFIED:20241223T085917Z
UID:13363-1737223200-1737228600@www.mdk.piekary.pl
SUMMARY:MICHAŁ PASZCZYK STAND UP
DESCRIPTION:Z programem: „Żona\, rodzina i inne patologie” \n\n\n\n \n\n\n\n\n\n\n\n\nKUP BILET\n\n\n\n\n\n\n\n\nMichał Paszczyk vel Romek Rybak\, vel Dziadek Stanisław\, vel Zbigniew Teścik – znany z występów w Kabarecie Paranienormalni – rusza ze swoim debiutanckim programem w podróż po grząskim standupowym szlaku.Bilety na stand-up Michała Paszczyka już dostępne. \n\n\n\nDlaczego z żoną się nigdy nie wygra\, do czego służą kwiaty i jak dzieci potrafią zniszczyć życie – tego dowiecie się z programu „Żona\, rodzina i inne patologie „. \n\n\n\nW tej standupowej przygodzie Michałowi towarzyszy Szymon Łątkowski. 90 minut śmiechu i przyjemnego dla męskich widzów poczucia \, że ktoś ma gorzej od nich.
URL:https://www.mdk.piekary.pl/wydarzenie/michal-paszczyk-stand-up/
LOCATION:Piekary Śląskie ul. Tarnogórska 49
ATTACH;FMTTYPE=image/jpeg:https://www.mdk.piekary.pl/wp-content/uploads/2024/12/7a1c0a65-bc21-4eb2-93ba-c4bcfa55f204.jpeg
ORGANIZER;CN="Miejski Dom Kultury w Piekarach %C5%9Al%C4%85skich":MAILTO:impresariat@mdk.piekary.pl
END:VEVENT
BEGIN:VEVENT
DTSTART;TZID=Europe/Warsaw:20250124T180000
DTEND;TZID=Europe/Warsaw:20250124T193000
DTSTAMP:20260425T022955
CREATED:20241223T084331Z
LAST-MODIFIED:20241223T110045Z
UID:13357-1737741600-1737747000@www.mdk.piekary.pl
SUMMARY:KONCERT Z OKAZJI DNIA BABCI I DZIADKA "GDY NAM ŚPIEWAŁ ZBIGNIEW WODECKI"
DESCRIPTION:KUP BILET\n\n\n\n\n\nkup bilecik \n\n\n\n\n \n\n\n\n\n\n\n\nPodaruj prezent babci i Dziadkowi z okazji ich święta!Zacznij od Bacha – Tribute to Zbigniew Wodecki to projekt muzyczny poświęcony pamięci Zbigniewa Wodeckiego – muzycznego geniusza\, który pozostawił po sobie niezapomniane dzieła. Zespół tworzą niesamowici muzycy\, którzy zafascynowani brzmieniami muzyki Mistrza postanowili odważyć się i przez swoją pracę\, pasję\, jak i talent złożyć hołd jednemuz największych artystów sceny Polskiej. \n\n\n\nKoncert to wędrówka po twórczości Zbigniewa Wodeckiego. Począwszy od roku ’76\, przez ’86\, ’95 aż do 2018. Dzięki temu usłyszeć można te najbardziej rozpoznawalne utwory\,jak i te mniej znane perełki polskiej muzyki\, które każdy powinien znać. \n\n\n\nUtwory wykonywane są w oryginalnych tonacjach co zachowuje ich charakter i oddaje ducha „tamtych lat”. Zespół to 5 osób grających ZAWSZE NA ŻYWO! Koncert jest przeplatany anegdotkami i historiami z życia Zbigniewa Wodeckiego. Charyzma artystów sprawia\, że jest to uczta nie tylko ale ucha\, ale i oczu.
URL:https://www.mdk.piekary.pl/wydarzenie/koncert-z-okazji-dnia-babci-i-dziadka-gdy-nam-spiewal-zbigniew-wodecki/
LOCATION:Piekary Śląskie ul. Bytomska 73
ATTACH;FMTTYPE=image/png:https://www.mdk.piekary.pl/wp-content/uploads/2024/12/plakat-WIOSNA-wodecki-bach-1.png
ORGANIZER;CN="Miejski Dom Kultury w Piekarach %C5%9Al%C4%85skich":MAILTO:impresariat@mdk.piekary.pl
END:VEVENT
BEGIN:VEVENT
DTSTART;TZID=Europe/Warsaw:20250126T000000
DTEND;TZID=Europe/Warsaw:20250126T235959
DTSTAMP:20260425T022955
CREATED:20250121T084859Z
LAST-MODIFIED:20250121T110322Z
UID:13606-1737849600-1737935999@www.mdk.piekary.pl
SUMMARY:KONCERT NOWOROCZNY
DESCRIPTION:Orkiestra Wojskowa z Bytomia \n\n\n\nKasia Moś \n\n\n\nDaniel Cebula – Orynicz \n\n\n\n\n\n\n\n\n\n \n\n\n\nSława Umińska-Kajdan – Prezydent Piekar Śląskich oraz Tomasz Wesołowski – Przewodniczący Rady Miasta serdecznie zapraszają wszystkich mieszkańców Piekar Śląskich na koncert noworoczny z repertuaru Agnieszki Osieckiej w wykonaniu Kasia Moś i Daniela Cebuli-Orynicza oraz Orkiestry Wojskowej w Bytomiu\, który odbędzie się 26 stycznia 2025 roku o godzinie 16.00 oraz 18.00 w Miejskim Domu Kultury w Piekarach Śląskich przy ul. Bytomskiej.
URL:https://www.mdk.piekary.pl/wydarzenie/koncert-noworoczny/
LOCATION:Piekary Śląskie ul. Bytomska 73
ATTACH;FMTTYPE=image/jpeg:https://www.mdk.piekary.pl/wp-content/uploads/2025/01/koncert-noworoczny-25-plakat-scaled.jpg
ORGANIZER;CN="Miejski Dom Kultury w Piekarach %C5%9Al%C4%85skich":MAILTO:impresariat@mdk.piekary.pl
END:VEVENT
BEGIN:VEVENT
DTSTART;TZID=Europe/Warsaw:20250131T190000
DTEND;TZID=Europe/Warsaw:20250131T203000
DTSTAMP:20260425T022955
CREATED:20241223T085020Z
LAST-MODIFIED:20241223T112010Z
UID:13360-1738350000-1738355400@www.mdk.piekary.pl
SUMMARY:KONCERT ŚWIATECZNO-NOWOROCZNY W WYKONANIU ANTONIEGO ZIMNALA ORAZ BIG MAGNETIC BAND
DESCRIPTION:KUP BILET\n\n\n\n\n \n\n\n\n\n\n\n\nZapraszamy na wieczór\, który otuli Was ciepłem muzyki\, doda blasku kończącym się świętom i rozpali Wasze serca na nowy początek.W magicznej atmosferze i pięknej scenerii\, na jednej scenie spotkają się dwie muzyczne potęgi – Antoni Zimnal\, pełen klasy gentleman i finalista 14. edycji The Voice of Poland\, który oczaruje Was swoim głosem – ciepłym\, pełnym emocji i niezwykłej elegancji oraz Big Magnetic Band – pełen energii i profesjonalizmu\, składający się z  14 utalentowanych muzyków\, którzy imponują nie tylko świetnym warsztatem\, ale także wyjątkową harmoniąi precyzją wykonania. \n\n\n\nPodczas koncertu usłyszymy najbardziej znane świąteczne klasyki\, takie jak: \n\n\n\n\nWhite Christmas\,\n\n\n\nAll I Want for Christmas Is You\,\n\n\n\nLet It Snow!\,\n\n\n\nSanta Claus Is Coming to Town\,\n\n\n\n\n…i wiele innych\, również w polskiej wersji językowej! W programie znajdą się także utwory pełne noworocznej energii\, które pozwolą Wam z optymizmem wkroczyć w rozpoczynający się rok. \n\n\n\nScena\, światła\, brzmienie i niezwykli artyści – wszystko to stworzy niezapomniany spektakl\, który trzeba zobaczyć na żywo.
URL:https://www.mdk.piekary.pl/wydarzenie/koncert-swiateczno-noworoczny-w-wykonaniu-antoniego-zimnala-oraz-big-magnetic-band/
LOCATION:Piekary Śląskie ul. Bytomska 73
ATTACH;FMTTYPE=image/jpeg:https://www.mdk.piekary.pl/wp-content/uploads/2024/12/31-stycznia-2025.jpg
ORGANIZER;CN="Miejski Dom Kultury w Piekarach %C5%9Al%C4%85skich":MAILTO:impresariat@mdk.piekary.pl
END:VEVENT
END:VCALENDAR