BEGIN:VCALENDAR
VERSION:2.0
PRODID:-//Miejski Dom Kultury w Piekarach Śląskich - ECPv6.15.17.1//NONSGML v1.0//EN
CALSCALE:GREGORIAN
METHOD:PUBLISH
X-WR-CALNAME:Miejski Dom Kultury w Piekarach Śląskich
X-ORIGINAL-URL:https://www.mdk.piekary.pl
X-WR-CALDESC:Wydarzenia dla Miejski Dom Kultury w Piekarach Śląskich
REFRESH-INTERVAL;VALUE=DURATION:PT1H
X-Robots-Tag:noindex
X-PUBLISHED-TTL:PT1H
BEGIN:VTIMEZONE
TZID:Europe/Warsaw
BEGIN:DAYLIGHT
TZOFFSETFROM:+0100
TZOFFSETTO:+0200
TZNAME:CEST
DTSTART:20230326T010000
END:DAYLIGHT
BEGIN:STANDARD
TZOFFSETFROM:+0200
TZOFFSETTO:+0100
TZNAME:CET
DTSTART:20231029T010000
END:STANDARD
BEGIN:DAYLIGHT
TZOFFSETFROM:+0100
TZOFFSETTO:+0200
TZNAME:CEST
DTSTART:20240331T010000
END:DAYLIGHT
BEGIN:STANDARD
TZOFFSETFROM:+0200
TZOFFSETTO:+0100
TZNAME:CET
DTSTART:20241027T010000
END:STANDARD
BEGIN:DAYLIGHT
TZOFFSETFROM:+0100
TZOFFSETTO:+0200
TZNAME:CEST
DTSTART:20250330T010000
END:DAYLIGHT
BEGIN:STANDARD
TZOFFSETFROM:+0200
TZOFFSETTO:+0100
TZNAME:CET
DTSTART:20251026T010000
END:STANDARD
END:VTIMEZONE
BEGIN:VEVENT
DTSTART;TZID=Europe/Warsaw:20241206T000000
DTEND;TZID=Europe/Warsaw:20241207T235959
DTSTAMP:20260425T035241
CREATED:20241114T145411Z
LAST-MODIFIED:20241115T135616Z
UID:12973-1733443200-1733615999@www.mdk.piekary.pl
SUMMARY:JARMARK ŚWIĄTECZNY ORAZ SPOTKANIE ZE ŚW. MIKOŁAJEM
DESCRIPTION:Godziny Jarmarku:6 grudnia 14:00 – 18:007 grudnia 12.00 – 16.00 \n\n\n\nMiejski Dom Kultury oraz Urząd Miasta w Piekarach Śląskich zapraszają na Jarmark Świąteczny na Plac przed Miejskim Domem Kultury w Piekarach Śląskich przy ul. Bytomskiej 73.  \n\n\n\nZapraszamy wszystkie dzieci na spotkanie ze św. Mikołajem\, które odbędzie się 6 grudnia w godzinach od 14.00 do 18.00. Rodzice będą mogli przekazać Mikołajowi prezenty\, które wręczy dzieciom. \n\n\n\n6 i 7 grudnia czekają na dzieci zabawy i animacje zorganizowane wspólnie z grupą Fluo. Zapraszamy do wspólnego śpiewania kolęd i piosenek świątecznych.  \n\n\n\nW świątecznej scenerii będziecie mogli zrobić sobie rodzinne zdjęcie z Mikołajem. Zaprosimy również na Jarmark z rękodziełem i świątecznymi potrawami. \n\n\n\nNa kilka dni przed wydarzeniem przed MDK ustawiona zostanie świąteczna skrzynka na listy\, dzieci wraz z opiekunami będą mogły wrzucać do niej listy do świętego Mikołaja. \n\n\n\nWstęp na wydarzenie jest bezpłatny. \n\n\n\nJeżeli jesteś zainteresowany postawieniem swojego stoiska na naszym Jarmarku zapraszamy do zapoznania się z regulaminem\, który jest dostępny tutaj.
URL:https://www.mdk.piekary.pl/wydarzenie/jarmark-swiateczny-oraz-spotkanie-ze-sw-mikolajem/
LOCATION:Piekary Śląskie ul. Bytomska 73
ATTACH;FMTTYPE=image/jpeg:https://www.mdk.piekary.pl/wp-content/uploads/2024/11/JARMARK-plakat.jpg
ORGANIZER;CN="Miejski Dom Kultury w Piekarach %C5%9Al%C4%85skich":MAILTO:impresariat@mdk.piekary.pl
END:VEVENT
BEGIN:VEVENT
DTSTART;TZID=Europe/Warsaw:20241208T190000
DTEND;TZID=Europe/Warsaw:20241208T210000
DTSTAMP:20260425T035241
CREATED:20240201T115111Z
LAST-MODIFIED:20241125T120427Z
UID:10070-1733684400-1733691600@www.mdk.piekary.pl
SUMMARY:Kabaret Czesuaf                                       BEZ PRZESADY!
DESCRIPTION:Z powodów rodzinnych jednego z artystów zaplanowany występ Kabaretu Czesuaf w Piekarach Śląskich nie mógł się odbyć w planowanym terminie 12.10.2024r. Występ ten zostaje przeniesiony na termin 08.12.2024r. godz. 19:00. \n\n\n\nWszystkie bilety zachowują swoją ważność i obowiązują w nowym terminie. \n\n\n\n\n\n\nKUP BILET\n\n\n\n\n \n\n\n\n\nKUPBILECIK\n\n\n\n\n \n\n\n\n\n\n\n\nKABARET CZESUAF rusza w Polskę. Poprzedni program „Skandal!” obejrzały tysiące widzów\, mamy nadzieję\, że nowe skecze znajdą jeszcze większe rzesze odbiorców. Może nawet miliony? Bez przesady! Właśnie taki tytuł nosi nowy program Czesuafów. „Bez przesady!” to próba zmierzenia się z tym\, co widzimy dookoła siebie. Dlaczego wszystko wyolbrzymiamy? Polscy piłkarze przegrają mecz – „klęska”\, „tragedia”. Iga Świątek wygra – „miazga”\, „pogrom”. A powiedzmy sobie szczerze\, najczęściej w Polsce jest po prostu średnio. Za to na pewno średni nie jest nowy program kabaretu Czesuaf\, bowiem Olga\, Tomek i Maciek dają z siebie na scenie wszystko\, a nawet jeszcze więcej.  \n\n\n\nRecenzje widzów nie kłamią – program kabaretu Czesuaf to dwie godziny zabawy na najwyższym poziomie! To będzie naprawdę niezapomniany wieczór… Chyba że zagramy po południu\, to wtedy niezapomniane popołudnie. I mówimy to bez przesady! \n\n\n\nUwaga program\, może zawierać wulgaryzmy! \n\n\n\nObsada: Olga Łasak\, Tomek Nowaczyk\, Maciek Morze
URL:https://www.mdk.piekary.pl/wydarzenie/kabaret-czesuaf-bez-przesady/
LOCATION:Piekary Śląskie ul. Bytomska 73
ATTACH;FMTTYPE=image/png:https://www.mdk.piekary.pl/wp-content/uploads/2024/02/PIEKARY-SLASKIE-pion.png
ORGANIZER;CN="Miejski Dom Kultury w Piekarach %C5%9Al%C4%85skich":MAILTO:impresariat@mdk.piekary.pl
END:VEVENT
BEGIN:VEVENT
DTSTART;TZID=Europe/Warsaw:20241231T203000
DTEND;TZID=Europe/Warsaw:20241231T203000
DTSTAMP:20260425T035241
CREATED:20241024T113506Z
LAST-MODIFIED:20241223T082600Z
UID:12772-1735677000-1735677000@www.mdk.piekary.pl
SUMMARY:GALA SYLWESTROWO-OPERETKOWA    "Od Wiednia do San Remo"
DESCRIPTION:KUP BILET\n\n\n\n\n\n\n\n\nZapraszamy na wyjątkowe muzyczne powitanie Nowego Roku Galą Sylwestrowo – Operetkową – „Od Wiednia do San Remo”. Będzie to spotkanie z piękną muzyką i wyjątkowymi artystami:Agnieszką Wawrzyniak\, Emilią Zielińską oraz tenorami Il Mondo w składzie: Roman Chava\, Ighor Radvansky\, Andrij Stetsky – to właśnie oni tego wieczoru zaprezentują niesamowity kunszt muzyczny.Oprócz pięknych kreacji\, scenicznego wdzięku soliści dysponują niesłychaną łatwościąw nawiązaniu kontaktu z publicznością. \n\n\n\nW czasie przerwy publiczność zaprosimy na poczęstunek\, a o północy Nowy Rok powitamy toastem. \n\n\n\nTo niepowtarzalna okazja\, by doświadczyć potężnych\, emocjonalnych interpretacji utworów w wykonaniu artystów\, których talent zdobył uznanie zarówno w Polsce\, jak i za granicą. Ich niezwykłe umiejętności wokalne sprawią\, że koncert ten stanie się niezapomnianym wydarzeniem muzycznym.
URL:https://www.mdk.piekary.pl/wydarzenie/gala-sylwestrowo-operetkowa-od-wiednia-do-san-remo/
ATTACH;FMTTYPE=image/jpeg:https://www.mdk.piekary.pl/wp-content/uploads/2024/10/470188864_971686771657010_5625638867884679687_n.jpg
END:VEVENT
END:VCALENDAR