BEGIN:VCALENDAR
VERSION:2.0
PRODID:-//Miejski Dom Kultury w Piekarach Śląskich - ECPv6.15.17.1//NONSGML v1.0//EN
CALSCALE:GREGORIAN
METHOD:PUBLISH
X-ORIGINAL-URL:https://www.mdk.piekary.pl
X-WR-CALDESC:Wydarzenia dla Miejski Dom Kultury w Piekarach Śląskich
REFRESH-INTERVAL;VALUE=DURATION:PT1H
X-Robots-Tag:noindex
X-PUBLISHED-TTL:PT1H
BEGIN:VTIMEZONE
TZID:Europe/Warsaw
BEGIN:DAYLIGHT
TZOFFSETFROM:+0100
TZOFFSETTO:+0200
TZNAME:CEST
DTSTART:20230326T010000
END:DAYLIGHT
BEGIN:STANDARD
TZOFFSETFROM:+0200
TZOFFSETTO:+0100
TZNAME:CET
DTSTART:20231029T010000
END:STANDARD
BEGIN:DAYLIGHT
TZOFFSETFROM:+0100
TZOFFSETTO:+0200
TZNAME:CEST
DTSTART:20240331T010000
END:DAYLIGHT
BEGIN:STANDARD
TZOFFSETFROM:+0200
TZOFFSETTO:+0100
TZNAME:CET
DTSTART:20241027T010000
END:STANDARD
BEGIN:DAYLIGHT
TZOFFSETFROM:+0100
TZOFFSETTO:+0200
TZNAME:CEST
DTSTART:20250330T010000
END:DAYLIGHT
BEGIN:STANDARD
TZOFFSETFROM:+0200
TZOFFSETTO:+0100
TZNAME:CET
DTSTART:20251026T010000
END:STANDARD
END:VTIMEZONE
BEGIN:VEVENT
DTSTART;TZID=Europe/Warsaw:20241111T153000
DTEND;TZID=Europe/Warsaw:20241111T190000
DTSTAMP:20260425T051425
CREATED:20241104T131553Z
LAST-MODIFIED:20241104T131555Z
UID:12847-1731339000-1731351600@www.mdk.piekary.pl
SUMMARY:Obchody Święta Niepodległości              w Piekarach Śląskich
DESCRIPTION:Prezydent Miasta Piekary Śląskie oraz Przewodniczący Rady Miasta Piekary Śląskie zapraszają mieszkańców na Święto Niepodległości 11 Listopada 2024 r. Obchody rozpoczną się pod Pomnikiem “Ku czci poległych o wolność i demokrację w latach II Wojny Światowej” w Parku Trzech Bohaterów\, następnie odbędzie się Msza Święta oraz uroczystości oficjalne. Na zakończenie święta\, w Miejskim Domu Kultury wystąpi zespół Big Magnetic Band. \n\n\n\nProgram obchodów Święta Niepodległości: \n\n\n\n11 listopada 2023 \n\n\n\n15.30 – Złożenie kwiatów pod Pomnikiem „Ku czci poległych o wolność i demokrację w latach II Wojny Światowej” w Parku Trzech Bohaterów w Brzozowicach-Kamieniu. \n\n\n\n16.00 – Uroczysta Msza Święta w Kościele pw. Trójcy Przenajświętszej w Szarleju koncelebrowana w intencji Ojczyzny i mieszkańców Piekar Śląskich wraz z asystą wojskową 34. Śląskiego Dywizjonu Rakietowego Obrony Powietrznej w Bytomiu i oprawą muzyczną w wykonaniu Orkiestry Wojskowej z Bytomia i Śląskiego Chóru Górniczego „Polonia Harmonia”. \n\n\n\n17.00 – Przemarsz pod Pomnik „Ku czci poległych w walkach o społeczne i narodowe wyzwolenie” w Parku Wolności w Szarleju z udziałem mażoretek „Azaria”. \n\n\n\n17.15 – Uroczystości oficjalne z odczytaniem apelu i salwą honorową. \n\n\n\n18.30 – Koncert w wykonaniu zespołu Big Magnetic Band (wystąpią soliści: Katarzyna Wyderka\, Antoni Zimnal – zdobywca II miejsca w The Voice of Poland oraz Marcin Roszak) w Miejskim Domu Kultury przy ul. Bytomskiej 73. Bezpłatne wejściówki na koncert można odebrać od 4 listopada br. w Miejskim Domu Kultury przy ul. Bytomskiej 73.
URL:https://www.mdk.piekary.pl/wydarzenie/obchody-swieta-niepodleglosci-w-piekarach-slaskich/
ATTACH;FMTTYPE=image/jpeg:https://www.mdk.piekary.pl/wp-content/uploads/2024/11/11-listopada-2024-jpg-scaled.jpg
END:VEVENT
BEGIN:VEVENT
DTSTART;TZID=Europe/Warsaw:20241120T183000
DTEND;TZID=Europe/Warsaw:20241120T203000
DTSTAMP:20260425T051425
CREATED:20241113T112801Z
LAST-MODIFIED:20241113T123354Z
UID:12967-1732127400-1732134600@www.mdk.piekary.pl
SUMMARY:MATEUSZ SOCHA STAND-UP
DESCRIPTION:PRZEDSTAWIA wieczór open mic \n\n\n\n\n\n\n\n\nKUP BILECIK\n\n\n\n\n \n\n\n\n\n\n\n\nZapraszamy na wieczór open mic\, gdzie zobaczycie starych wyjadaczy oraz świeżą krew polskiego stand-upu\, a całość poprowadzi Mateusz Socha!Zainteresowanych open mic prosimy o kontakt: manager@mateuszsocha.com
URL:https://www.mdk.piekary.pl/wydarzenie/mateusz-socha-stand-up/
LOCATION:Piekary Śląskie ul. Bytomska 73
ATTACH;FMTTYPE=image/jpeg:https://www.mdk.piekary.pl/wp-content/uploads/2024/11/Socha-plakat.jpg
ORGANIZER;CN="Miejski Dom Kultury w Piekarach %C5%9Al%C4%85skich":MAILTO:impresariat@mdk.piekary.pl
END:VEVENT
BEGIN:VEVENT
DTSTART;TZID=Europe/Warsaw:20241122T190000
DTEND;TZID=Europe/Warsaw:20241122T210000
DTSTAMP:20260425T051425
CREATED:20240905T083314Z
LAST-MODIFIED:20241106T131929Z
UID:12252-1732302000-1732309200@www.mdk.piekary.pl
SUMMARY:ROBERT KORÓLCZYK
DESCRIPTION:„BO CO LUDZIE POWIEDZĄ?” \n\n\n\n\n\n \n\n\n\n\n\n\n\nRobert KorólczykW premierowym programieBO CO LUDZIE POWIEDZĄ? \n\n\n\nProgram porusza odwieczny problem\, który dotyczy nas wszystkich. No bo czy każdy z nas nie zastanawiał się choć raz w życiu: A co ludzie powiedzą??To powiedzenie towarzyszy nam od dzieciństwa – najpierw wpajane jest nam przez rodziców\, potem przypominane w szkole\, aż wreszcie relacje małżeńskie i koleżeńskie pokazują\, że jak bardzo interesują nas opinie obcych ludzi m. Zawsze z tyłu głowy siedzi jakiś sąsiad albo kolega\, który patrzy i ocenia.Będzie to połączenie dwóch form. Mój klasyczny stand-up z kabaretowym ‘One Man Show’\, gdzie będzie można zobaczyć występy znanych Wam postaci Józka Gąsienicy oraz Andrzeja Porwoła. Zapraszam na „Bo co ludzie powiedzą?”
URL:https://www.mdk.piekary.pl/wydarzenie/robert-korolczyk/
LOCATION:Piekary Śląskie ul. Bytomska 73
ATTACH;FMTTYPE=image/jpeg:https://www.mdk.piekary.pl/wp-content/uploads/2024/09/Robert-Krolczyk.jpg
ORGANIZER;CN="Miejski Dom Kultury w Piekarach %C5%9Al%C4%85skich":MAILTO:impresariat@mdk.piekary.pl
END:VEVENT
BEGIN:VEVENT
DTSTART;TZID=Europe/Warsaw:20241129T180000
DTEND;TZID=Europe/Warsaw:20241129T200000
DTSTAMP:20260425T051425
CREATED:20240905T085515Z
LAST-MODIFIED:20240909T091624Z
UID:12265-1732903200-1732910400@www.mdk.piekary.pl
SUMMARY:"SEKS DLA OPORNYCH"
DESCRIPTION:SPEKTAKL KOMEDIOWY \n\n\n\n\n\n\n\n\nKUP BILET\n\n\n\n\n \n\n\n\n\nKUPBILECIK.PL\n\n\n\n\n \n\n\n\n\n\n\n\n \n\n\n\nAlice i Henry\, małżeństwo z 25 letnim stażem\, spędzają weekend w najmodniejszym hotelu w mieście\, aby tam przy pomocy poradnika „Seks dla opornych” ożywić swoje życie intymne i odnaleźć dawną namiętność. Czy terapia przyniesie oczekiwane rezultaty i pokona rutynę w ich małżeństwie\, czy raczej spowoduje jeszcze większy żal i rozczarowanie\, a może pozwoli docenić to co w związku dwojga ludzi najważniejsze – bliskość\, zaufanie i poczucie bezpieczeństwa? \n\n\n\n„Seks dla opornych” to wyśmienita komedia\, pełna trafnych spostrzeżeń o kobiecych i męskich pragnieniach\, wyobrażeniach i punktach widzenia\, które rozmijają się pokazując dobitnie\, że kobiety są z Wenus\, a mężczyźni z Marsa. Warto zobaczyć tę mądrą\, obfitującą w błyskotliwe dialogi sztukę o życiu\, przemijaniu i miłości\, która bawi i wzrusza do łez. „Seks dla opornych”\, to świetny wybór dla widzów szukających w teatrze rozrywki\, ale także dla tych\, którzy z teatru chcą wyjść z poczuciem\, że to\, co przed chwilą zobaczyli\, skłania do refleksji. \n\n\n\nWystępują: Beata Zarembianka\, Dariusz Niebudek \n\n\n\nReżyseria: Paweł Szumiec \n\n\n\nMuzyka: Jarek Babula \n\n\n\nScenografia i kostiumy: Barbara Guzik \n\n\n\nProdukcja: AVE Teatr \n\n\n\nCzas trwania spektaklu: 100 minut bez przerwy \n\n\n\nManagement: Impresariat Artystyczny „Kreatywna Pantera” – Agnieszka Perzyńska
URL:https://www.mdk.piekary.pl/wydarzenie/seks-dla-opornych/
LOCATION:Piekary Śląskie ul. Bytomska 73
ATTACH;FMTTYPE=image/jpeg:https://www.mdk.piekary.pl/wp-content/uploads/2024/09/Seks-Piekary.jpg
ORGANIZER;CN="Miejski Dom Kultury w Piekarach %C5%9Al%C4%85skich":MAILTO:impresariat@mdk.piekary.pl
END:VEVENT
END:VCALENDAR