BEGIN:VCALENDAR
VERSION:2.0
PRODID:-//Miejski Dom Kultury w Piekarach Śląskich - ECPv6.15.17.1//NONSGML v1.0//EN
CALSCALE:GREGORIAN
METHOD:PUBLISH
X-WR-CALNAME:Miejski Dom Kultury w Piekarach Śląskich
X-ORIGINAL-URL:https://www.mdk.piekary.pl
X-WR-CALDESC:Wydarzenia dla Miejski Dom Kultury w Piekarach Śląskich
REFRESH-INTERVAL;VALUE=DURATION:PT1H
X-Robots-Tag:noindex
X-PUBLISHED-TTL:PT1H
BEGIN:VTIMEZONE
TZID:Europe/Warsaw
BEGIN:DAYLIGHT
TZOFFSETFROM:+0100
TZOFFSETTO:+0200
TZNAME:CEST
DTSTART:20230326T010000
END:DAYLIGHT
BEGIN:STANDARD
TZOFFSETFROM:+0200
TZOFFSETTO:+0100
TZNAME:CET
DTSTART:20231029T010000
END:STANDARD
BEGIN:DAYLIGHT
TZOFFSETFROM:+0100
TZOFFSETTO:+0200
TZNAME:CEST
DTSTART:20240331T010000
END:DAYLIGHT
BEGIN:STANDARD
TZOFFSETFROM:+0200
TZOFFSETTO:+0100
TZNAME:CET
DTSTART:20241027T010000
END:STANDARD
BEGIN:DAYLIGHT
TZOFFSETFROM:+0100
TZOFFSETTO:+0200
TZNAME:CEST
DTSTART:20250330T010000
END:DAYLIGHT
BEGIN:STANDARD
TZOFFSETFROM:+0200
TZOFFSETTO:+0100
TZNAME:CET
DTSTART:20251026T010000
END:STANDARD
END:VTIMEZONE
BEGIN:VEVENT
DTSTART;TZID=Europe/Warsaw:20240403T180000
DTEND;TZID=Europe/Warsaw:20240403T190000
DTSTAMP:20260425T175449
CREATED:20240312T141318Z
LAST-MODIFIED:20240313T083249Z
UID:10596-1712167200-1712170800@www.mdk.piekary.pl
SUMMARY:Sabina Waszut
DESCRIPTION:SPOTKANIE AUTORSKIE \n\n\n\n\n\n\n\nUWAGA! Wymagana rejestracja poprzez formularz znajdujący się na dole strony. \n\n\n\nSabina Waszut\n\n\n\nSabina Waszut – pisarka i felietonistka. Autorka kilkunastu powieści historycznychi obyczajowych. Jej debiutancka powieść „Rozdroża” (2014) zdobyła nagrodę główną Festiwalu Literatury Kobiet w Siedlcach w kategorii „Pióro” oraz została nominowana do Nagrody Literackiej Europy Środkowej „Angelus”. Za powieści „Narzeczona z getta” (2019) i „Emigranci. Podróż za horyzont” (2021) autorka została nominowana do nagrody „Książka Roku” portalu Lubimyczytać.pl. \n\n\n\nJej najnowsza książka „Sztuczny miód” to poruszająca opowieść o tym\, jak żyło się u schyłku PRL-u\, w niepewnych czasach\, gdy czuło się wiszące w powietrzu napięcie\, ale ludzie nie skąpili sobie życzliwości. \n\n\n\nLaureatka Nagrody Prezydenta Miasta Chorzów w Dziedzinie Kultury. Współpracuje z miesięcznikiem kulturalnym „Chorzów Miasto Kultury”\, do którego pisze felietonyi opowiadania w odcinkach. Mieszka na Śląsku. Najczęściej można ją spotkać na górskich szlakach. \n\n\n\n \n\n\n\n\nFormularz rejestracyjny\n\n\n\n\n\n\n  \n\n\n\n Twoje imię i nazwisko*:\n\n \nWyrażam chęć wzięcia udziału w spotkaniu autorskim z Henrykiem Wańkiem*\n \nWyrażam zgodę na przetwarzanie moich danych osobowych podanych podczas zgłoszenia i zapoznałem się z KLAUZULĄ ZGODY*\n \nJak możemy się z Tobą skontaktować?\n \n Twój adres e-mail:\n\n \n Telefon kontaktowy*:\n\n \n*pola wymagane
URL:https://www.mdk.piekary.pl/wydarzenie/sabina-waszut/
LOCATION:Piekary Śląskie ul. Bytomska 73
ATTACH;FMTTYPE=image/jpeg:https://www.mdk.piekary.pl/wp-content/uploads/2024/03/Spotkanie-autorskie-Sabina-Waszut.jpg
ORGANIZER;CN="Miejski Dom Kultury w Piekarach %C5%9Al%C4%85skich":MAILTO:impresariat@mdk.piekary.pl
END:VEVENT
BEGIN:VEVENT
DTSTART;TZID=Europe/Warsaw:20240409T180000
DTEND;TZID=Europe/Warsaw:20240409T180000
DTSTAMP:20260425T175449
CREATED:20240103T080500Z
LAST-MODIFIED:20240103T080500Z
UID:9748-1712685600-1712685600@www.mdk.piekary.pl
SUMMARY:KATARZYNA PIASECKA
DESCRIPTION:STAND UP \n\n\n\n\n\n\n\n\nKUP BILET\n\n\n\n\n \n\n\n\n\n\n\n\nKatarzyna Piasecka w premierowym programie stand-up comedy „Ukąszona”. Nowe historie\, nowe spostrzeżenia i kawał śmiesznego programu. Wszystko w niezmiennie charyzmatycznej\, bezpośredniej i bezkompromisowej formie. Ukąszona? Przyjdź i sprawdź.   \n\n\n\nPodczas wieczoru wystąpi również support.   \n\n\n\n* Zakaz nagrywania w formie audio i video. * Występ dla widzów dorosłych.  * Organizator ma prawo wyprosić z sali osoby przeszkadzające w wydarzeniu.
URL:https://www.mdk.piekary.pl/wydarzenie/katarzyna-piasecka/
LOCATION:Piekary Śląskie ul. Bytomska 73
ATTACH;FMTTYPE=image/jpeg:https://www.mdk.piekary.pl/wp-content/uploads/2024/01/Katarzyna-Piasecka.jpg
ORGANIZER;CN="Miejski Dom Kultury w Piekarach %C5%9Al%C4%85skich":MAILTO:impresariat@mdk.piekary.pl
END:VEVENT
BEGIN:VEVENT
DTSTART;TZID=Europe/Warsaw:20240413T190000
DTEND;TZID=Europe/Warsaw:20240413T210000
DTSTAMP:20260425T175449
CREATED:20240313T144446Z
LAST-MODIFIED:20240313T145421Z
UID:10616-1713034800-1713042000@www.mdk.piekary.pl
SUMMARY:Koncert "Trackstone" z okazji premiery debiutanckiego albumu + gościnnie Ornette
DESCRIPTION:KUP BILET\n\n\n\n\nW dniu koncertu bilety będą dostępne na miejscu w Filii Miejskiego Domu Kultury  \n\n\n\nw Piekarach Śląskich przy ul. Tarnogórskiej 49 w cenie 60 zł \n\n\n\n\n\n\n\nZapraszamy Państwa na niezwykle energetyczny koncert zespołu TRACKSTONE! Jeśli macie ochotę na dawkę porządnej gitarowej energii połączonej z wyrazistym wokalem i bujającym basem\, nie może Was zabraknąć! Szczególnie\, że koncert odbywa się z okazji premiery debiutanckiego albumu zespołu! Jest czego posłuchać! Ostatnio\, idąc jak burza\, wygrali trzy ogólnopolskie konkursy muzyczne\, i nie zamierzają się ograniczać! Chodźcie\, zanim ceny biletów na ich koncert poszybują do setek złotych! \n\n\n\nTrackstone – to zespół poruszający się w obrębie rocka\, bluesa i funku\, w którym energetyczne gitarowe riffy i drapieżny\, a zarazem melodyjny wokal łączą się w zaskakującą jedność z grooviącym i wyrazistym basem\,a przy bębnach zasiada tajemniczy człowiek w masce. Zespół pochodzi z Tarnowskich Gór i został założony w 2022r. \n\n\n\nTrackstone jest laureatem ogólnopolskich festiwali muzycznych:  \n\n\n\nwe wrześniu 2023 III miejsce podczas przeglądu na Skała Rock Festivalw październiku 2023 I miejsce podczas przeglądu na festiwalu Muzyka dla Wszystkich\, gdzie przewodniczącym Jury był Marek Piekarczykw listopadzie 2023 I miejsce podczas festiwalu Generacja w Koszalińskim Centrum Kulturyw grudniu 2023 I miejsce podczas festiwalu Rockowania organizowanym przez Miejski Dom Kultury w Mławie\n\n\n\nORNETTE BAND \n\n\n\nGRZEGORZ STĘPIEŃ – ORNETTE – to nowa droga MUZYKA\, który od 2002 do 2020 roku współtworzył skład ODDZIAŁU ZAMKNIĘTEGO z którym zagrał ponad tysiąc koncertów Od 1997r.\, z powodzeniem \, koncertuje\, tworzy muzykęz czołówką polskiej i zagranicznej sceny muzycznej. Na swoim koncie ma wiele nagrań studyjnych i koncertowychw tym dwie autorskie płyty pt. „Twarzą w twarz” 2015r\, w roku 2022 ukazał się album „Możesz wszystko” a w roku 2024 wznowienie na płycie winylowej LP przez wytwórnie B&B records. Formacja Ornette z powodzeniem koncertowała w kraju i zagranicą. \n\n\n\nTRACKSTONE\n\n\n\nTRACKSTONE\n\n\n\nTRACKSTONE\n\n\n\nORNETTE
URL:https://www.mdk.piekary.pl/wydarzenie/koncert-trackstone-z-okazji-premiery-debiutanckiego-albumu-goscinnie-ornette/
LOCATION:Piekary Śląskie ul. Tarnogórska 49
ATTACH;FMTTYPE=image/jpeg:https://www.mdk.piekary.pl/wp-content/uploads/2024/03/plakat-rgb-spad-scaled.jpg
END:VEVENT
BEGIN:VEVENT
DTSTART;TZID=Europe/Warsaw:20240419T180000
DTEND;TZID=Europe/Warsaw:20240419T210000
DTSTAMP:20260425T175449
CREATED:20240215T145117Z
LAST-MODIFIED:20240215T145118Z
UID:10258-1713549600-1713560400@www.mdk.piekary.pl
SUMMARY:GŁOS ZA GŁOS - CZYLI POTYCZKI WASZYCH IDOLI
DESCRIPTION:KUP BILET\n\n\n\n\n \n\n\n\n\n\n\n\nWspaniały\, niepowtarzalny\, oryginalny Festiwal GŁOS za Głos – czyli muzyczne potyczki Waszych idoli \n\n\n\nBilety już w sprzedaży na www.mdk.piekary.pl oraz w Biurze Obsługi Klienta. \n\n\n\nZapraszamy do udziału w V edycji Waszego ulubionego\, Festiwalu Głos za Głos.Podczas koncertu zespoły zaprezentują 3 piosenki. To od Was zależeć będzie\, który zespół zwycięży. \n\n\n\nGość specjalny festiwalu Arkadia Band – finalista IV edycji. \n\n\n\nWystąpią: \n\n\n\nMichalina Starosta \n\n\n\nPiotr Herdzina \n\n\n\nWesoła Biesiada
URL:https://www.mdk.piekary.pl/wydarzenie/glos-za-glos-czyli-potyczki-waszych-idoli/
LOCATION:Piekary Śląskie ul. Bytomska 73
ATTACH;FMTTYPE=image/jpeg:https://www.mdk.piekary.pl/wp-content/uploads/2024/02/GLO.jpg
ORGANIZER;CN="Miejski Dom Kultury w Piekarach %C5%9Al%C4%85skich":MAILTO:impresariat@mdk.piekary.pl
END:VEVENT
BEGIN:VEVENT
DTSTART;TZID=Europe/Warsaw:20240421T180000
DTEND;TZID=Europe/Warsaw:20240421T180000
DTSTAMP:20260425T175449
CREATED:20240228T133610Z
LAST-MODIFIED:20240228T133948Z
UID:10427-1713722400-1713722400@www.mdk.piekary.pl
SUMMARY:ADAM SNOPEK
DESCRIPTION:NIEZWYKŁE WYDARZENIE MUZYCZNO-KABARETOWE \n\n\n\n\n\n\n\n\nKUP BILET\n\n\n\n\n \n\n\n\n\n\n\n\nNiezwykłe Wydarzenie Muzyczno-Kabaretowe \n\n\n\nPrzygotujcie się na muzyczne quizy\, fascynujące ciekawostki z życia największych artystów oraz niezliczoną ilość zwrotów akcji! \n\n\n\nCieszcie się melodią i śmiechem razem z nami! Zapraszamy na niezapomniane SHOW PRZY FORTEPIANIE z udziałem utalentowanego Adama Snopka! \n\n\n\nAdam Snopek\, niezwykle charyzmatyczny pianista i showman\, absolwent Wydziału Jazzu i Muzyki Rozrywkowej Akademii Muzycznej w Katowicach\, zaprasza Was do świata muzycznych niespodzianek! \n\n\n\nPodczas tego brawurowego spektaklu odkryjecie\, że co trzeci utwór muzyki rozrywkowej kryje w sobie fragment piosenki „Pieski Małe Dwa”! \n\n\n\nAdam Snopek\, laureat I Nagrody na II Międzynarodowym Konkursie Improwizacji Jazzowej w Katowicach\, zaserwuje Wam niezapomniane przeżycia muzyczno-kabaretowe! \n\n\n\nBądźcie gotowi śpiewać\, śmiać się\, wzruszać i chwytać za głowę – to wydarzenie będzie pełne emocji! Nie przegapcie tego niezwykłego show\, które zachwyci wszystkich!
URL:https://www.mdk.piekary.pl/wydarzenie/adam-snopek/
LOCATION:Piekary Śląskie ul. Bytomska 73
ATTACH;FMTTYPE=image/jpeg:https://www.mdk.piekary.pl/wp-content/uploads/2024/02/Adam-Snopek-PLAKAT-1-scaled.jpg
ORGANIZER;CN="Miejski Dom Kultury w Piekarach %C5%9Al%C4%85skich":MAILTO:impresariat@mdk.piekary.pl
END:VEVENT
BEGIN:VEVENT
DTSTART;TZID=Europe/Warsaw:20240422T100000
DTEND;TZID=Europe/Warsaw:20240422T140000
DTSTAMP:20260425T175449
CREATED:20240421T135803Z
LAST-MODIFIED:20240421T135804Z
UID:10956-1713780000-1713794400@www.mdk.piekary.pl
SUMMARY:KAMPANIA EDUKACYJNA FARMACEUTA TWOIM PARTNEREM ZDROWIA
DESCRIPTION:FARMAKOBUS to nowoczesny mobilny punkt usług farmaceutycznych\, w którym mieszkańcy mają możliwość skorzystania z wiedzy i wsparcia farmaceutów Śląskiej Izby Aptekarskiej.  \n\n\n\nFarmakobus zaparkuje przed Miejskim Domem Kultury  przy ul. Bytomskiej 73 już 22 kwietnia w godzinach od 10:00 do 14:00. \n\n\n\nCele Kampanii: \n\n\n\nPromowanie świadomości zdrowotnejUmożliwienie osobom w różnym wieku i o różnych potrzebach zdrowotnych skorzystania z profesjonalnej opieki farmaceutycznej.\n\n\n\nCo oferuje FARMAKOBUS: \n\n\n\nPomiar ciśnieniaObliczanie wskaźnika masy ciała (BMI)Test SEDRIKS (ocena ryzyka cukrzycy)Ocena kontroli astmy (testy: CAT\, ACT) oraz instruktaż użytku inhalatorówEdukacja na temat szczepień profilaktycznychTest uzależnienia od nikotynyInstruktaż pomiaru stężenia glukozy\n\n\n\nZapraszamy do udziału w kampanii edukacyjnej Farmaceuta Twoim Partnerem Zdrowia
URL:https://www.mdk.piekary.pl/wydarzenie/kampania-edukacyjna-farmaceuta-twoim-partnerem-zdrowia/
LOCATION:Piekary Śląskie ul. Bytomska 73
ORGANIZER;CN="Miejski Dom Kultury w Piekarach %C5%9Al%C4%85skich":MAILTO:impresariat@mdk.piekary.pl
END:VEVENT
BEGIN:VEVENT
DTSTART;TZID=Europe/Warsaw:20240427T190000
DTEND;TZID=Europe/Warsaw:20240427T200000
DTSTAMP:20260425T175449
CREATED:20240215T144504Z
LAST-MODIFIED:20240228T135742Z
UID:10255-1714244400-1714248000@www.mdk.piekary.pl
SUMMARY:Vix.N
DESCRIPTION:AUTOR HITOWEGO UTWORU „NE ROZUMIJU” \n\n\n\n\n\n\n\n\nKUP BILET\n\n\n\n\n\n\n\n\n\nKup.Bulecik.pl\n\n\n\n\n\n\n\n\nAutor hitowego „Ne Rozumiju” zaczyna koncertowanie! \n\n\n\nJuż 27.04.2024r. w Piekarach Śląskich zagra Vix.N! \n\n\n\nWystęp promować będzie najnowszy krążek artysty zatytułowany Blindbox\, nie zabraknie też najpopularniejszych utworów z poprzednich płyt. \n\n\n\nWiemy\, że długo na to czekaliście dlatego serdecznie zapraszamy. \n\n\n\nBędzie gitarra!
URL:https://www.mdk.piekary.pl/wydarzenie/vix-n/
LOCATION:Piekary Śląskie ul. Bytomska 73
ATTACH;FMTTYPE=image/jpeg:https://www.mdk.piekary.pl/wp-content/uploads/2024/02/Vix.N-PLAKAT.jpg
ORGANIZER;CN="Miejski Dom Kultury w Piekarach %C5%9Al%C4%85skich":MAILTO:impresariat@mdk.piekary.pl
END:VEVENT
END:VCALENDAR