BEGIN:VCALENDAR
VERSION:2.0
PRODID:-//Miejski Dom Kultury w Piekarach Śląskich - ECPv6.15.17.1//NONSGML v1.0//EN
CALSCALE:GREGORIAN
METHOD:PUBLISH
X-WR-CALNAME:Miejski Dom Kultury w Piekarach Śląskich
X-ORIGINAL-URL:https://www.mdk.piekary.pl
X-WR-CALDESC:Wydarzenia dla Miejski Dom Kultury w Piekarach Śląskich
REFRESH-INTERVAL;VALUE=DURATION:PT1H
X-Robots-Tag:noindex
X-PUBLISHED-TTL:PT1H
BEGIN:VTIMEZONE
TZID:Europe/Warsaw
BEGIN:DAYLIGHT
TZOFFSETFROM:+0100
TZOFFSETTO:+0200
TZNAME:CEST
DTSTART:20230326T010000
END:DAYLIGHT
BEGIN:STANDARD
TZOFFSETFROM:+0200
TZOFFSETTO:+0100
TZNAME:CET
DTSTART:20231029T010000
END:STANDARD
BEGIN:DAYLIGHT
TZOFFSETFROM:+0100
TZOFFSETTO:+0200
TZNAME:CEST
DTSTART:20240331T010000
END:DAYLIGHT
BEGIN:STANDARD
TZOFFSETFROM:+0200
TZOFFSETTO:+0100
TZNAME:CET
DTSTART:20241027T010000
END:STANDARD
BEGIN:DAYLIGHT
TZOFFSETFROM:+0100
TZOFFSETTO:+0200
TZNAME:CEST
DTSTART:20250330T010000
END:DAYLIGHT
BEGIN:STANDARD
TZOFFSETFROM:+0200
TZOFFSETTO:+0100
TZNAME:CET
DTSTART:20251026T010000
END:STANDARD
END:VTIMEZONE
BEGIN:VEVENT
DTSTART;TZID=Europe/Warsaw:20240302T193000
DTEND;TZID=Europe/Warsaw:20240302T210000
DTSTAMP:20260424T004341
CREATED:20240117T090030Z
LAST-MODIFIED:20240117T094243Z
UID:9901-1709407800-1709413200@www.mdk.piekary.pl
SUMMARY:"ANIOŁKI BERCIKA CZYLI HANKE CHCE KOCHANKE"
DESCRIPTION:Spektakl komediowy \n\n\n\n\n\n\n\n\nKUP BILET\n\n\n\n\n \n\n\n\n\n\n\n\nSpektakl komediowy \n\n\n\n„ANIOŁKI BERCIKA CZYLI HANKE CHCE KOCHANKA” \n\n\n\nAniołki Bercika czyli Hanke chce kochankę. – Spektakl komediowy w gwiazdorskiej obsadzie! \n\n\n\nOn jest przed ślubem jak trener sportu z sześciopakiem ale nie tym przynoszonym z marketu.Ona? Szczęśliwa i uśmiechnięta bogini seksu\, której nigdy głowa nie boli. \n\n\n\nA po dwudziestu latach od ślubu?Co prawda zamiast kaloryfera ma on boiler\, jej za to na starość wzrok się wyostrza. Widzi nawet te jego wady\, które nie istnieją. Za to słuch się jej zdecydowanie przytępił; jakoś nie słyszy\, kiedy on prosi o założenie kuszącej bielizny i jakiś seks po kolacji. \n\n\n\nCo robi wtedy facet? … Wiadomo!Marzy! Marzy o…. babach! \n\n\n\nHanke nie jest inny! Po latach ciężkiej pracy w kopalni chciałby wreszcie być kimś. Ale nie byle kim! Pragnie zaszczytów\, sławy i chwały ale przede wszystkim … i to najbardziej!Hanke chce kochankę! \n\n\n\nAle uwaga! Marzenia się czasem spełniają…. \n\n\n\nWystępują:Krzysztof Hanke znany i lubiany dżentelmen polskiego kabaretu. Aktor\, satyryk\, lider kabaretu Rak oraz twórca niezapomnianej roli Bercika w serialu „Święta wojna”. \n\n\n\nAgnieszka Litwin artystka kabaretów Jurki i Szum\, wciela się w postać Babci w serialu kabaretowym TVP 2 Rodzina Trendych\, oraz kreuje niezapomnianą postać Harriet Ferguson w improwizowanym serialu kabaretowym Spadkobiercy. \n\n\n\nMałgorzata Czyżycka\, artystka kabaretowa\, członkini kabaretu Ciach \n\n\n\nJoanna Dunas\, aktorka teatr\, absolwentka Szkoły Teatralnej w Berlinie. Można ją zobaczyć w wielu przedstawieniach teatralnych. \n\n\n\nScenariusz: Damian Nowakowski i Krystian NowakowskiMuzyka i aranżacje: Aleksander NowackiScenografia: Marcin Chojna
URL:https://www.mdk.piekary.pl/wydarzenie/aniolki-bercika-czyli-hanke-chce-kochanke/
LOCATION:Piekary Śląskie ul. Bytomska 73
ATTACH;FMTTYPE=image/jpeg:https://www.mdk.piekary.pl/wp-content/uploads/2024/01/Bercik-A.jpg
ORGANIZER;CN="Miejski Dom Kultury w Piekarach %C5%9Al%C4%85skich":MAILTO:impresariat@mdk.piekary.pl
END:VEVENT
BEGIN:VEVENT
DTSTART;TZID=Europe/Warsaw:20240315T190000
DTEND;TZID=Europe/Warsaw:20240315T190000
DTSTAMP:20260424T004341
CREATED:20240201T121756Z
LAST-MODIFIED:20240202T125208Z
UID:10073-1710529200-1710529200@www.mdk.piekary.pl
SUMMARY:WIELKIE PRZEBOJE WIELKICH NIEOBECNYCH
DESCRIPTION:KONCERT \n\n\n\n\n\n\n\n\nKUP BILET\n\n\n\n\n \n\n\n\n\n\n\n\nKoncert „Wielkie przeboje Wielkich nieobecnych ” to emocjonująca podróż w największe przeboje polskich artystów\, których choć nie ma już wśród nas\, to ich piosenki pozostają ponadczasowe i niezapomniane.  \n\n\n\nRóżnorodność artystów Emilia Zielińska – sopran\, Jakub Herfort – tenor\, Krzysztof Koniarek i Natalia Kuklińska – artyści sceny rozrywkowej i popularnej\, znakomity gitarzysta i aranżer Piotr Stomyło gwarantują szeroki wachlarz doznań muzycznych i wokalnych\, tak jak różne były wspominane podczas koncertu gwiazdy polskiej estrady.
URL:https://www.mdk.piekary.pl/wydarzenie/koncet-wielcy-nieobecni/
LOCATION:Piekary Śląskie ul. Bytomska 73
ATTACH;FMTTYPE=image/jpeg:https://www.mdk.piekary.pl/wp-content/uploads/2024/02/Wielcy--scaled.jpg
ORGANIZER;CN="Miejski Dom Kultury w Piekarach %C5%9Al%C4%85skich":MAILTO:impresariat@mdk.piekary.pl
END:VEVENT
BEGIN:VEVENT
DTSTART;TZID=Europe/Warsaw:20240317T160000
DTEND;TZID=Europe/Warsaw:20240317T160000
DTSTAMP:20260424T004341
CREATED:20240103T082330Z
LAST-MODIFIED:20240123T105037Z
UID:9759-1710691200-1710691200@www.mdk.piekary.pl
SUMMARY:MITORAJ
DESCRIPTION:POKAZ ILUZJI \n\n\n\n\n\n\nKUP BILET\n\n\n\n\n \n\n\n\n \n\n\n\n\n\n\n\nMagic Mitoraj\, czyli Adrian Mitoraj to jeden z najlepszych iluzjonistów. Twórca spektakli iluzji dla największych parków rozrywki w Polsce. Wielokrotnie występował w Niemczech i Szwajcarii. Tym razem pojawi się w Twoim mieście! Podczas rodzinnego przedstawienia zobaczysz ponad 70 minut spektakularnych efektów z pogranicza dziecięcych marzeń. To show\, które łączy pokolenia. Doskonała muzyka\, gra aktorska. Wszystko po to\, aby wprowadzić widzów w inny wymiar dostarczanej rozrywki. Interaktywne widowisko podczas\, którego wszyscy czarują razem z prestidigitatorem.  \n\n\n\nW programie będzie można zobaczyć: – przenikanie ciała przez dziesięć stalowych obręczy – liczne lewitacje – taniec jedwabnej chusty – znikanie i pojawianie się przedmiotów oraz wiele innych niesamowitych sztuczek!  \n\n\n\nSalwy śmiechu\, emocje\, duże iluzje. Opad szczęki gwarantowany! Pokaz zarówno dla dzieci i dorosłych. Wiek od 5 lat do 10000000000 lat.
URL:https://www.mdk.piekary.pl/wydarzenie/mitoraj/
LOCATION:Piekary Śląskie ul. Bytomska 73
ATTACH;FMTTYPE=image/jpeg:https://www.mdk.piekary.pl/wp-content/uploads/2024/01/Reklama_kwadrat_Solo_A_Piekary-scaled.jpg
ORGANIZER;CN="Miejski Dom Kultury w Piekarach %C5%9Al%C4%85skich":MAILTO:impresariat@mdk.piekary.pl
END:VEVENT
BEGIN:VEVENT
DTSTART;TZID=Europe/Warsaw:20240319T190000
DTEND;TZID=Europe/Warsaw:20240319T190000
DTSTAMP:20260424T004341
CREATED:20240103T081829Z
LAST-MODIFIED:20240103T081830Z
UID:9756-1710874800-1710874800@www.mdk.piekary.pl
SUMMARY:ŁUKASZ KOWALSKI
DESCRIPTION:STAND UP \n\n\n\n\n\n\n\n\nKUP BILET\n\n\n\n\n\n\n\n\n\n\n\n\nUszanowanie!  \n\n\n\nZapraszam na pierwszą solową trasę. Zaprezentuje mój trzeci program – „Święty Łukasz”. Będzie to historia o wychowaniu w katolickiej rodzinie i o tym gdzie mnie to doprowadziło. Może się domyślacie gdzie? Przy okazji zabiorę Was na wycieczkę do Rzymu\, aby spotkać Pana Jana Pawła II.  \n\n\n\nNa scenie będzie mi towarzyszył Paweł Ścierski   \n\n\n\nBilety: 40zł Wieczór dla osób od 16 roku życia.  \n\n\n\n* Brak zgody na nagrywanie audio/video. * Osoby\, które będą przeszkadzać podczas wydarzenia zostaną wyproszone. Bez zwrotu pieniędzy za bilet.
URL:https://www.mdk.piekary.pl/wydarzenie/lukasz-kowalski/
LOCATION:Piekary Śląskie ul. Bytomska 73
ATTACH;FMTTYPE=image/jpeg:https://www.mdk.piekary.pl/wp-content/uploads/2024/01/Lukasz-Kowalski.jpg
ORGANIZER;CN="Miejski Dom Kultury w Piekarach %C5%9Al%C4%85skich":MAILTO:impresariat@mdk.piekary.pl
END:VEVENT
BEGIN:VEVENT
DTSTART;TZID=Europe/Warsaw:20240323T160000
DTEND;TZID=Europe/Warsaw:20240323T170000
DTSTAMP:20260424T004341
CREATED:20240313T151204Z
LAST-MODIFIED:20240313T151400Z
UID:10628-1711209600-1711213200@www.mdk.piekary.pl
SUMMARY:SPEKTAKL "LILIA"
DESCRIPTION:W Wielkim Poście\, a więc w czasie szczególnej refleksji i modlitwy zapraszamy na kolejną odsłonę „Lilii”!Tym razem spotkamy się w Piekarach Śląskich\, czyli w miejscu szczególnie oddanym Maryi – Matce Sprawiedliwości i Miłości Społecznej. Chcemy wraz z Nią wnikać jeszcze głębiej w Misterium Chrystusa i w ten sposób przygotować nasze serca na świętowanie tajemnic Jego Paschy. \n\n\n\nKEDY?Sobota\, 23 marca 2024 r. godz.: 16:00. \n\n\n\nGDZIE?Miejski Dom Kultury w Piekarach Śląskichul. Bytomska 73 \n\n\n\nBilety: wstęp wolny\, po spektaklu będzie możliwość złożenia dobrowolnej ofiary na rzecz Teatru Tańca Lilia \n\n\n\nSpektakl „Lilia” to tajemnice Różańca św. opowiedziane tańcem. Podobnie\, jak w modlitwie różańcowej\, tak w czasie spektaklu\, wpatrujemy się w Maryję – cichą\, wierną\, zawsze obecną przy swoim Synu. Kontemplujemy Jej całkowite oddanie się Bogu – w radości\, w bólu i w chwale nieba\, i szukamy w Niej inspiracji do przeżywania tajemnic naszego życia w zjednoczeniu z Chrystusem.Chcemy\, aby „Lilia” była niczym innym\, jak medytacją – modlitwą i rozważaniem\, czasem trwania wraz z Maryją w Bożej obecności i otwierania serca na jej oczyszczającą moc.I Was zapraszamy do tej medytacji – nie tylko do obejrzenia\, ale do doświadczenia spektaklu. Niech jego owocem będzie „Magnificat” – wyśpiewane (i wytańczone ) wraz z Maryją uwielbienie Boga za wielkie dzieła\, których nieustannie dokonuje w naszym życiu. \n\n\n\nZAPRASZAMY! 
URL:https://www.mdk.piekary.pl/wydarzenie/spektakl-lilia/
LOCATION:Piekary Śląskie ul. Bytomska 73
ATTACH;FMTTYPE=image/jpeg:https://www.mdk.piekary.pl/wp-content/uploads/2024/03/Lilia-z-qr-scaled.jpg
ORGANIZER;CN="Miejski Dom Kultury w Piekarach %C5%9Al%C4%85skich":MAILTO:impresariat@mdk.piekary.pl
END:VEVENT
END:VCALENDAR