BEGIN:VCALENDAR
VERSION:2.0
PRODID:-//Miejski Dom Kultury w Piekarach Śląskich - ECPv6.15.17.1//NONSGML v1.0//EN
CALSCALE:GREGORIAN
METHOD:PUBLISH
X-WR-CALNAME:Miejski Dom Kultury w Piekarach Śląskich
X-ORIGINAL-URL:https://www.mdk.piekary.pl
X-WR-CALDESC:Wydarzenia dla Miejski Dom Kultury w Piekarach Śląskich
REFRESH-INTERVAL;VALUE=DURATION:PT1H
X-Robots-Tag:noindex
X-PUBLISHED-TTL:PT1H
BEGIN:VTIMEZONE
TZID:Europe/Warsaw
BEGIN:DAYLIGHT
TZOFFSETFROM:+0100
TZOFFSETTO:+0200
TZNAME:CEST
DTSTART:20230326T010000
END:DAYLIGHT
BEGIN:STANDARD
TZOFFSETFROM:+0200
TZOFFSETTO:+0100
TZNAME:CET
DTSTART:20231029T010000
END:STANDARD
BEGIN:DAYLIGHT
TZOFFSETFROM:+0100
TZOFFSETTO:+0200
TZNAME:CEST
DTSTART:20240331T010000
END:DAYLIGHT
BEGIN:STANDARD
TZOFFSETFROM:+0200
TZOFFSETTO:+0100
TZNAME:CET
DTSTART:20241027T010000
END:STANDARD
BEGIN:DAYLIGHT
TZOFFSETFROM:+0100
TZOFFSETTO:+0200
TZNAME:CEST
DTSTART:20250330T010000
END:DAYLIGHT
BEGIN:STANDARD
TZOFFSETFROM:+0200
TZOFFSETTO:+0100
TZNAME:CET
DTSTART:20251026T010000
END:STANDARD
END:VTIMEZONE
BEGIN:VEVENT
DTSTART;TZID=Europe/Warsaw:20240205T080000
DTEND;TZID=Europe/Warsaw:20240209T150000
DTSTAMP:20260423T135050
CREATED:20231229T114445Z
LAST-MODIFIED:20231229T114446Z
UID:9711-1707120000-1707490800@www.mdk.piekary.pl
SUMMARY:AKCJA ZIMA 2024 - półkolonie dla dzieci
DESCRIPTION:Akcja ZIMA 2024 – Miejski Dom Kultury w Piekarach Śląskich organizuje półkolonie dla dzieci w terminie 05-09.02.2024 r. \n\n\n\nPROGRAM \n\n\n\n05.02. – Seans w kinie Zacisze. Zajęcia animacyjne. Warsztaty slime. \n\n\n\n06.02. – Lodowisko. Warszaty czewkolady.\n\n\n\n07.02. – Spektakl teatralny „Babroszki lecą w kosmos”. Planetarium Śląskie.\n\n\n\n08.02. – Freak Park w Będzinie\n\n\n\n09.02. – Kolejkowo w Gliwicach\n\n\n\n(Organizator zastrzega sobie prawo dokonania zmian w programie półkolonii) \n\n\n\nDzieci biorą udział w zajęciach w godzinach od 9.00 do 15.00 \n\n\n\nKoszt – 260 zł/turnus \n\n\n\nZapisy od dnia 20 grudnia w Impresariacie MDK tel. 32 287 28 80 \n\n\n\nDo dnia 15 stycznia należy dostarczyć wypisaną kartę kwalifikacyjną dziecka\, podpisany regulamin wraz z oświadczeniami oraz wpłacić opłatę w kasie MDK. \n\n\n\nUWAGA! Brak wpłaty i dostarczenia wypisanej karty z oświadczeniami spowoduje skreślenie z listy.
URL:https://www.mdk.piekary.pl/wydarzenie/akcja-zima-2024-polkolonie-dla-dzieci/
LOCATION:Piekary Śląskie ul. Bytomska 73
ATTACH;FMTTYPE=image/jpeg:https://www.mdk.piekary.pl/wp-content/uploads/2023/12/Akcja-zima-2024.jpg
ORGANIZER;CN="Miejski Dom Kultury w Piekarach %C5%9Al%C4%85skich":MAILTO:impresariat@mdk.piekary.pl
END:VEVENT
BEGIN:VEVENT
DTSTART;TZID=Europe/Warsaw:20240213T183000
DTEND;TZID=Europe/Warsaw:20240213T183000
DTSTAMP:20260423T135050
CREATED:20240123T102050Z
LAST-MODIFIED:20240123T130551Z
UID:9969-1707849000-1707849000@www.mdk.piekary.pl
SUMMARY:PAWEŁ GOŁECKI Z ZESPOŁEM KONCERT WALENTYNKOWY
DESCRIPTION:KUP BILET\n\n\n\n\n \n\n\n\n\n\n\n\nZ okazji Walentynek zapraszamy na wspaniały koncert Pawła Gołeckiego z towarzyszeniem zespołu na żywo. Oprócz największych przebojów tj. „Od pragnienia do miłości” czy „Zbój Janosik” usłyszymy zupełnie nowe piosenki.   \n\n\n\nTo będzie niezapomniany koncert!
URL:https://www.mdk.piekary.pl/wydarzenie/pawel-golecki-z-zespolem-koncert-walentynkowy/
LOCATION:Piekary Śląskie ul. Bytomska 73
ATTACH;FMTTYPE=image/jpeg:https://www.mdk.piekary.pl/wp-content/uploads/2024/01/PLAKAT-Golecki-Walentynki.jpg
ORGANIZER;CN="Miejski Dom Kultury w Piekarach %C5%9Al%C4%85skich":MAILTO:impresariat@mdk.piekary.pl
END:VEVENT
BEGIN:VEVENT
DTSTART;TZID=Europe/Warsaw:20240217T150000
DTEND;TZID=Europe/Warsaw:20240217T160000
DTSTAMP:20260423T135050
CREATED:20231130T081227Z
LAST-MODIFIED:20231130T081228Z
UID:9415-1708182000-1708185600@www.mdk.piekary.pl
SUMMARY:MAGICZNY KONCERT - BAJKI ŚWIATA
DESCRIPTION:KUP BILET\n\n\n\n\n \n\n\n\n\n\n\n\n‘’Magiczny koncert – Bajki Świata’’ \n\n\n\nNiezwykła muzyczna podróż w świat ulubionych bajek. Bohaterowie zejdą z ekranu\, by podzielić się najpiękniejszymi i najbardziej znanymi utworami. \n\n\n\nPoczynając od Stumilowego Lasu\, który zwiedzimy w towarzystwie Kubusia Puchatka\, wpłyniemy na wielkie wody południowego Pacyfiku pod przywództwem legendarnej Vaiany\, by przez chwilę zanurkować z Małą Syrenką w niezmierzonych\, morskich głębinach. Następnie wskakując na latający dywan wraz z Aladynem dolecimy aż do indiańskiej wioski Pocahontas. Nagle Zaplątani na lianie z Tarzanem wylądujemy na gorącej Sawannie\, gdzie panuje słynny Król Lew\, by potem ochłodzić się w mroźniej Krainie Lodu… \n\n\n\nWidowisko pełne kolorowych strojów\, baniek mydlanych\, śniegu\, dymu\, śmieszne dialogi\, wspólna zabawa\, namalują uśmiechy na twarzach młodych widzów.Widowisko przeznaczone dla dzieci i młodzieży. Koncert ma na celu pobudzić i rozwijać wyobraźnię oraz ciekawość poznawczą dziecka oraz zachęcić do aktywnego uczestniczenia w życiu kulturalnym m.in poprzez:• Uwrażliwianie na przeżycia estetyczne\,• Dostarczanie\, za pomocą fragmentów bajek\, nowej wiedzy o świecie i o innych ludziach\, co pomaga zrozumieć ich postawy i zachowania\,• Uczenie przestrzegania zakazów i bycia dobrym – w bajkach świat jest sprawiedliwy i rządzony według jednoznacznych reguł \, szlachetność jest nagradzana\,• Uwrażliwianie na odpowiednie zachowania społeczne poprzez obserwacje zachowań bohaterów bajek• Utożsamianie się z ulubionymi bohaterami bajek• Odreagowywanie napięć – relaks\, odprężenie\, zabawa• Rozwijanie wrażliwości słuchowej i umiejętności odbierania muzyki• Kształcenie zainteresowań muzycznych• Ogólne kształtowanie i rozwijanie słuchu muzycznego• Rozbudzanie zamiłowań do indywidualnego i zbiorowego muzykowania• Wdrażanie do aktywności artystycznej kulturalnego wykorzystania wolnego czasu \n\n\n\nCzas trwania: ok. godziny fantastycznej zabawy 😊
URL:https://www.mdk.piekary.pl/wydarzenie/magiczny-koncert-bajki-swiata/
LOCATION:Piekary Śląskie ul. Bytomska 73
ATTACH;FMTTYPE=image/jpeg:https://www.mdk.piekary.pl/wp-content/uploads/2023/11/BAJKI_PIEKARY_SL_17022024_FB-1.jpg
ORGANIZER;CN="Miejski Dom Kultury w Piekarach %C5%9Al%C4%85skich":MAILTO:impresariat@mdk.piekary.pl
END:VEVENT
BEGIN:VEVENT
DTSTART;TZID=Europe/Warsaw:20240217T180000
DTEND;TZID=Europe/Warsaw:20240217T193000
DTSTAMP:20260423T135050
CREATED:20231130T081951Z
LAST-MODIFIED:20231130T081952Z
UID:9422-1708192800-1708198200@www.mdk.piekary.pl
SUMMARY:OPERETKOWA BAŚŃ
DESCRIPTION:KUP BILET\n\n\n\n\n \n\n\n\n\n\n\n\nOPERETKOWA PETARDA PRZEBOJÓW odbywa się w całej Polsce. \n\n\n\nZa sprawą wspaniałych artystów przeniosą się Państwo do cudownego i wyjątkowego świata Operetki i Musicalu\, pełnego miłości\, czułości\, wzruszeń\, namiętności\, gorących pocałunków… Usłyszycie Państwo najpiękniejsze i najznakomitsze melodie muzycznego króla walca Johanna Straussa jak również Emmericha Kalmana\, Franza Lehara\, Paula Abrahama. \n\n\n\nZabrzmią duety wszech czasów: „Usta milczą\, dusza śpiewa” „Co się dzieje\, oszaleję”\, „W rytm walczyka”\, „Myszko\, to była piękna noc”\, wspaniałe arie: „Aria ze śmiechem”\, popisowe utwory instrumentalne\, jak i piosenki z repertuaru Jana Kiepury: „Brunetki\, blondynki” oraz duety musicalowe\, a to wszystko podane na najwyższym poziomie. \n\n\n\nGala cieszy się wielkim powodzeniem i uznaniem\, za sprawą porywających solistów\, Joanny Wojtaszewskiej oraz Kamila Rocha Karolczuka\, ich poruszającej i subtelnej gry scenicznej\, fantastycznego kontaktu z publicznością oraz wdzięku i uroku osobistego a do tego niesamowitej wrażliwości oraz muzykalności. \n\n\n\nRepertuar zaczerpnięty z najbardziej znanych i lubianych Operetek oraz Musicali\, takich\, jak: „Zemsta Nietoperza”\, „Księżniczka Czardasza”\, „Wesoła Wdówka”\, „Baron Cygański”\, „Wiedeńska krew”\, „My Fair Lady” czy „Upiór w Operze”. \n\n\n\nŚpiewakom towarzyszą wspaniali Kameraliści Operetkowi\, składający się z wybitnie uzdolnionych artystów nowego pokolenia muzycznego oraz porywający tancerze. \n\n\n\nKoncert jest dedykowany każdemu\, kto kocha piękną\, melodyjną muzykę i jest gotów by szeroko otworzyć swe serce na nowe\, muzyczne i nie tylko\, doznania. \n\n\n\nZapraszamy do wspólnego muzykowania. \n\n\n\nDo zobaczenia i usłyszenia. \n\n\n\nObsada: Joanna Wojtaszewska – Sopran \n\n\n\nKamil Roch Karolczuk – Tenor \n\n\n\nKameraliści Operetkowi \n\n\n\nPara taneczna Czas trwania koncertu: ok.80 minut (bez przerwy).
URL:https://www.mdk.piekary.pl/wydarzenie/operetkowa-basn/
LOCATION:Piekary Śląskie ul. Bytomska 73
ATTACH;FMTTYPE=image/jpeg:https://www.mdk.piekary.pl/wp-content/uploads/2023/11/BASN_PIEKARY_SL_17022024_FB-1.jpg
ORGANIZER;CN="Miejski Dom Kultury w Piekarach %C5%9Al%C4%85skich":MAILTO:impresariat@mdk.piekary.pl
END:VEVENT
BEGIN:VEVENT
DTSTART;TZID=Europe/Warsaw:20240223T170000
DTEND;TZID=Europe/Warsaw:20240223T180000
DTSTAMP:20260423T135050
CREATED:20240219T075243Z
LAST-MODIFIED:20240219T075244Z
UID:10285-1708707600-1708711200@www.mdk.piekary.pl
SUMMARY:DZIADY NOWOROCZNE\, NIEZWYKŁA TRADYCJA KOLĘDNICZA
DESCRIPTION:Serdecznie zapraszamy 23 lutego 2024 (piątek) o godzinie 17.00 do Miejskiego Domu Kultury w Piekarach Śląskich na wydarzenie pt. „SPOTKANIE Z TRADYCJĄ: Dziady Noworoczne – niezwykłe tradycje kolędnicze”. \n\n\n\nSpecjalista Mobilnego Działu Digitalizacji Instytutu im. Wojciecha Korfantego – dr Robert Garstka\, etnolog\, badacz\, dokumentalista opowie o tradycjach kolędniczych na ziemi żywieckiej. \n\n\n\nDziady i Szlachcice to tradycje\, które można spotkać jedynie na ziemi żywieckiej w granicach województwa śląskiego. \n\n\n\nDziady Noworoczne to wieloosobowa grupa mężczyzn wcielających się w różne postaci i kolędująca między domami w swoich miejscowościach\, np. w Milówce\, Żabnicy\, Zwardoniu\, Cięcinie\, Ciścu od wczesnych godzin porannych w Sylwestra (ostatni dzień roku) oraz w pierwszy dzień nowego roku. \n\n\n\nPonad 20 autentycznych grup dziadowskich można podziwiać także podczas cyklicznego wydarzenia „Żywieckie Gody”\, organizowanego od 55 lat m.in. w Żywcu i Milówce. Warto zauważyć\, iż tradycja ta została wpisana na Krajową Listę Niematerialnego Dziedzictwa Kulturowego. \n\n\n\nPrelekcja będzie wzbogacona o bogaty materiał fotograficzny i filmowy. \n\n\n\nZapraszamy. Wstęp wolny.
URL:https://www.mdk.piekary.pl/wydarzenie/dziady-noworoczne-niezwykla-tradycja-kolednicza/
LOCATION:Piekary Śląskie ul. Bytomska 73
ATTACH;FMTTYPE=image/jpeg:https://www.mdk.piekary.pl/wp-content/uploads/2024/02/Plakat-na-strone-1.jpg
ORGANIZER;CN="Miejski Dom Kultury w Piekarach %C5%9Al%C4%85skich":MAILTO:impresariat@mdk.piekary.pl
END:VEVENT
BEGIN:VEVENT
DTSTART;TZID=Europe/Warsaw:20240229T180000
DTEND;TZID=Europe/Warsaw:20240229T190000
DTSTAMP:20260423T135050
CREATED:20240219T072504Z
LAST-MODIFIED:20240225T083026Z
UID:10280-1709229600-1709233200@www.mdk.piekary.pl
SUMMARY:MACIEJ SIEMBIEDA - SPOTKANIE AUTORSKIE
DESCRIPTION:UWAGA! Wymagana rejestracja poprzez formularz znajdujący się na dole strony. \n\n\n\n \n\n\n\n\n\n\n\nMaciej Siembieda jest jednym z najpopularniejszych twórców powieści sensacyjnych w Polsce. Autor książek\, których bohaterem jest ekspert od śledztw historycznych – Jakub Kania (444\, Miejsce i imię\, Wotum\, Kukły\, Kołysanka\, Orient)\, z których dwie otrzymały nominację do Nagrody Wielkiego Kalibru. W dorobku ma thriller historyczny Gambit\, nominowany do tytułu Książki Roku 2019 portalu lubimyczytac.pl oraz polsko-grecką sagę sensacyjną Katharsis\, za którą został laureatem Nagrody Czytelników Wielkiego Kalibru 2023. „Katharsis” zdobyło także trzecie miejsce w plebiscycie Książka Roku 2022 lubimyczytac.pl w kategorii „kryminał\, sensacja\, thriller” oraz wyróżnienie w konkursie „Kryminalna Warszawa” dla najlepszej powieści kryminalnej/sensacyjnej 2022 roku. W 2023 roku ukazała się najnowsza powieść Nemezis. \n\n\n\nW 2022 roku zostały sprzedane prawa do ekranizacji sześciu z siedmiu powieści Macieja Siembiedy. \n\n\n\nZanim zadebiutował jako pisarz w wieku 56 lat\, przez trzy dekady był reporterem skupionym głównie na śledztwach historycznych. Trzykrotnie otrzymał za nie nagrodę Stowarzyszenia Dziennikarzy Polskich (tzw. Polskiego Pulitzera). Tropienie zagadek z przeszłości jest najczęstszym tematem kilkuset reportaży Macieja Siembiedy publikowanych od paryskiej „Kultury” po polskie gazety regionalne.  Znakiem rozpoznawczym Siembiedy jest budowanie opowieści na podstawie zdarzeń\, które miały miejsce w rzeczywistości. Wszystkie swoje książki pisze ręcznie piórem\, przepisując na komputerze wprowadza poprawki. Tworząc sensacyjną fabułę korzysta z notesów\, w których od czterdziestu lat spisuje historyczne ciekawostki\, zagadki i niezbadane wątki prawdziwych śledztw. Ma takich notesów kilkanaście. \n\n\n\n\nRejestracja zamknięta\n\n\n\n\n\n\n\n\nKLAUZULA INFORMACYJNA \n\n\n\nRealizacja obowiązku informacyjnego w związku z wymaganiami art. 13 Rozporządzenia Parlamentu Europejskiego i Rady (UE) 2016/679 z dnia 27 kwietnia 2016 r. w sprawie ochrony osób fizycznych w związku z przetwarzaniem danych osobowych i w sprawie swobodnego przepływu takich danych oraz uchylenia dyrektywy 95/46/WE (ogólne rozporządzenie o ochronie danych)  (dalej: RODO). \n\n\n\nAdministrator Danych Osobowych: Administratorem Pani/Pana danych osobowych jest Miejski Dom Kultury z siedzibą w Piekarach Śląskich (41-940) przy ul. Bytomskiej 73 tel. 32 287 28 80.Może Pani/Pan uzyskać informacje o przetwarzaniu Pani/Pana danych osobowych pod wskazanym wyżej adresem.\n\n\n\nInspektor Ochrony Danych:\n\n\n\nAdministrator powołał Inspektora Ochrony Danych. Dane kontaktowe: IOD MDK Piekary Śląskie\, 41-940 Piekary Śląskie\, ul. Bytomska 73\, e-mail: iod@radiopiekary.pl \n\n\n\nW jakim celu i na jakiej podstawie przetwarzamy Państwa dane osobowe:\n\n\n\nPrzetwarzanie danych osobowych odbywa się na podstawie art. 6 ust. 1 lit. a RODO na podstawie zgody wyrażonej podczas zapisu na wydarzenie pod nazwą  spotkanie autorskie – Maciejem Siembieda. \n\n\n\nDane osobowe będą przetwarzane w celu i w zakresie niezbędnym do realizacji zgłoszenia uczestnictwa w w/w wydarzeniu. \n\n\n\nPrzetwarzanie danych obejmuje w szczególności: \n\n\n\nprzechowywanie przez Administratora danych osobowych w wersji papierowej i/lub także elektronicznej zawartych w  Karcie Zgłoszenia\,przechowywanie danych w wersji papierowej i w systemie informatycznym\,generowanie listy osób dokonujących elektronicznego zgłoszenia z systemu informatycznego i przechowywanie danych w tym systemie.Czy podanie przez Państwa danych osobowych jest obowiązkiem i jakie są konsekwencje ich niepodania\n\n\n\nPodanie przez Panią/Pana danych osobowych jest dobrowolne. Jeżeli jednak nie poda Pani/Pan danych nie będziemy mogli prawidłowo zrealizować  Pani/Pana zgłoszenia. \n\n\n\nKomu możemy przekazać Państwa dane osobowe\n\n\n\nPani/Pana dane będą udostępniane podmiotom upoważnionym na podstawie przepisu prawa lub takim\, z którymi Administrator zawarł umowę. \n\n\n\nJak długo będą przechowywane Państwa dane osobowe\n\n\n\nPani/Pana dane będą przechowywane w okresie wskazanym niezbędnym do realizacji celu dla jakiego zostały zebrane oraz zgodnie z terminami wynikającymi z  przepisów prawa.  \n\n\n\nJakie są Państwa prawa związane z przetwarzaniem danych osobowych\n\n\n\nW związku z przetwarzaniem Pani/Pana danych osobowych ma Pani/Pan prawo do żądania od Administratora dostępu do nich\, ich sprostowania\, usunięcia lub ograniczenia przetwarzania  i prawo do wniesienia sprzeciwu\, przenoszenia danych oraz cofnięcia wyrażonej zgody na przetwarzanie danych w dowolnym momencie. Wycofanie zgody nie wpływa na zgodność z prawem przetwarzania\, którego dokonano na podstawie zgody przed jej wycofaniem. Pani/Pana prawa mogą zostać ograniczone zgodnie z przepisami RODO. Pani/Pana prawa na wniosek zrealizuje Administrator. \n\n\n\nGdzie mogą Państwo wnieść skargę wobec przetwarzania Państwa danych\n\n\n\nGdy uzna Pani/Pan\, że przetwarzanie Pani/Pana danych narusza przepisy o ochronie danych osobowych\, przysługuje Pani/Panu prawo do wniesienia skargi wobec ich przetwarzania do Prezesa Urzędu Ochrony Danych Osobowych\, z siedzibą w Warszawie przy ul. Stawki 2. \n\n\n\nCzy Państwa dane będą podlegały zautomatyzowanemu podejmowaniu decyzji\n\n\n\nPani/Pana dane osobowe nie będą przetwarzane w sposób zautomatyzowany i nie będą profilowane chyba\, że takie działanie jest dozwolone przepisami prawa\, które przewidują właściwe środki ochrony praw i wolności osób\, której dane dotyczą.  Administrator danych osobowych nie przekazuje danych do państwa trzeciego.
URL:https://www.mdk.piekary.pl/wydarzenie/maciej-siembieda-spotkanie-autorskie/
LOCATION:Piekary Śląskie ul. Bytomska 73
ATTACH;FMTTYPE=image/jpeg:https://www.mdk.piekary.pl/wp-content/uploads/2024/02/Spotkanie-autorskie-ost.jpg
END:VEVENT
BEGIN:VEVENT
DTSTART;TZID=Europe/Warsaw:20240229T190000
DTEND;TZID=Europe/Warsaw:20240229T190000
DTSTAMP:20260423T135050
CREATED:20240103T081052Z
LAST-MODIFIED:20240103T081052Z
UID:9751-1709233200-1709233200@www.mdk.piekary.pl
SUMMARY:MICHAŁ LEJA
DESCRIPTION:STAND UP \n\n\n\n\n\n\n\n\nKUP BILET\n\n\n\n\n \n\n\n\n\n\n\n\nMichał Leja ze swoim najnowszym programem „Chciałbym się mylić”  \n\n\n\nMichał Leja szturmem podbił polską scenę stand-upu i komedii. Znany również ze swoich serii filmów takich\, jak  „Michał Leja Show”\, czy kultowego w pandemii programu nadawanego z samochodu „Mini Leja Show”. Współautor i producent programu „RE:FLEKSJE”  \n\n\n\n„Chciałbym się mylić” to niecodzienne spojrzenie na świat\, ogromna dawka dobrego humoru oraz świetna interakcja z publicznością – rozrywka na najwyższym poziomie. Czy Michał Leja się myli? A może tylko chciałby się mylić… sprawdźcie sami! * 18+ Występ tylko dla widzów pełnoletnich  \n\n\n\n* Nagrywanie występu w formie audio i wideo jest zabronione * Osoby nietrzeźwe i przeszkadzające będą wypraszane bez możliwości ubiegania się zwrotu za bilet. * Handel biletami w celu zysku jest przestępstwem (Art. 133 kw)
URL:https://www.mdk.piekary.pl/wydarzenie/michal-leja/
LOCATION:Piekary Śląskie ul. Bytomska 73
ATTACH;FMTTYPE=image/jpeg:https://www.mdk.piekary.pl/wp-content/uploads/2024/01/Michal-Leja.jpg
ORGANIZER;CN="Miejski Dom Kultury w Piekarach %C5%9Al%C4%85skich":MAILTO:impresariat@mdk.piekary.pl
END:VEVENT
END:VCALENDAR