BEGIN:VCALENDAR
VERSION:2.0
PRODID:-//Miejski Dom Kultury w Piekarach Śląskich - ECPv6.15.17.1//NONSGML v1.0//EN
CALSCALE:GREGORIAN
METHOD:PUBLISH
X-WR-CALNAME:Miejski Dom Kultury w Piekarach Śląskich
X-ORIGINAL-URL:https://www.mdk.piekary.pl
X-WR-CALDESC:Wydarzenia dla Miejski Dom Kultury w Piekarach Śląskich
REFRESH-INTERVAL;VALUE=DURATION:PT1H
X-Robots-Tag:noindex
X-PUBLISHED-TTL:PT1H
BEGIN:VTIMEZONE
TZID:Europe/Warsaw
BEGIN:DAYLIGHT
TZOFFSETFROM:+0100
TZOFFSETTO:+0200
TZNAME:CEST
DTSTART:20220327T010000
END:DAYLIGHT
BEGIN:STANDARD
TZOFFSETFROM:+0200
TZOFFSETTO:+0100
TZNAME:CET
DTSTART:20221030T010000
END:STANDARD
BEGIN:DAYLIGHT
TZOFFSETFROM:+0100
TZOFFSETTO:+0200
TZNAME:CEST
DTSTART:20230326T010000
END:DAYLIGHT
BEGIN:STANDARD
TZOFFSETFROM:+0200
TZOFFSETTO:+0100
TZNAME:CET
DTSTART:20231029T010000
END:STANDARD
BEGIN:DAYLIGHT
TZOFFSETFROM:+0100
TZOFFSETTO:+0200
TZNAME:CEST
DTSTART:20240331T010000
END:DAYLIGHT
BEGIN:STANDARD
TZOFFSETFROM:+0200
TZOFFSETTO:+0100
TZNAME:CET
DTSTART:20241027T010000
END:STANDARD
END:VTIMEZONE
BEGIN:VEVENT
DTSTART;TZID=Europe/Warsaw:20231206T140000
DTEND;TZID=Europe/Warsaw:20231206T180000
DTSTAMP:20260425T234011
CREATED:20231130T104057Z
LAST-MODIFIED:20231130T104903Z
UID:9433-1701871200-1701885600@www.mdk.piekary.pl
SUMMARY:SPOTKANIE Z MIKOŁAJE
DESCRIPTION:Miejski Dom Kultury oraz Urząd Miasta w Piekarach Śląskich zapraszają wszystkie dzieci na spotkanie ze św. Mikołajem\,które odbędzie się 6 grudnia w godzinach od 14.00 do 18.00 przed MDK przy ul. Bytomskiej 73. \n \nNa kilka dni przed wydarzeniem przed MDK ustawiona zostanie świąteczna skrzynka na listy\, dzieci wraz z opiekunami będą mogły wrzucać do niej listy do świętego Mikołaja. \n \n6 grudnia czekają na dzieci zabawy i animacje zorganizowane wspólnie z grupą Fluo. Wspólnie z zespołem „PROWOKALNI” zaśpiewamy kolędy i piosenki świąteczne. Rodzice będą mogli przekazać Mikołajowi prezenty\, które wręczy dzieciom. \n \nW świątecznej scenerii będziecie mogli zrobić sobie rodzinne zdjęcie z Mikołajem. Zaprosimy również na Jarmark z rękodziełem i świątecznymi potrawami. \n \nWstęp na wydarzenie jest bezpłatny.
URL:https://www.mdk.piekary.pl/wydarzenie/spotkanie-z-mikolaje/
LOCATION:Piekary Śląskie ul. Bytomska 73
ATTACH;FMTTYPE=image/jpeg:https://www.mdk.piekary.pl/wp-content/uploads/2023/11/Mikolaj-1.jpg
ORGANIZER;CN="Miejski Dom Kultury w Piekarach %C5%9Al%C4%85skich":MAILTO:impresariat@mdk.piekary.pl
END:VEVENT
BEGIN:VEVENT
DTSTART;TZID=Europe/Warsaw:20231209T180000
DTEND;TZID=Europe/Warsaw:20231209T233000
DTSTAMP:20260425T234011
CREATED:20231024T143728Z
LAST-MODIFIED:20231204T133914Z
UID:8995-1702144800-1702164600@www.mdk.piekary.pl
SUMMARY:BARBÓRKA
DESCRIPTION:
URL:https://www.mdk.piekary.pl/wydarzenie/barborka/
LOCATION:Piekary Śląskie ul. Tarnogórska 49
ATTACH;FMTTYPE=image/jpeg:https://www.mdk.piekary.pl/wp-content/uploads/2023/12/odwolanie.jpg
END:VEVENT
BEGIN:VEVENT
DTSTART;TZID=Europe/Warsaw:20231231T203000
DTEND;TZID=Europe/Warsaw:20231231T203000
DTSTAMP:20260425T234011
CREATED:20231016T070325Z
LAST-MODIFIED:20231016T094045Z
UID:8872-1704054600-1704054600@www.mdk.piekary.pl
SUMMARY:SYLWESTROWA GALA OPERETKOWO-MUSICALOWA
DESCRIPTION:KUP BILET\n\n\n\n\n \n\n\n\n\n\n\n\nZapraszamy na spotkanie spotkanie z piękną muzyką i wyjątkowymi artystami Teatru Castello. Soliści teatru z powodzeniem łączą umiejętności wokalne repertuaru operetkowego i rozrywkowego oraz prezentują najwyższy kunszt wokalny i aktorski. \n\n\n\nOprócz pięknych kreacji\, scenicznego wdzięku soliści dysponują niesłychaną łatwością \n\n\n\nw nawiązaniu kontaktu z publicznością. Podczas Nocy Sylwestrowej wykonywane zostaną najpiękniejsze utwory popularnych musicali\, ale w programie nie zabraknie duetów operetkowych. Ze sceny popłyną dźwięki utworu „Memory” z musicalu „Koty”\, z mocą zabrzmi „Upiór w operze”\, walczykowo rozbuja publiczność duet „W rytm walczyka” oraz „Usta milczą\, dusza śpiewa”\, a w szampański nastrój wprowadzi nas słynny „Czardasz Sylwii” z operetki „Księżniczka Czardasza”. Nie zabraknie także takich hitów jak „Brunetki\, blondynki”\, czy „Przetańczyć cała noc”. To zaledwie kilka tytułów\, które zostaną zaprezentowane podczas Sylwestrowej gali operetkowo-musicalowej”. W czasie przerwy publiczność zaprosimy na poczęstunek\, a o północy Nowy Rok powitamy toastem. \n\n\n\nBilety do nabycia w Biurze Obsługi Klienta MDK oraz na www.mdk.piekary.pl
URL:https://www.mdk.piekary.pl/wydarzenie/sylwestrowa-gala-operetkowo-musicalowa/
LOCATION:Piekary Śląskie ul. Bytomska 73
ATTACH;FMTTYPE=image/jpeg:https://www.mdk.piekary.pl/wp-content/uploads/2023/10/Sylwester-2023-plakat.jpg
ORGANIZER;CN="Miejski Dom Kultury w Piekarach %C5%9Al%C4%85skich":MAILTO:impresariat@mdk.piekary.pl
END:VEVENT
END:VCALENDAR