BEGIN:VCALENDAR
VERSION:2.0
PRODID:-//Miejski Dom Kultury w Piekarach Śląskich - ECPv6.15.17.1//NONSGML v1.0//EN
CALSCALE:GREGORIAN
METHOD:PUBLISH
X-WR-CALNAME:Miejski Dom Kultury w Piekarach Śląskich
X-ORIGINAL-URL:https://www.mdk.piekary.pl
X-WR-CALDESC:Wydarzenia dla Miejski Dom Kultury w Piekarach Śląskich
REFRESH-INTERVAL;VALUE=DURATION:PT1H
X-Robots-Tag:noindex
X-PUBLISHED-TTL:PT1H
BEGIN:VTIMEZONE
TZID:Europe/Warsaw
BEGIN:DAYLIGHT
TZOFFSETFROM:+0100
TZOFFSETTO:+0200
TZNAME:CEST
DTSTART:20220327T010000
END:DAYLIGHT
BEGIN:STANDARD
TZOFFSETFROM:+0200
TZOFFSETTO:+0100
TZNAME:CET
DTSTART:20221030T010000
END:STANDARD
BEGIN:DAYLIGHT
TZOFFSETFROM:+0100
TZOFFSETTO:+0200
TZNAME:CEST
DTSTART:20230326T010000
END:DAYLIGHT
BEGIN:STANDARD
TZOFFSETFROM:+0200
TZOFFSETTO:+0100
TZNAME:CET
DTSTART:20231029T010000
END:STANDARD
BEGIN:DAYLIGHT
TZOFFSETFROM:+0100
TZOFFSETTO:+0200
TZNAME:CEST
DTSTART:20240331T010000
END:DAYLIGHT
BEGIN:STANDARD
TZOFFSETFROM:+0200
TZOFFSETTO:+0100
TZNAME:CET
DTSTART:20241027T010000
END:STANDARD
END:VTIMEZONE
BEGIN:VEVENT
DTSTART;TZID=Europe/Warsaw:20231111T183000
DTEND;TZID=Europe/Warsaw:20231111T200000
DTSTAMP:20260426T010112
CREATED:20231024T145807Z
LAST-MODIFIED:20231024T145807Z
UID:8998-1699727400-1699732800@www.mdk.piekary.pl
SUMMARY:Singin'Birds
DESCRIPTION:KONCERT W RAMACH ŚWIĘTA NIEPODLEGŁOŚCI 11 LISTOPADA
URL:https://www.mdk.piekary.pl/wydarzenie/singinbirds/
LOCATION:Piekary Śląskie ul. Bytomska 73
ATTACH;FMTTYPE=image/jpeg:https://www.mdk.piekary.pl/wp-content/uploads/2023/10/11-listopada-plakat_page-0001-1-scaled.jpg
ORGANIZER;CN="Miejski Dom Kultury w Piekarach %C5%9Al%C4%85skich":MAILTO:impresariat@mdk.piekary.pl
END:VEVENT
BEGIN:VEVENT
DTSTART;TZID=Europe/Warsaw:20231124T170000
DTEND;TZID=Europe/Warsaw:20231124T170000
DTSTAMP:20260426T010112
CREATED:20231016T093900Z
LAST-MODIFIED:20231016T133138Z
UID:8878-1700845200-1700845200@www.mdk.piekary.pl
SUMMARY:NERWICA NATRĘCTW - Autobus Teatralny
DESCRIPTION:KUP BILET\n\n\n\n\n \n\n\n\n\n\n\n\nMiejski Dom Kultury w Piekarach Śląskich zaprasza 24 listopada o godzinie 17:00 na wyjazd Autobusu Teatralnego do Teatru Korez w Katowicach na spektakl pt. Nerwica Natręctw. \n\n\n\nW poczekalni doktora Czuby spotykają się ludzie z różnymi zaburzeniami i nerwicami. W oczekiwaniu na lekarza\, który rozwiąże ich problemy\, zaczynają ze sobą rozmawiać… \n\n\n\nwystępują: Grażyna Bułka\, Ewa Kubiak\, Barbara Lubos\, Hubert Bronicki\, Mirosław Neinert\, Robert Talarczyk / Dariusz Stach \n\n\n\nautor: Laurent Baffieprzekład: Witold Stefaniakreżyseria: Mirosław Neinert i Robert Talarczykscenografia i kostiumy: Marcel SławińskiWspółpraca scenograficzna: Michał FrączekWspółpraca kostiumowa: Dominika Żłobińska \n\n\n\nczas trwania: 90 minut (bez przerwy) \n\n\n\nSpektakl jest koprodukcją Teatru Korez i Teatru Śląskiego im. Stanisława Wyspiańskiego \n\n\n\nBilety: 105 zł/normalny\, 85 zł/ulgowy (zniżka ważna z legitymacją emeryta lub studenta)W cenie bilet na spektakl i przejazd.
URL:https://www.mdk.piekary.pl/wydarzenie/nerwica-natrectw-autobus-teatralny/
LOCATION:Piekary Śląskie ul. Bytomska 73
ATTACH;FMTTYPE=image/jpeg:https://www.mdk.piekary.pl/wp-content/uploads/2023/10/Autobus-teatralny-Nerwica-natrectw-plkat-scaled.jpg
ORGANIZER;CN="Miejski Dom Kultury w Piekarach %C5%9Al%C4%85skich":MAILTO:impresariat@mdk.piekary.pl
END:VEVENT
BEGIN:VEVENT
DTSTART;TZID=Europe/Warsaw:20231129T200000
DTEND;TZID=Europe/Warsaw:20231129T200000
DTSTAMP:20260426T010112
CREATED:20231010T071134Z
LAST-MODIFIED:20231016T131057Z
UID:8795-1701288000-1701288000@www.mdk.piekary.pl
SUMMARY:MACIEJ BRUSZEWSKI
DESCRIPTION:STAND-UP \n\n\n\n\n\n\n\n\nKUP BILET\n\n\n\n\n \n\n\n\n\n\n\n\n29 listopada w Miejskim Domu Kultury (Filia ul. Tarnogórska 49) w Piekarach Śląskich wystąpi Maciej Brudzewski w nowym programie „Skok na strach”! Maciej Brudzewski zaprasza na swój 4 program komediowy „Skok na strach”! W nowym materiale Maciek wyciąga na wierzch ludzkie lęki\, obawy\, paranoje aktualnego świata i bezlitośnie je wyśmiewa. Poznasz mnóstwo ciekawych postaci\, znajdziesz się w sytuacjach co najmniej zwariowanych\, by po chwili zorientować się\, że wszystkie te historie w mniejszym lub większym stopniu są właśnie o Tobie.  \n\n\n\nSupport: Paweł Bakteria  \n\n\n\nBramy: 19:30  \n\n\n\nStart: 20:00  \n\n\n\nBilety: 50 PLN Do zobaczenia!
URL:https://www.mdk.piekary.pl/wydarzenie/maciej-bruszewski/
LOCATION:Piekary Śląskie ul. Tarnogórska 49
ATTACH;FMTTYPE=image/jpeg:https://www.mdk.piekary.pl/wp-content/uploads/2023/10/skok-NA-sTRACH2.jpg
END:VEVENT
END:VCALENDAR