BEGIN:VCALENDAR
VERSION:2.0
PRODID:-//Miejski Dom Kultury w Piekarach Śląskich - ECPv6.15.17.1//NONSGML v1.0//EN
CALSCALE:GREGORIAN
METHOD:PUBLISH
X-WR-CALNAME:Miejski Dom Kultury w Piekarach Śląskich
X-ORIGINAL-URL:https://www.mdk.piekary.pl
X-WR-CALDESC:Wydarzenia dla Miejski Dom Kultury w Piekarach Śląskich
REFRESH-INTERVAL;VALUE=DURATION:PT1H
X-Robots-Tag:noindex
X-PUBLISHED-TTL:PT1H
BEGIN:VTIMEZONE
TZID:Europe/Warsaw
BEGIN:DAYLIGHT
TZOFFSETFROM:+0100
TZOFFSETTO:+0200
TZNAME:CEST
DTSTART:20220327T010000
END:DAYLIGHT
BEGIN:STANDARD
TZOFFSETFROM:+0200
TZOFFSETTO:+0100
TZNAME:CET
DTSTART:20221030T010000
END:STANDARD
BEGIN:DAYLIGHT
TZOFFSETFROM:+0100
TZOFFSETTO:+0200
TZNAME:CEST
DTSTART:20230326T010000
END:DAYLIGHT
BEGIN:STANDARD
TZOFFSETFROM:+0200
TZOFFSETTO:+0100
TZNAME:CET
DTSTART:20231029T010000
END:STANDARD
BEGIN:DAYLIGHT
TZOFFSETFROM:+0100
TZOFFSETTO:+0200
TZNAME:CEST
DTSTART:20240331T010000
END:DAYLIGHT
BEGIN:STANDARD
TZOFFSETFROM:+0200
TZOFFSETTO:+0100
TZNAME:CET
DTSTART:20241027T010000
END:STANDARD
END:VTIMEZONE
BEGIN:VEVENT
DTSTART;TZID=Europe/Warsaw:20230918T183000
DTEND;TZID=Europe/Warsaw:20230918T183000
DTSTAMP:20260426T034350
CREATED:20230905T065204Z
LAST-MODIFIED:20230905T065204Z
UID:8405-1695061800-1695061800@www.mdk.piekary.pl
SUMMARY:KURS RYSUNKU I MALARSTWA
DESCRIPTION:Kreatywny program zajęć łączący naukę technik malarskich z rozwojem nieskrępowanej wyobraźni uczestników. Kurs hobbystyczny dla dzieci i dorosłych w każdym wieku\, którzy chcą rozwijać swoje umiejętności artystyczne. Zajęcia pomogą w przygotowaniach do egzaminów na uczelnie wyższe oraz do liceów plastycznych. \n\n\n\nPierwsze spotkanie odbędzie się już 18 września o godzinie 18.30 w Pracowni plastycznej Miejskiego Domu Kultury w Piekarach Śląskich. \n\n\n\nAby rozpocząć naukę\, nie jest konieczne wcześniejsze doświadczenie z malarstwem. Uczymy od podstaw. \n\n\n\nKurs prowadzi artystka plastyk\, absolwentka Akademii Sztuk Pięknych w Katowicach – Elżbieta Pawełczyk. \n\n\n\nKoszt: 160 zł miesięcznie (w cenie wliczone są niezbędne materiały). \n\n\n\nZajęcia odbywają się w poniedziałki od 18.30 do 20.00. W celu zapisania się na kurs prosimy o kontakt telefoniczny pod nr tel. 32 287 28 80 wew. 32 lub w wiadomości e-mail: impresariat@mdk.piekary.pl.
URL:https://www.mdk.piekary.pl/wydarzenie/kurs-rysunku-i-malarstwa-2/
LOCATION:Piekary Śląskie ul. Bytomska 73
ATTACH;FMTTYPE=image/jpeg:https://www.mdk.piekary.pl/wp-content/uploads/2023/09/Kurs-plastyczny-na-strone-1.jpg
ORGANIZER;CN="Miejski Dom Kultury w Piekarach %C5%9Al%C4%85skich":MAILTO:impresariat@mdk.piekary.pl
END:VEVENT
BEGIN:VEVENT
DTSTART;TZID=Europe/Warsaw:20230924T170000
DTEND;TZID=Europe/Warsaw:20230924T170000
DTSTAMP:20260426T034350
CREATED:20230904T113757Z
LAST-MODIFIED:20230904T113757Z
UID:8393-1695574800-1695574800@www.mdk.piekary.pl
SUMMARY:Orkiestra Chorzowski Brass Band - 95 lat na scenie. Koncert Jubileuszowy
DESCRIPTION:Orkiestra „Chorzowski Brass Band” w bieżącym 2023 roku obchodzi swoją 95 rocznicę powstania. \n\n\n\n24 września o godz. 17.00 zapraszamy na Koncert Jubileuszowy do Miejskiego Domu Kultury w Piekarach Śląskich. \n\n\n\nW programie usłyszą Państwo utwory znanych wykonawców takich jak: Gleen Miller\, Louis Armstrong\, Frank Sinatra\, James Last\, Barbra Streisand\, Demis Roussos\, Leonard Cohen\, Johnn Lenon\, José Carreras\, zespołów Queen czy ABBA. \n\n\n\nW koncercie wystąpią dla Państwa: \n\n\n\nAnna Jaskółka-Haśnik – sopran\, \n\n\n\nWeronika Kowolik – sopran\, \n\n\n\nMagdalena Rabanda \n\n\n\nBEZPŁATNE WEJŚCIÓWKI DO ODBIORU W MDK OD PONIEDZIAŁKU 4 WRZEŚNIA!!! \n\n\n\n„Chorzowski Brass Band” aktualnie koncertuje pod batutą Andrzeja Safader\, który stara się ciągle wzbogacić repertuar i utrzymywać dobry poziom orkiestry. Obecnie w repertuarze znajdują się operowe uwertury\, muzyka sakralna\, muzyka filmowa\, popularne utwory ludowe\, muzyka taneczna\, standardy muzyki rozrywkowej\, bogaty wybór walców\, polek i marszów oraz przepięknych kolęd. Wiele utworów\, które obecnie są wykonywane mają swoje opracowanie instrumentalne. Coraz częściej orkiestrze podczas koncertów towarzyszą wokaliści\, którzy uświetniają te wydarzenia.
URL:https://www.mdk.piekary.pl/wydarzenie/orkiestra-chorzowski-brass-band-95-lat-na-scenie-koncert-jubileuszowy/
LOCATION:Piekary Śląskie ul. Bytomska 73
ATTACH;FMTTYPE=image/jpeg:https://www.mdk.piekary.pl/wp-content/uploads/2023/09/Brass-plakat.jpg
ORGANIZER;CN="Miejski Dom Kultury w Piekarach %C5%9Al%C4%85skich":MAILTO:impresariat@mdk.piekary.pl
END:VEVENT
BEGIN:VEVENT
DTSTART;TZID=Europe/Warsaw:20230928T093000
DTEND;TZID=Europe/Warsaw:20230928T110000
DTSTAMP:20260426T034350
CREATED:20230926T081048Z
LAST-MODIFIED:20230926T081347Z
UID:8663-1695893400-1695898800@www.mdk.piekary.pl
SUMMARY:BEZPIECZNE PIEKARY
DESCRIPTION:AKCJA PROFILAKTYCZNA DLA DZIECI \n\n\n\n\n\n28 września\, ruszamy z kolejną akcją profilaktyczną pn. „Bezpieczne Piekary”. Podczas spotkania wystąpi Centrum Uśmiechu – Fruktaki Show z programem „Bezpiecznie na drodze”.  \n\n\n\n\n\n\n\nDo akcji włączyli się: \n\n\n\nMiasto Piekary Śląskie \n\n\n\nPolicja Piekary Śląskie \n\n\n\n Straż Miejska Piekary Śląskie \n\n\n\n Wodne Ochotnicze Pogotowie rachunkowe w Piekarach Śląskie \n\n\n\nPartnerzy wydarzenia: \n\n\n\nPanawit \n\n\n\nMETRO Piekary Śląskie \n\n\n\nZGK Piekary Śląskie \n\n\n\n Dziękujemy !
URL:https://www.mdk.piekary.pl/wydarzenie/bezpieczne-piekary/
LOCATION:Piekary Śląskie ul. Bytomska 73
ATTACH;FMTTYPE=image/jpeg:https://www.mdk.piekary.pl/wp-content/uploads/2023/09/BEZPIECZNE-PIEKARY-Plakat.jpg
ORGANIZER;CN="Miejski Dom Kultury w Piekarach %C5%9Al%C4%85skich":MAILTO:impresariat@mdk.piekary.pl
END:VEVENT
END:VCALENDAR