BEGIN:VCALENDAR
VERSION:2.0
PRODID:-//Miejski Dom Kultury w Piekarach Śląskich - ECPv6.15.17.1//NONSGML v1.0//EN
CALSCALE:GREGORIAN
METHOD:PUBLISH
X-ORIGINAL-URL:https://www.mdk.piekary.pl
X-WR-CALDESC:Wydarzenia dla Miejski Dom Kultury w Piekarach Śląskich
REFRESH-INTERVAL;VALUE=DURATION:PT1H
X-Robots-Tag:noindex
X-PUBLISHED-TTL:PT1H
BEGIN:VTIMEZONE
TZID:Europe/Warsaw
BEGIN:DAYLIGHT
TZOFFSETFROM:+0100
TZOFFSETTO:+0200
TZNAME:CEST
DTSTART:20250330T010000
END:DAYLIGHT
BEGIN:STANDARD
TZOFFSETFROM:+0200
TZOFFSETTO:+0100
TZNAME:CET
DTSTART:20251026T010000
END:STANDARD
BEGIN:DAYLIGHT
TZOFFSETFROM:+0100
TZOFFSETTO:+0200
TZNAME:CEST
DTSTART:20260329T010000
END:DAYLIGHT
BEGIN:STANDARD
TZOFFSETFROM:+0200
TZOFFSETTO:+0100
TZNAME:CET
DTSTART:20261025T010000
END:STANDARD
BEGIN:DAYLIGHT
TZOFFSETFROM:+0100
TZOFFSETTO:+0200
TZNAME:CEST
DTSTART:20270328T010000
END:DAYLIGHT
BEGIN:STANDARD
TZOFFSETFROM:+0200
TZOFFSETTO:+0100
TZNAME:CET
DTSTART:20271031T010000
END:STANDARD
END:VTIMEZONE
BEGIN:VEVENT
DTSTART;TZID=Europe/Warsaw:20260524T173000
DTEND;TZID=Europe/Warsaw:20260524T190000
DTSTAMP:20260421T015739
CREATED:20260202T091638Z
LAST-MODIFIED:20260317T130538Z
UID:15051-1779643800-1779649200@www.mdk.piekary.pl
SUMMARY:Dzień Matki z Claudią i Kasią Chwołka
DESCRIPTION:KUP BILET\n\n\n\n\n \n\n\n\n\n\n\n\nZapraszamy na wyjątkowe wydarzenie muzyczne\, które połączy świętowanie najpiękniejszego dnia w roku – Dnia Matki – z uroczystym Jubileuszem 25-lecia pracy artystycznej Claudii i Kasi Chwołka! To będzie wieczór pełen wzruszeń\, śląskiej gościnności i najlepszej muzyki szlagierowej.Podczas koncertu odbędzie się również wyczekiwana premiera i promocja nowej płyty artystek. To idealna okazja\, aby jako jedni z pierwszych usłyszeć nowe utwory na żywo! Goście Specjalni: Brygida i Robert Łukowski\, Golden Mix\, Ania Drabek.Ważne informacje: Koncert jest rejestrowany przez telewizję\, więc mają Państwo szansę stać się częścią wyjątkowego nagrania dla Szlagier.TV!Nie przegap okazji na wspólne świętowanie w gronie najbliższych. Podaruj Mamie (i sobie!) niezapomniany wieczór pełen radości i muzycznych niespodzianek.Zarezerwuj bilet już teraz i świętuj razem z nami! Patronat medialny: Radio BEST
URL:https://www.mdk.piekary.pl/wydarzenie/dzien-matki-z-claudia-i-kasia-chwolka/
LOCATION:Piekary Śląskie ul. Bytomska 73
ATTACH;FMTTYPE=image/jpeg:https://www.mdk.piekary.pl/wp-content/uploads/2026/02/plakat-strona.jpg
ORGANIZER;CN="Miejski Dom Kultury w Piekarach %C5%9Al%C4%85skich":MAILTO:impresariat@mdk.piekary.pl
END:VEVENT
END:VCALENDAR