BEGIN:VCALENDAR
VERSION:2.0
PRODID:-//Miejski Dom Kultury w Piekarach Śląskich - ECPv6.15.17.1//NONSGML v1.0//EN
CALSCALE:GREGORIAN
METHOD:PUBLISH
X-ORIGINAL-URL:https://www.mdk.piekary.pl
X-WR-CALDESC:Wydarzenia dla Miejski Dom Kultury w Piekarach Śląskich
REFRESH-INTERVAL;VALUE=DURATION:PT1H
X-Robots-Tag:noindex
X-PUBLISHED-TTL:PT1H
BEGIN:VTIMEZONE
TZID:Europe/Warsaw
BEGIN:DAYLIGHT
TZOFFSETFROM:+0100
TZOFFSETTO:+0200
TZNAME:CEST
DTSTART:20250330T010000
END:DAYLIGHT
BEGIN:STANDARD
TZOFFSETFROM:+0200
TZOFFSETTO:+0100
TZNAME:CET
DTSTART:20251026T010000
END:STANDARD
BEGIN:DAYLIGHT
TZOFFSETFROM:+0100
TZOFFSETTO:+0200
TZNAME:CEST
DTSTART:20260329T010000
END:DAYLIGHT
BEGIN:STANDARD
TZOFFSETFROM:+0200
TZOFFSETTO:+0100
TZNAME:CET
DTSTART:20261025T010000
END:STANDARD
BEGIN:DAYLIGHT
TZOFFSETFROM:+0100
TZOFFSETTO:+0200
TZNAME:CEST
DTSTART:20270328T010000
END:DAYLIGHT
BEGIN:STANDARD
TZOFFSETFROM:+0200
TZOFFSETTO:+0100
TZNAME:CET
DTSTART:20271031T010000
END:STANDARD
END:VTIMEZONE
BEGIN:VEVENT
DTSTART;TZID=Europe/Warsaw:20260317T080000
DTEND;TZID=Europe/Warsaw:20260317T170000
DTSTAMP:20260426T043846
CREATED:20260317T125708Z
LAST-MODIFIED:20260317T132431Z
UID:15096-1773734400-1773766800@www.mdk.piekary.pl
SUMMARY:XXXII Regionalny Przegląd Pieśni "Śląskie Śpiewanie" im. prof. Adolfa Dygacza
DESCRIPTION:XXXII Regionalny Przegląd Pieśni „Śląskie Śpiewanie” im. prof. Adolfa Dygacza \n\n\n\nWieloletnia tradycja Przeglądu\, oparta na zachowaniu cech autentyczności kultury muzycznej Górnego Śląska w jego różnych częściach\, stanowi o silnym nurcie współczesnej idei kultywowania regionalnych wartości i lokalnych tradycji oraz o motywacji pokoleń do ocalenia kulturowych i muzycznych wartości naszego regionu. Celem Przeglądu jest umacnianie więzi społecznych poprzez rozwijanie postaw poszanowania dziedzictwa kulturowego wraz z propagowaniem\, odtwarzaniem i przekazywaniem regionalnych wartości muzycznych Górnego Śląska. \n\n\n\nFormuła Przeglądu opiera się na prezentacjach scenicznych regionalnych tradycji muzycznych – pieśni\, tańców i zabaw wykonywanych przez dzieci\, młodzież i dorosłych. 20 września 2026 roku w siedzibie Zespołu „Śląsk” w Koszęcinie odbędzie się etap Finałowy XXXII Regionalnego Przeglądu Pieśni „Śląskie Śpiewanie” im. prof. Adolfa Dygacza. \n\n\n\nCelem Przeglądu jest upowszechnianie i popularyzacja tradycyjnych pieśni śląskich\, a także wzmocnienie poczucia wspólnoty narodowej i świadomości historycznej Polaków. Założenia programowe 32. edycji Przeglądu odwołują się do tradycji i historii Górnego Śląska. Prezentacje sceniczne utworów mają za zadanie popularyzację twórczości Stanisława Hadyny\, poprzez uwzględnienie w repertuarze jego pieśni ludowych opracowanych dla Zespołu „Śląsk”\, a wpisujących się ponad 70. lat w tradycje muzyczne regionu. \n\n\n\nZapraszamy do wzięcia udziału w kolejnej edycji wydarzenia\, zapoznania się z tegorocznym Regulaminem Przeglądu i włączenia się w utrwalanie tradycji muzycznych Górnego Śląska jako dorobku dziedzictwa narodowego. \n\n\n\n4. REGULAMIN 2026Pobierz
URL:https://www.mdk.piekary.pl/wydarzenie/xxxii-regionalny-przeglad-piesni-slaskie-spiewanie-im-prof-adolfa-dygacza/
ATTACH;FMTTYPE=image/jpeg:https://www.mdk.piekary.pl/wp-content/uploads/2026/03/Slaskie-Spiewanie-2026_Plakat.jpg
ORGANIZER;CN="Miejski Dom Kultury w Piekarach %C5%9Al%C4%85skich":MAILTO:impresariat@mdk.piekary.pl
END:VEVENT
END:VCALENDAR