BEGIN:VCALENDAR
VERSION:2.0
PRODID:-//Miejski Dom Kultury w Piekarach Śląskich - ECPv6.15.17.1//NONSGML v1.0//EN
CALSCALE:GREGORIAN
METHOD:PUBLISH
X-ORIGINAL-URL:https://www.mdk.piekary.pl
X-WR-CALDESC:Wydarzenia dla Miejski Dom Kultury w Piekarach Śląskich
REFRESH-INTERVAL;VALUE=DURATION:PT1H
X-Robots-Tag:noindex
X-PUBLISHED-TTL:PT1H
BEGIN:VTIMEZONE
TZID:Europe/Warsaw
BEGIN:DAYLIGHT
TZOFFSETFROM:+0100
TZOFFSETTO:+0200
TZNAME:CEST
DTSTART:20240331T010000
END:DAYLIGHT
BEGIN:STANDARD
TZOFFSETFROM:+0200
TZOFFSETTO:+0100
TZNAME:CET
DTSTART:20241027T010000
END:STANDARD
BEGIN:DAYLIGHT
TZOFFSETFROM:+0100
TZOFFSETTO:+0200
TZNAME:CEST
DTSTART:20250330T010000
END:DAYLIGHT
BEGIN:STANDARD
TZOFFSETFROM:+0200
TZOFFSETTO:+0100
TZNAME:CET
DTSTART:20251026T010000
END:STANDARD
BEGIN:DAYLIGHT
TZOFFSETFROM:+0100
TZOFFSETTO:+0200
TZNAME:CEST
DTSTART:20260329T010000
END:DAYLIGHT
BEGIN:STANDARD
TZOFFSETFROM:+0200
TZOFFSETTO:+0100
TZNAME:CET
DTSTART:20261025T010000
END:STANDARD
END:VTIMEZONE
BEGIN:VEVENT
DTSTART;TZID=Europe/Warsaw:20250627T110000
DTEND;TZID=Europe/Warsaw:20250627T180000
DTSTAMP:20260424T103409
CREATED:20250626T093041Z
LAST-MODIFIED:20250626T093042Z
UID:14699-1751022000-1751047200@www.mdk.piekary.pl
SUMMARY:Z SERCA REGIONU – KIERMASZ LOKALNEGO RĘKODZIEŁA
DESCRIPTION:Teren przed Miejskim Domem Kultury w Piekarach Śląskich\, ul. Bytomska 73 \n\n\n\n\n\n \n\n\n\n\n\n\n\nZapraszamy na wyjątkowe wydarzenie\, które łączy pasję\, tradycję i lokalny talent! Spotkajmy się tam\, gdzie serce regionu bije najmocniej – wśród twórców\, rzemieślników i miłośników piękna. \n\n\n\n Spotkania z twórcami \n\n\n\n Regionalna atmosfera i wyjątkowy klimat \n\n\n\n Otwartość\, kreatywność i inspiracja \n\n\n\nPomysłodawcy: \n\n\n\nNatalia Ciupińska-Szoska\, \n\n\n\nPrzewodnicząca Komisji Edukacji\, Kultury i Sportu oraz lokalni artyści i rzemieślnicy \n\n\n\n Organizator: Miejski Dom Kultury w Piekarach Śląskich \n\n\n\n Odwiedź nas\, wspieraj lokalnych twórców i poczuj prawdziwe serce regionu! \n\n\n\nTeren przed Miejskim Domem Kultury w Piekarach Śląskich\, ul. Bytomska 73
URL:https://www.mdk.piekary.pl/wydarzenie/z-serca-regionu-kiermasz-lokalnego-rekodziela/
LOCATION:Piekary Śląskie ul. Bytomska 73
ATTACH;FMTTYPE=image/jpeg:https://www.mdk.piekary.pl/wp-content/uploads/2025/06/Kiermasz-A3-scaled.jpg
ORGANIZER;CN="Miejski Dom Kultury w Piekarach %C5%9Al%C4%85skich":MAILTO:impresariat@mdk.piekary.pl
END:VEVENT
END:VCALENDAR