BEGIN:VCALENDAR
VERSION:2.0
PRODID:-//Miejski Dom Kultury w Piekarach Śląskich - ECPv6.15.17.1//NONSGML v1.0//EN
CALSCALE:GREGORIAN
METHOD:PUBLISH
X-ORIGINAL-URL:https://www.mdk.piekary.pl
X-WR-CALDESC:Wydarzenia dla Miejski Dom Kultury w Piekarach Śląskich
REFRESH-INTERVAL;VALUE=DURATION:PT1H
X-Robots-Tag:noindex
X-PUBLISHED-TTL:PT1H
BEGIN:VTIMEZONE
TZID:Europe/Warsaw
BEGIN:DAYLIGHT
TZOFFSETFROM:+0100
TZOFFSETTO:+0200
TZNAME:CEST
DTSTART:20240331T010000
END:DAYLIGHT
BEGIN:STANDARD
TZOFFSETFROM:+0200
TZOFFSETTO:+0100
TZNAME:CET
DTSTART:20241027T010000
END:STANDARD
BEGIN:DAYLIGHT
TZOFFSETFROM:+0100
TZOFFSETTO:+0200
TZNAME:CEST
DTSTART:20250330T010000
END:DAYLIGHT
BEGIN:STANDARD
TZOFFSETFROM:+0200
TZOFFSETTO:+0100
TZNAME:CET
DTSTART:20251026T010000
END:STANDARD
BEGIN:DAYLIGHT
TZOFFSETFROM:+0100
TZOFFSETTO:+0200
TZNAME:CEST
DTSTART:20260329T010000
END:DAYLIGHT
BEGIN:STANDARD
TZOFFSETFROM:+0200
TZOFFSETTO:+0100
TZNAME:CET
DTSTART:20261025T010000
END:STANDARD
END:VTIMEZONE
BEGIN:VEVENT
DTSTART;TZID=Europe/Warsaw:20250615T180000
DTEND;TZID=Europe/Warsaw:20250615T200000
DTSTAMP:20260424T103359
CREATED:20241003T112308Z
LAST-MODIFIED:20250424T172231Z
UID:12561-1750010400-1750017600@www.mdk.piekary.pl
SUMMARY:Kabaret Trzecia strona medalu
DESCRIPTION:Uwaga \n\n\n\nZe względu na ogłoszoną przez Prezydenta RP żałobę narodową w dniu 26 kwietnia\, spektakl Kabaretu Trzecia Strona Medalu zostaje przeniesiony na 15 czerwca 2025 r. na godzinę 18:00. \n\n\n\n\n\n\nBILETYNA.PL\n\n\n\n\n \n\n\n\n\n\n\n\nRYJEK prezentuje to nowy cykl\, który zabiera ducha Rybnickiej Jesieni Kabaretowej w podróż poza Rybnik\, umożliwiając publiczności w innych miastach spotkanie z najlepszymi artystami festiwalu. To wyjątkowa okazja\, by doświadczyć kabaretowej atmosfery i humoru na najwyższym poziomie.🐽Wkrótce w ramach tego cyklu zaprezentuje się Kabaret Trzecia Strona Medalu\, który zdobył uznanie podczas Ryjka\, zwyciężając dwukrotnie w Ryjkowym Konkursie na Boczku (🏅2022 i 🏅2023)\, a w Konkursie Głównym zajmując trzecie miejsce (🏅2024). 🔥Tym razem wystąpią ze swoim premierowym programem „Zuchwałość rzeczy marnych”\, pełnym świeżych skeczy\, błyskotliwych żartów i niepowtarzalnej energii.🤩Wydarzenie objęte Ryjkową gwarancją śmieszności!
URL:https://www.mdk.piekary.pl/wydarzenie/kabaret-trzecia-strona-medalu/
LOCATION:Piekary Śląskie ul. Bytomska 73
ATTACH;FMTTYPE=image/jpeg:https://www.mdk.piekary.pl/wp-content/uploads/2024/10/34a7c552-bd27-40ef-8eec-0b450bf67e74.jpg
ORGANIZER;CN="Miejski Dom Kultury w Piekarach %C5%9Al%C4%85skich":MAILTO:impresariat@mdk.piekary.pl
END:VEVENT
END:VCALENDAR