BEGIN:VCALENDAR
VERSION:2.0
PRODID:-//Miejski Dom Kultury w Piekarach Śląskich - ECPv6.15.17.1//NONSGML v1.0//EN
CALSCALE:GREGORIAN
METHOD:PUBLISH
X-WR-CALNAME:Miejski Dom Kultury w Piekarach Śląskich
X-ORIGINAL-URL:https://www.mdk.piekary.pl
X-WR-CALDESC:Wydarzenia dla Miejski Dom Kultury w Piekarach Śląskich
REFRESH-INTERVAL;VALUE=DURATION:PT1H
X-Robots-Tag:noindex
X-PUBLISHED-TTL:PT1H
BEGIN:VTIMEZONE
TZID:Europe/Warsaw
BEGIN:DAYLIGHT
TZOFFSETFROM:+0100
TZOFFSETTO:+0200
TZNAME:CEST
DTSTART:20240331T010000
END:DAYLIGHT
BEGIN:STANDARD
TZOFFSETFROM:+0200
TZOFFSETTO:+0100
TZNAME:CET
DTSTART:20241027T010000
END:STANDARD
BEGIN:DAYLIGHT
TZOFFSETFROM:+0100
TZOFFSETTO:+0200
TZNAME:CEST
DTSTART:20250330T010000
END:DAYLIGHT
BEGIN:STANDARD
TZOFFSETFROM:+0200
TZOFFSETTO:+0100
TZNAME:CET
DTSTART:20251026T010000
END:STANDARD
BEGIN:DAYLIGHT
TZOFFSETFROM:+0100
TZOFFSETTO:+0200
TZNAME:CEST
DTSTART:20260329T010000
END:DAYLIGHT
BEGIN:STANDARD
TZOFFSETFROM:+0200
TZOFFSETTO:+0100
TZNAME:CET
DTSTART:20261025T010000
END:STANDARD
END:VTIMEZONE
BEGIN:VEVENT
DTSTART;TZID=Europe/Warsaw:20250326T000000
DTEND;TZID=Europe/Warsaw:20250327T235959
DTSTAMP:20260424T191840
CREATED:20241003T115734Z
LAST-MODIFIED:20250110T200354Z
UID:12564-1742947200-1743119999@www.mdk.piekary.pl
SUMMARY:Kabaret ZDOLNI I SKROMNI
DESCRIPTION:Z programem Da się zrozumieć 2025″ \n\n\n\n\n\n\n26.03.2025 GODZINA 17:30\n\n\n\n\n \n\n\n\n\n26.03.2025 GODZIAĘ 20:30\n\n\n\n\n \n\n\n\n\n27.03.2025 GODZINA 17.30\n\n\n\n\n \n\n\n\n\n27.03.2025 GODZINA 20.30\n\n\n\n\n \n\n\n\n\n\n\n\nZdolni i Skromni – „Da się zrozumieć” 2025 – więcej informacji \n\n\n\nEwelina (Sztefa)\, Łukasz (Brajan)\, Olga (blondynka z kabaretów)\, Andrzej (przystojniak z telewizji). Ta wesoła banda znana z Tik-Toka\, Facebooka i telewizji\, kolejny raz rusza w trasę. Wiosną na Śląsku\, jesienią w całej Polsce. Będą żartować. Będą szaleć. A przy tym\, nie będą brać jeńców. Wybawią was do ostatniej kropli śmiechu! „Da się zrozumieć”\, czyli po śląsku „połonaczy się to”. \n\n\n\nW TYM PROGRAMIE WSZYSTKO BĘDZIE NOWE! Skecze nowe\, piosenki nowe\, zapowiedzi nowe. Jak zawsze znajdzie się co najmniej jeden śląski skecz o przygodach Sztefy i Brajana. Jak zawsze historie będą bliskie prawdziwemu życiu. Jak zawsze wszyscy będą Zdolni i Skromni. O czym będzie program? O tym\, że w tych nieszczęsnych czasach pełnych podziałów\, kłótni i nieporozumień\, „da się zrozumieć” drugiego człowieka. Nieważne\, czy jest Ślązakiem\, Czechem\, mechanikiem\, dekarzem\, urzędnikiem. Nieważne na kogo głosuje i z kim śpi. Odrobina dobrej woli i wszystko „Da się zrozumieć”.
URL:https://www.mdk.piekary.pl/wydarzenie/kabaret-zdolni-i-skromni/
LOCATION:Piekary Śląskie ul. Bytomska 73
ATTACH;FMTTYPE=image/jpeg:https://www.mdk.piekary.pl/wp-content/uploads/2024/10/2025_1024x1024.jpg
ORGANIZER;CN="Miejski Dom Kultury w Piekarach %C5%9Al%C4%85skich":MAILTO:impresariat@mdk.piekary.pl
END:VEVENT
END:VCALENDAR