BEGIN:VCALENDAR
VERSION:2.0
PRODID:-//Miejski Dom Kultury w Piekarach Śląskich - ECPv6.15.17.1//NONSGML v1.0//EN
CALSCALE:GREGORIAN
METHOD:PUBLISH
X-WR-CALNAME:Miejski Dom Kultury w Piekarach Śląskich
X-ORIGINAL-URL:https://www.mdk.piekary.pl
X-WR-CALDESC:Wydarzenia dla Miejski Dom Kultury w Piekarach Śląskich
REFRESH-INTERVAL;VALUE=DURATION:PT1H
X-Robots-Tag:noindex
X-PUBLISHED-TTL:PT1H
BEGIN:VTIMEZONE
TZID:Europe/Warsaw
BEGIN:DAYLIGHT
TZOFFSETFROM:+0100
TZOFFSETTO:+0200
TZNAME:CEST
DTSTART:20240331T010000
END:DAYLIGHT
BEGIN:STANDARD
TZOFFSETFROM:+0200
TZOFFSETTO:+0100
TZNAME:CET
DTSTART:20241027T010000
END:STANDARD
BEGIN:DAYLIGHT
TZOFFSETFROM:+0100
TZOFFSETTO:+0200
TZNAME:CEST
DTSTART:20250330T010000
END:DAYLIGHT
BEGIN:STANDARD
TZOFFSETFROM:+0200
TZOFFSETTO:+0100
TZNAME:CET
DTSTART:20251026T010000
END:STANDARD
BEGIN:DAYLIGHT
TZOFFSETFROM:+0100
TZOFFSETTO:+0200
TZNAME:CEST
DTSTART:20260329T010000
END:DAYLIGHT
BEGIN:STANDARD
TZOFFSETFROM:+0200
TZOFFSETTO:+0100
TZNAME:CET
DTSTART:20261025T010000
END:STANDARD
END:VTIMEZONE
BEGIN:VEVENT
DTSTART;TZID=Europe/Warsaw:20250308T193000
DTEND;TZID=Europe/Warsaw:20250308T210000
DTSTAMP:20260425T010307
CREATED:20250213T092720Z
LAST-MODIFIED:20250213T105206Z
UID:13829-1741462200-1741467600@www.mdk.piekary.pl
SUMMARY:Śpiewacy dla Pań w skocznej operetce
DESCRIPTION:Koncert z okazji Dnia Kobiet \n\n\n\n\n\n\n\n\nKUP BILET\n\n\n\n\n \n\n\n\n\n\n\n\nZapraszamy na niezwykłe wydarzenie muzyczne. Koncert na Dzień Kobiet pt. „Śpiewacy dla Pań – w skocznej operetce” przeniesie Państwa w świat najpiękniejszych arii operetkowych oraz przebojów muzyki filmowej i rozrywkowej. \n\n\n\nŚpiewacy o przepięknych\, wielkich głosach – Michał DZIEDZIC tenor\, Michał RYGUŁA tenor oraz Sebastian GABRYŚ baryton – zaprezentują niezapomniane interpretacje m.in. takich utworów jak: \n\n\n\n🎶 O sole mio – neapolitański klasyk🎶 Granada – Agustín Lara🎶 Brunetki\, blondynki – utwór który stał się światowym hitem dzięki wykonaniu Jana Kiepury🎶 Wielka sława to żart – Johann Struss i ponadczasowa operetka „Baron Cygański”  \n\n\n\n🎶 Gdybym był bogaty – musicalowy przebój ze znanego wszystkim „Skrzypka na dachu”.   \n\n\n\nW towarzystwie znakomitego pianisty Michała GOŁAWSKIEGO (który szykuje dla Pań specjalną niespodziankę)\, artyści dostarczą publiczności niezapomnianych wrażeń\, łącząc elegancję muzyki klasycznej z jej lekkością i finezją. Wieczór pełen wzruszeń\, humoru i mistrzowskich interpretacji\, poprowadzi śpiewający konferansjer Michał KUKLIŃSKI. Gwarantujemy że ten koncert pozostanie w Państwa pamięci na długo\, a już na pewno w pamięci Pań!  \n\n\n\n\n\n\n\n\n\n\n\n\n\n\n\nEvoto
URL:https://www.mdk.piekary.pl/wydarzenie/spiewacy-dla-pan-w-skocznej-operetce/
LOCATION:Piekary Śląskie ul. Bytomska 73
ATTACH;FMTTYPE=image/jpeg:https://www.mdk.piekary.pl/wp-content/uploads/2025/02/operafixe_plakat_piekary_slaskie_A3_v01_digital-1-scaled.jpg
ORGANIZER;CN="Miejski Dom Kultury w Piekarach %C5%9Al%C4%85skich":MAILTO:impresariat@mdk.piekary.pl
END:VEVENT
END:VCALENDAR