BEGIN:VCALENDAR
VERSION:2.0
PRODID:-//Miejski Dom Kultury w Piekarach Śląskich - ECPv6.15.17.1//NONSGML v1.0//EN
CALSCALE:GREGORIAN
METHOD:PUBLISH
X-WR-CALNAME:Miejski Dom Kultury w Piekarach Śląskich
X-ORIGINAL-URL:https://www.mdk.piekary.pl
X-WR-CALDESC:Wydarzenia dla Miejski Dom Kultury w Piekarach Śląskich
REFRESH-INTERVAL;VALUE=DURATION:PT1H
X-Robots-Tag:noindex
X-PUBLISHED-TTL:PT1H
BEGIN:VTIMEZONE
TZID:Europe/Warsaw
BEGIN:DAYLIGHT
TZOFFSETFROM:+0100
TZOFFSETTO:+0200
TZNAME:CEST
DTSTART:20240331T010000
END:DAYLIGHT
BEGIN:STANDARD
TZOFFSETFROM:+0200
TZOFFSETTO:+0100
TZNAME:CET
DTSTART:20241027T010000
END:STANDARD
BEGIN:DAYLIGHT
TZOFFSETFROM:+0100
TZOFFSETTO:+0200
TZNAME:CEST
DTSTART:20250330T010000
END:DAYLIGHT
BEGIN:STANDARD
TZOFFSETFROM:+0200
TZOFFSETTO:+0100
TZNAME:CET
DTSTART:20251026T010000
END:STANDARD
BEGIN:DAYLIGHT
TZOFFSETFROM:+0100
TZOFFSETTO:+0200
TZNAME:CEST
DTSTART:20260329T010000
END:DAYLIGHT
BEGIN:STANDARD
TZOFFSETFROM:+0200
TZOFFSETTO:+0100
TZNAME:CET
DTSTART:20261025T010000
END:STANDARD
END:VTIMEZONE
BEGIN:VEVENT
DTSTART;TZID=Europe/Warsaw:20250221T170000
DTEND;TZID=Europe/Warsaw:20250221T190000
DTSTAMP:20260425T023456
CREATED:20250205T094258Z
LAST-MODIFIED:20250205T101652Z
UID:13792-1740157200-1740164400@www.mdk.piekary.pl
SUMMARY:Bal Przebierańców dla dzieci
DESCRIPTION:KUP BILET\n\n\n\n\n \n\n\n\n\n\n\n\nSzalone pląsy\, kolorowe przebrania\, świetna zabawa i słodki poczęstunek– tak zapowiada się Bal przebierańców\, na który zapraszamy wszystkie dzieci do Filii Miejskiego Domu Kulturyw Piekarach Śląskich. \n\n\n\nBal prowadzony przez profesjonalnych animatorów odbędzie się 21 lutego w godz. 17.00 – 19.00 w Filii MDK w Kozłowej Górze przy ul. Tarnogórska 49. \n\n\n\nW cenie biletu: \n\n\n\n\nudział w balu\n\n\n\nsłodki poczęstunek\n\n\n\nwstęp dla opiekuna
URL:https://www.mdk.piekary.pl/wydarzenie/bal-przebierancow-dla-dzieci-3/
LOCATION:Piekary Śląskie ul. Tarnogórska 49
ATTACH;FMTTYPE=image/jpeg:https://www.mdk.piekary.pl/wp-content/uploads/2025/02/Bal-przebierancow-2025-plakat.jpg
END:VEVENT
END:VCALENDAR