BEGIN:VCALENDAR
VERSION:2.0
PRODID:-//Miejski Dom Kultury w Piekarach Śląskich - ECPv6.15.17.1//NONSGML v1.0//EN
CALSCALE:GREGORIAN
METHOD:PUBLISH
X-WR-CALNAME:Miejski Dom Kultury w Piekarach Śląskich
X-ORIGINAL-URL:https://www.mdk.piekary.pl
X-WR-CALDESC:Wydarzenia dla Miejski Dom Kultury w Piekarach Śląskich
REFRESH-INTERVAL;VALUE=DURATION:PT1H
X-Robots-Tag:noindex
X-PUBLISHED-TTL:PT1H
BEGIN:VTIMEZONE
TZID:Europe/Warsaw
BEGIN:DAYLIGHT
TZOFFSETFROM:+0100
TZOFFSETTO:+0200
TZNAME:CEST
DTSTART:20240331T010000
END:DAYLIGHT
BEGIN:STANDARD
TZOFFSETFROM:+0200
TZOFFSETTO:+0100
TZNAME:CET
DTSTART:20241027T010000
END:STANDARD
BEGIN:DAYLIGHT
TZOFFSETFROM:+0100
TZOFFSETTO:+0200
TZNAME:CEST
DTSTART:20250330T010000
END:DAYLIGHT
BEGIN:STANDARD
TZOFFSETFROM:+0200
TZOFFSETTO:+0100
TZNAME:CET
DTSTART:20251026T010000
END:STANDARD
BEGIN:DAYLIGHT
TZOFFSETFROM:+0100
TZOFFSETTO:+0200
TZNAME:CEST
DTSTART:20260329T010000
END:DAYLIGHT
BEGIN:STANDARD
TZOFFSETFROM:+0200
TZOFFSETTO:+0100
TZNAME:CET
DTSTART:20261025T010000
END:STANDARD
END:VTIMEZONE
BEGIN:VEVENT
DTSTART;TZID=Europe/Warsaw:20250124T180000
DTEND;TZID=Europe/Warsaw:20250124T193000
DTSTAMP:20260425T035721
CREATED:20241223T084331Z
LAST-MODIFIED:20241223T110045Z
UID:13357-1737741600-1737747000@www.mdk.piekary.pl
SUMMARY:KONCERT Z OKAZJI DNIA BABCI I DZIADKA "GDY NAM ŚPIEWAŁ ZBIGNIEW WODECKI"
DESCRIPTION:KUP BILET\n\n\n\n\n\nkup bilecik \n\n\n\n\n \n\n\n\n\n\n\n\nPodaruj prezent babci i Dziadkowi z okazji ich święta!Zacznij od Bacha – Tribute to Zbigniew Wodecki to projekt muzyczny poświęcony pamięci Zbigniewa Wodeckiego – muzycznego geniusza\, który pozostawił po sobie niezapomniane dzieła. Zespół tworzą niesamowici muzycy\, którzy zafascynowani brzmieniami muzyki Mistrza postanowili odważyć się i przez swoją pracę\, pasję\, jak i talent złożyć hołd jednemuz największych artystów sceny Polskiej. \n\n\n\nKoncert to wędrówka po twórczości Zbigniewa Wodeckiego. Począwszy od roku ’76\, przez ’86\, ’95 aż do 2018. Dzięki temu usłyszeć można te najbardziej rozpoznawalne utwory\,jak i te mniej znane perełki polskiej muzyki\, które każdy powinien znać. \n\n\n\nUtwory wykonywane są w oryginalnych tonacjach co zachowuje ich charakter i oddaje ducha „tamtych lat”. Zespół to 5 osób grających ZAWSZE NA ŻYWO! Koncert jest przeplatany anegdotkami i historiami z życia Zbigniewa Wodeckiego. Charyzma artystów sprawia\, że jest to uczta nie tylko ale ucha\, ale i oczu.
URL:https://www.mdk.piekary.pl/wydarzenie/koncert-z-okazji-dnia-babci-i-dziadka-gdy-nam-spiewal-zbigniew-wodecki/
LOCATION:Piekary Śląskie ul. Bytomska 73
ATTACH;FMTTYPE=image/png:https://www.mdk.piekary.pl/wp-content/uploads/2024/12/plakat-WIOSNA-wodecki-bach-1.png
ORGANIZER;CN="Miejski Dom Kultury w Piekarach %C5%9Al%C4%85skich":MAILTO:impresariat@mdk.piekary.pl
END:VEVENT
END:VCALENDAR