BEGIN:VCALENDAR
VERSION:2.0
PRODID:-//Miejski Dom Kultury w Piekarach Śląskich - ECPv6.15.17.1//NONSGML v1.0//EN
CALSCALE:GREGORIAN
METHOD:PUBLISH
X-ORIGINAL-URL:https://www.mdk.piekary.pl
X-WR-CALDESC:Wydarzenia dla Miejski Dom Kultury w Piekarach Śląskich
REFRESH-INTERVAL;VALUE=DURATION:PT1H
X-Robots-Tag:noindex
X-PUBLISHED-TTL:PT1H
BEGIN:VTIMEZONE
TZID:Europe/Warsaw
BEGIN:DAYLIGHT
TZOFFSETFROM:+0100
TZOFFSETTO:+0200
TZNAME:CEST
DTSTART:20240331T010000
END:DAYLIGHT
BEGIN:STANDARD
TZOFFSETFROM:+0200
TZOFFSETTO:+0100
TZNAME:CET
DTSTART:20241027T010000
END:STANDARD
BEGIN:DAYLIGHT
TZOFFSETFROM:+0100
TZOFFSETTO:+0200
TZNAME:CEST
DTSTART:20250330T010000
END:DAYLIGHT
BEGIN:STANDARD
TZOFFSETFROM:+0200
TZOFFSETTO:+0100
TZNAME:CET
DTSTART:20251026T010000
END:STANDARD
BEGIN:DAYLIGHT
TZOFFSETFROM:+0100
TZOFFSETTO:+0200
TZNAME:CEST
DTSTART:20260329T010000
END:DAYLIGHT
BEGIN:STANDARD
TZOFFSETFROM:+0200
TZOFFSETTO:+0100
TZNAME:CET
DTSTART:20261025T010000
END:STANDARD
END:VTIMEZONE
BEGIN:VEVENT
DTSTART;TZID=Europe/Warsaw:20250104T163000
DTEND;TZID=Europe/Warsaw:20250104T163000
DTSTAMP:20260425T035731
CREATED:20240228T145121Z
LAST-MODIFIED:20240228T145353Z
UID:10443-1736008200-1736008200@www.mdk.piekary.pl
SUMMARY:PAWEŁ GOŁECKI
DESCRIPTION:ŚWIĄTECZNE MELODIE W DUSZY ROZRYWKI \n\n\n\n\n\n\n\n\nKUP BILET\n\n\n\n\n \n\n\n\n\n\n\n\nKoncert Paweł Gołecki – Świąteczne melodie w duszy rozrywki – tak tak  myślimy już o kolejnym roku  \n\n\n\nZapraszamy na niezapomniany koncert „Paweł Gołecki – Świąteczne melodie w duszy rozrywki”. Doświadczymy wspaniałej atmosfery\, pełnej świątecznych dźwięków. Nie zabraknie także góralskiej nuty\, którą tak bardzo kocha nasza publiczność. \n\n\n\nUsłyszymy muzyczne połączenie świątecznej magii i rozrywki\, a to wszystko w wykonaniu Pawła Gołeckiego z zespołem.
URL:https://www.mdk.piekary.pl/wydarzenie/pawel-golecki/
LOCATION:Piekary Śląskie ul. Bytomska 73
ATTACH;FMTTYPE=image/jpeg:https://www.mdk.piekary.pl/wp-content/uploads/2024/02/KOLĘDY-GOLECKI-plakat.jpg
ORGANIZER;CN="Miejski Dom Kultury w Piekarach %C5%9Al%C4%85skich":MAILTO:impresariat@mdk.piekary.pl
END:VEVENT
END:VCALENDAR