BEGIN:VCALENDAR
VERSION:2.0
PRODID:-//Miejski Dom Kultury w Piekarach Śląskich - ECPv6.15.17.1//NONSGML v1.0//EN
CALSCALE:GREGORIAN
METHOD:PUBLISH
X-WR-CALNAME:Miejski Dom Kultury w Piekarach Śląskich
X-ORIGINAL-URL:https://www.mdk.piekary.pl
X-WR-CALDESC:Wydarzenia dla Miejski Dom Kultury w Piekarach Śląskich
REFRESH-INTERVAL;VALUE=DURATION:PT1H
X-Robots-Tag:noindex
X-PUBLISHED-TTL:PT1H
BEGIN:VTIMEZONE
TZID:Europe/Warsaw
BEGIN:DAYLIGHT
TZOFFSETFROM:+0100
TZOFFSETTO:+0200
TZNAME:CEST
DTSTART:20230326T010000
END:DAYLIGHT
BEGIN:STANDARD
TZOFFSETFROM:+0200
TZOFFSETTO:+0100
TZNAME:CET
DTSTART:20231029T010000
END:STANDARD
BEGIN:DAYLIGHT
TZOFFSETFROM:+0100
TZOFFSETTO:+0200
TZNAME:CEST
DTSTART:20240331T010000
END:DAYLIGHT
BEGIN:STANDARD
TZOFFSETFROM:+0200
TZOFFSETTO:+0100
TZNAME:CET
DTSTART:20241027T010000
END:STANDARD
BEGIN:DAYLIGHT
TZOFFSETFROM:+0100
TZOFFSETTO:+0200
TZNAME:CEST
DTSTART:20250330T010000
END:DAYLIGHT
BEGIN:STANDARD
TZOFFSETFROM:+0200
TZOFFSETTO:+0100
TZNAME:CET
DTSTART:20251026T010000
END:STANDARD
END:VTIMEZONE
BEGIN:VEVENT
DTSTART;TZID=Europe/Warsaw:20240602T160000
DTEND;TZID=Europe/Warsaw:20240602T170000
DTSTAMP:20260425T174246
CREATED:20240307T114551Z
LAST-MODIFIED:20240311T073155Z
UID:10551-1717344000-1717347600@www.mdk.piekary.pl
SUMMARY:SPOKO LOKO - KONCERT DLA DZIECI
DESCRIPTION:PIEKARSKI DZIEŃ DZIECKA \n\n\n\n\n\n\n\n\nKUP BILET\n\n\n\n\n \n\n\n\n\n\n\n\nZapraszamy na wspólne tańce i zabawę z zespołem Spoko Loko!Szalony koncert\, podczas którego dzieciaki razem z zespołem zatańczą i zaśpiewają do takich piosenek jak: „Tańce Połamańce”\, „Ciu ciu ła”\, „A ram sam sam” i wieeeele innych. \n\n\n\nPodczas koncertu nie zabraknie także magiczny sztuczek oraz……….. więcej nie zdradzimy! Spoko Loko\, czyli Kasia\, Karolina i Mateusz. Na swoim koncie na YouTube mają kilkadziesiąt milionów wyświetleń. W 2020 roku na Dzień Dziecka wydali swoją pierwszą płytę „Tańce Połamańce”. Opinie zadowolonych rodziców mówią same za siebie – przyjdźcie i dajcie się porwać rodzinnie w zwariowany świat Spoko Loko!Dzieci do lat 2 wstęp bezpłatny (dziecko na kolanach rodziców\, bilet zakupuje dla siebie tylko opiekun).
URL:https://www.mdk.piekary.pl/wydarzenie/soko-loko-koncert-dla-dzieci/
LOCATION:Piekary Śląskie ul. Bytomska 73
ATTACH;FMTTYPE=image/jpeg:https://www.mdk.piekary.pl/wp-content/uploads/2024/03/Dzień-dziecka-podmiana.jpg
ORGANIZER;CN="Miejski Dom Kultury w Piekarach %C5%9Al%C4%85skich":MAILTO:impresariat@mdk.piekary.pl
END:VEVENT
END:VCALENDAR