BEGIN:VCALENDAR
VERSION:2.0
PRODID:-//Miejski Dom Kultury w Piekarach Śląskich - ECPv6.15.17.1//NONSGML v1.0//EN
CALSCALE:GREGORIAN
METHOD:PUBLISH
X-ORIGINAL-URL:https://www.mdk.piekary.pl
X-WR-CALDESC:Wydarzenia dla Miejski Dom Kultury w Piekarach Śląskich
REFRESH-INTERVAL;VALUE=DURATION:PT1H
X-Robots-Tag:noindex
X-PUBLISHED-TTL:PT1H
BEGIN:VTIMEZONE
TZID:Europe/Warsaw
BEGIN:DAYLIGHT
TZOFFSETFROM:+0100
TZOFFSETTO:+0200
TZNAME:CEST
DTSTART:20230326T010000
END:DAYLIGHT
BEGIN:STANDARD
TZOFFSETFROM:+0200
TZOFFSETTO:+0100
TZNAME:CET
DTSTART:20231029T010000
END:STANDARD
BEGIN:DAYLIGHT
TZOFFSETFROM:+0100
TZOFFSETTO:+0200
TZNAME:CEST
DTSTART:20240331T010000
END:DAYLIGHT
BEGIN:STANDARD
TZOFFSETFROM:+0200
TZOFFSETTO:+0100
TZNAME:CET
DTSTART:20241027T010000
END:STANDARD
BEGIN:DAYLIGHT
TZOFFSETFROM:+0100
TZOFFSETTO:+0200
TZNAME:CEST
DTSTART:20250330T010000
END:DAYLIGHT
BEGIN:STANDARD
TZOFFSETFROM:+0200
TZOFFSETTO:+0100
TZNAME:CET
DTSTART:20251026T010000
END:STANDARD
END:VTIMEZONE
BEGIN:VEVENT
DTSTART;TZID=Europe/Warsaw:20240526T160000
DTEND;TZID=Europe/Warsaw:20240526T180000
DTSTAMP:20260425T175402
CREATED:20240220T080441Z
LAST-MODIFIED:20240228T144321Z
UID:10319-1716739200-1716746400@www.mdk.piekary.pl
SUMMARY:LA BOMB
DESCRIPTION:KUB BILET\n\n\n\n\n \n\n\n\n\n\n\n\nLA BOMBE to prawdziwie BOMBOWA komedia: wspaniali aktorzy\, piękna sceneria i kostiumy\, francuska muzyka oraz  sceny\, które sprawią\, że będziecie śmiać się do łez! \n\n\n\nCaroline i Stéphane: Wyjeżdżają na Korsykę do swojego wakacyjnego domu zdeterminowani\, by odpocząć po urodzeniu najmłodszego dziecka i ponownie zakochać się w sobie. TO NIE BĘDZIE ŁATWE!!! \n\n\n\nCAROLINE: jest w środku „poporodowej” depresji\, rozwija irracjonalną zazdrość. \n\n\n\nSTÉPHANE: sfrustrowany psycholog\, rozumie powagę sytuacji. Z troski o żonę zatrudnia opiekunkę dla dzieci na czas wakacji. \n\n\n\nSAM: opiekunka zwerbowana z Londynu z całym bagażem: wzrost: 1\,80 m\, obwód w pasie: 60 cm\, miseczka D\, włosy spływające na plecy\, seksowny akcent i… skrywany sekret. \n\n\n\nALBAN: przyjaciel rodziny\, krystalizuje wszystkie obawy Caroline. \n\n\n\nAtmosfera robi się gorąca\, STÉPHANE i ALBAN się gotują\, a CAROLINEsię przegrzewa… krótko mówiąc\, to „BOMBA” w każdym tego słowa znaczeniu!
URL:https://www.mdk.piekary.pl/wydarzenie/la-bomb/
LOCATION:Piekary Śląskie ul. Bytomska 73
ATTACH;FMTTYPE=image/png:https://www.mdk.piekary.pl/wp-content/uploads/2024/02/plakat-La-Bombe-Piekary-Śląskie.png
ORGANIZER;CN="Miejski Dom Kultury w Piekarach %C5%9Al%C4%85skich":MAILTO:impresariat@mdk.piekary.pl
END:VEVENT
END:VCALENDAR