BEGIN:VCALENDAR
VERSION:2.0
PRODID:-//Miejski Dom Kultury w Piekarach Śląskich - ECPv6.15.17.1//NONSGML v1.0//EN
CALSCALE:GREGORIAN
METHOD:PUBLISH
X-ORIGINAL-URL:https://www.mdk.piekary.pl
X-WR-CALDESC:Wydarzenia dla Miejski Dom Kultury w Piekarach Śląskich
REFRESH-INTERVAL;VALUE=DURATION:PT1H
X-Robots-Tag:noindex
X-PUBLISHED-TTL:PT1H
BEGIN:VTIMEZONE
TZID:Europe/Warsaw
BEGIN:DAYLIGHT
TZOFFSETFROM:+0100
TZOFFSETTO:+0200
TZNAME:CEST
DTSTART:20230326T010000
END:DAYLIGHT
BEGIN:STANDARD
TZOFFSETFROM:+0200
TZOFFSETTO:+0100
TZNAME:CET
DTSTART:20231029T010000
END:STANDARD
BEGIN:DAYLIGHT
TZOFFSETFROM:+0100
TZOFFSETTO:+0200
TZNAME:CEST
DTSTART:20240331T010000
END:DAYLIGHT
BEGIN:STANDARD
TZOFFSETFROM:+0200
TZOFFSETTO:+0100
TZNAME:CET
DTSTART:20241027T010000
END:STANDARD
BEGIN:DAYLIGHT
TZOFFSETFROM:+0100
TZOFFSETTO:+0200
TZNAME:CEST
DTSTART:20250330T010000
END:DAYLIGHT
BEGIN:STANDARD
TZOFFSETFROM:+0200
TZOFFSETTO:+0100
TZNAME:CET
DTSTART:20251026T010000
END:STANDARD
END:VTIMEZONE
BEGIN:VEVENT
DTSTART;TZID=Europe/Warsaw:20240524T190000
DTEND;TZID=Europe/Warsaw:20240524T190000
DTSTAMP:20260425T150003
CREATED:20240103T090011Z
LAST-MODIFIED:20240103T090140Z
UID:9765-1716577200-1716577200@www.mdk.piekary.pl
SUMMARY:ANTONI SYREK-DĄBROWSKI
DESCRIPTION:KUP BILET\n\n\n\n\n \n\n\n\n\n\n\n\nZapraszamy na wieczór komedii i konsternacji z Antonim Syrek-Dąbrowskim.  \n\n\n\n„Jaka piękna katastrofa” to zapiski przeżyć Antoniego z ostatniego roku\, a jego perspektywa zmieniła się znacznie odkąd został ojcem.  \n\n\n\nPrzed Antonim wystąpi również Support.  \n\n\n\nBilety :  od 79 zł * Wydarzenie dla dorosłych!!!  \n\n\n\n* Brak zgody na nagrywanie audio/video. * Osoby\, które będą przeszkadzać podczas wydarzenia zostaną wyproszone. Bez zwrotu pieniędzy za bilet.
URL:https://www.mdk.piekary.pl/wydarzenie/antoni-syrek-dabrowski/
LOCATION:Piekary Śląskie ul. Bytomska 73
ATTACH;FMTTYPE=image/jpeg:https://www.mdk.piekary.pl/wp-content/uploads/2024/01/SYREK-DABROWSKI.jpg
ORGANIZER;CN="Miejski Dom Kultury w Piekarach %C5%9Al%C4%85skich":MAILTO:impresariat@mdk.piekary.pl
END:VEVENT
BEGIN:VEVENT
DTSTART;TZID=Europe/Warsaw:20240524T190000
DTEND;TZID=Europe/Warsaw:20240524T210000
DTSTAMP:20260425T150003
CREATED:20240425T131309Z
LAST-MODIFIED:20240425T131310Z
UID:11000-1716577200-1716584400@www.mdk.piekary.pl
SUMMARY:ANTONI SYREK DĄBROWSKI
DESCRIPTION:STAND UP \n\n\n\n\n\n\n\n\nKupbilecik\n\n\n\n\n\n\n\n\n\n\n\n\nZapraszamy na wieczór komedii i konsternacji z Antonim Syrek-Dąbrowskim. „Jaka piękna katastrofa” to zapiski przeżyć Antoniego z ostatniego roku\, a jego perspektywa zmieniła się znacznie odkąd został ojcem.  \n\n\n\nPrzed Antonim wystąpi również Support.
URL:https://www.mdk.piekary.pl/wydarzenie/antoni-syrek-dabrowski-2/
LOCATION:Piekary Śląskie ul. Bytomska 73
ATTACH;FMTTYPE=image/jpeg:https://www.mdk.piekary.pl/wp-content/uploads/2024/04/Syrek.jpg
ORGANIZER;CN="Miejski Dom Kultury w Piekarach %C5%9Al%C4%85skich":MAILTO:impresariat@mdk.piekary.pl
END:VEVENT
END:VCALENDAR