BEGIN:VCALENDAR
VERSION:2.0
PRODID:-//Miejski Dom Kultury w Piekarach Śląskich - ECPv6.15.17.1//NONSGML v1.0//EN
CALSCALE:GREGORIAN
METHOD:PUBLISH
X-ORIGINAL-URL:https://www.mdk.piekary.pl
X-WR-CALDESC:Wydarzenia dla Miejski Dom Kultury w Piekarach Śląskich
REFRESH-INTERVAL;VALUE=DURATION:PT1H
X-Robots-Tag:noindex
X-PUBLISHED-TTL:PT1H
BEGIN:VTIMEZONE
TZID:Europe/Warsaw
BEGIN:DAYLIGHT
TZOFFSETFROM:+0100
TZOFFSETTO:+0200
TZNAME:CEST
DTSTART:20230326T010000
END:DAYLIGHT
BEGIN:STANDARD
TZOFFSETFROM:+0200
TZOFFSETTO:+0100
TZNAME:CET
DTSTART:20231029T010000
END:STANDARD
BEGIN:DAYLIGHT
TZOFFSETFROM:+0100
TZOFFSETTO:+0200
TZNAME:CEST
DTSTART:20240331T010000
END:DAYLIGHT
BEGIN:STANDARD
TZOFFSETFROM:+0200
TZOFFSETTO:+0100
TZNAME:CET
DTSTART:20241027T010000
END:STANDARD
BEGIN:DAYLIGHT
TZOFFSETFROM:+0100
TZOFFSETTO:+0200
TZNAME:CEST
DTSTART:20250330T010000
END:DAYLIGHT
BEGIN:STANDARD
TZOFFSETFROM:+0200
TZOFFSETTO:+0100
TZNAME:CET
DTSTART:20251026T010000
END:STANDARD
END:VTIMEZONE
BEGIN:VEVENT
DTSTART;TZID=Europe/Warsaw:20240510T183000
DTEND;TZID=Europe/Warsaw:20240510T183000
DTSTAMP:20260425T150008
CREATED:20240227T102720Z
LAST-MODIFIED:20240228T140236Z
UID:10402-1715365800-1715365800@www.mdk.piekary.pl
SUMMARY:OŚMIU TENORÓW - JEDNA SCENA
DESCRIPTION:MUZYCZNA GALA Z OKAZJI DNIA MATKI \n\n\n\n\n\n\n\n\nKUP BILET\n\n\n\n\n \n\n\n\n\n\n\n\n \n\n\n\nZapraszamy na wyjątkowy koncert – „Ośmiu Tenorów – jedna scena”. To niezwykła Muzyczna Gala z okazji Dnia Matki\, podczas której będziemy mieli przyjemność gościć utalentowanych artystów z kraju i zagranicy. \n\n\n\nNa scenie pojawią się wybitni tenorzy\, którzy swoimi głosami poruszą serca wszystkich miłośników muzyki: \n\n\n\nMirosław Niewiadomski Mariusz Ruta Bartosz Kuczyk Petro Chiliali Anatoli Pahrebny\, Igor Radvansky\, Klaudiusz Kapłon\, Andrzej Stetskyii. \n\n\n\nTo niepowtarzalna okazja\, by doświadczyć potężnych\, emocjonalnych interpretacji utworów w wykonaniu artystów\, których talent zdobył uznanie zarówno w Polsce\, jak i za granicą. Ich niezwykłe umiejętności wokalne sprawią\, że koncert ten stanie się niezapomnianym wydarzeniem muzycznym. \n\n\n\nPrzyłącz się do naszego wyjątkowego świętowania Dnia Matki na tej niepowtarzalnej Muzycznej Gali. Bądź częścią magicznego wieczoru\, pełnego wzruszeń i niesamowitych dźwięków. Kup bilet już teraz i zanurz się w świecie pięknej muzyki w wykonaniu Ośmiu Tenorów!
URL:https://www.mdk.piekary.pl/wydarzenie/osmiu-tenorow-jedna-scena/
LOCATION:Piekary Śląskie ul. Bytomska 73
ATTACH;FMTTYPE=image/jpeg:https://www.mdk.piekary.pl/wp-content/uploads/2024/02/TENORZY-plakat.jpg
END:VEVENT
END:VCALENDAR