BEGIN:VCALENDAR
VERSION:2.0
PRODID:-//Miejski Dom Kultury w Piekarach Śląskich - ECPv6.15.17.1//NONSGML v1.0//EN
CALSCALE:GREGORIAN
METHOD:PUBLISH
X-WR-CALNAME:Miejski Dom Kultury w Piekarach Śląskich
X-ORIGINAL-URL:https://www.mdk.piekary.pl
X-WR-CALDESC:Wydarzenia dla Miejski Dom Kultury w Piekarach Śląskich
REFRESH-INTERVAL;VALUE=DURATION:PT1H
X-Robots-Tag:noindex
X-PUBLISHED-TTL:PT1H
BEGIN:VTIMEZONE
TZID:Europe/Warsaw
BEGIN:DAYLIGHT
TZOFFSETFROM:+0100
TZOFFSETTO:+0200
TZNAME:CEST
DTSTART:20230326T010000
END:DAYLIGHT
BEGIN:STANDARD
TZOFFSETFROM:+0200
TZOFFSETTO:+0100
TZNAME:CET
DTSTART:20231029T010000
END:STANDARD
BEGIN:DAYLIGHT
TZOFFSETFROM:+0100
TZOFFSETTO:+0200
TZNAME:CEST
DTSTART:20240331T010000
END:DAYLIGHT
BEGIN:STANDARD
TZOFFSETFROM:+0200
TZOFFSETTO:+0100
TZNAME:CET
DTSTART:20241027T010000
END:STANDARD
BEGIN:DAYLIGHT
TZOFFSETFROM:+0100
TZOFFSETTO:+0200
TZNAME:CEST
DTSTART:20250330T010000
END:DAYLIGHT
BEGIN:STANDARD
TZOFFSETFROM:+0200
TZOFFSETTO:+0100
TZNAME:CET
DTSTART:20251026T010000
END:STANDARD
END:VTIMEZONE
BEGIN:VEVENT
DTSTART;TZID=Europe/Warsaw:20240217T150000
DTEND;TZID=Europe/Warsaw:20240217T160000
DTSTAMP:20260425T221109
CREATED:20231130T081227Z
LAST-MODIFIED:20231130T081228Z
UID:9415-1708182000-1708185600@www.mdk.piekary.pl
SUMMARY:MAGICZNY KONCERT - BAJKI ŚWIATA
DESCRIPTION:KUP BILET\n\n\n\n\n \n\n\n\n\n\n\n\n‘’Magiczny koncert – Bajki Świata’’ \n\n\n\nNiezwykła muzyczna podróż w świat ulubionych bajek. Bohaterowie zejdą z ekranu\, by podzielić się najpiękniejszymi i najbardziej znanymi utworami. \n\n\n\nPoczynając od Stumilowego Lasu\, który zwiedzimy w towarzystwie Kubusia Puchatka\, wpłyniemy na wielkie wody południowego Pacyfiku pod przywództwem legendarnej Vaiany\, by przez chwilę zanurkować z Małą Syrenką w niezmierzonych\, morskich głębinach. Następnie wskakując na latający dywan wraz z Aladynem dolecimy aż do indiańskiej wioski Pocahontas. Nagle Zaplątani na lianie z Tarzanem wylądujemy na gorącej Sawannie\, gdzie panuje słynny Król Lew\, by potem ochłodzić się w mroźniej Krainie Lodu… \n\n\n\nWidowisko pełne kolorowych strojów\, baniek mydlanych\, śniegu\, dymu\, śmieszne dialogi\, wspólna zabawa\, namalują uśmiechy na twarzach młodych widzów.Widowisko przeznaczone dla dzieci i młodzieży. Koncert ma na celu pobudzić i rozwijać wyobraźnię oraz ciekawość poznawczą dziecka oraz zachęcić do aktywnego uczestniczenia w życiu kulturalnym m.in poprzez:• Uwrażliwianie na przeżycia estetyczne\,• Dostarczanie\, za pomocą fragmentów bajek\, nowej wiedzy o świecie i o innych ludziach\, co pomaga zrozumieć ich postawy i zachowania\,• Uczenie przestrzegania zakazów i bycia dobrym – w bajkach świat jest sprawiedliwy i rządzony według jednoznacznych reguł \, szlachetność jest nagradzana\,• Uwrażliwianie na odpowiednie zachowania społeczne poprzez obserwacje zachowań bohaterów bajek• Utożsamianie się z ulubionymi bohaterami bajek• Odreagowywanie napięć – relaks\, odprężenie\, zabawa• Rozwijanie wrażliwości słuchowej i umiejętności odbierania muzyki• Kształcenie zainteresowań muzycznych• Ogólne kształtowanie i rozwijanie słuchu muzycznego• Rozbudzanie zamiłowań do indywidualnego i zbiorowego muzykowania• Wdrażanie do aktywności artystycznej kulturalnego wykorzystania wolnego czasu \n\n\n\nCzas trwania: ok. godziny fantastycznej zabawy 😊
URL:https://www.mdk.piekary.pl/wydarzenie/magiczny-koncert-bajki-swiata/
LOCATION:Piekary Śląskie ul. Bytomska 73
ATTACH;FMTTYPE=image/jpeg:https://www.mdk.piekary.pl/wp-content/uploads/2023/11/BAJKI_PIEKARY_SL_17022024_FB-1.jpg
ORGANIZER;CN="Miejski Dom Kultury w Piekarach %C5%9Al%C4%85skich":MAILTO:impresariat@mdk.piekary.pl
END:VEVENT
BEGIN:VEVENT
DTSTART;TZID=Europe/Warsaw:20240217T180000
DTEND;TZID=Europe/Warsaw:20240217T193000
DTSTAMP:20260425T221109
CREATED:20231130T081951Z
LAST-MODIFIED:20231130T081952Z
UID:9422-1708192800-1708198200@www.mdk.piekary.pl
SUMMARY:OPERETKOWA BAŚŃ
DESCRIPTION:KUP BILET\n\n\n\n\n \n\n\n\n\n\n\n\nOPERETKOWA PETARDA PRZEBOJÓW odbywa się w całej Polsce. \n\n\n\nZa sprawą wspaniałych artystów przeniosą się Państwo do cudownego i wyjątkowego świata Operetki i Musicalu\, pełnego miłości\, czułości\, wzruszeń\, namiętności\, gorących pocałunków… Usłyszycie Państwo najpiękniejsze i najznakomitsze melodie muzycznego króla walca Johanna Straussa jak również Emmericha Kalmana\, Franza Lehara\, Paula Abrahama. \n\n\n\nZabrzmią duety wszech czasów: „Usta milczą\, dusza śpiewa” „Co się dzieje\, oszaleję”\, „W rytm walczyka”\, „Myszko\, to była piękna noc”\, wspaniałe arie: „Aria ze śmiechem”\, popisowe utwory instrumentalne\, jak i piosenki z repertuaru Jana Kiepury: „Brunetki\, blondynki” oraz duety musicalowe\, a to wszystko podane na najwyższym poziomie. \n\n\n\nGala cieszy się wielkim powodzeniem i uznaniem\, za sprawą porywających solistów\, Joanny Wojtaszewskiej oraz Kamila Rocha Karolczuka\, ich poruszającej i subtelnej gry scenicznej\, fantastycznego kontaktu z publicznością oraz wdzięku i uroku osobistego a do tego niesamowitej wrażliwości oraz muzykalności. \n\n\n\nRepertuar zaczerpnięty z najbardziej znanych i lubianych Operetek oraz Musicali\, takich\, jak: „Zemsta Nietoperza”\, „Księżniczka Czardasza”\, „Wesoła Wdówka”\, „Baron Cygański”\, „Wiedeńska krew”\, „My Fair Lady” czy „Upiór w Operze”. \n\n\n\nŚpiewakom towarzyszą wspaniali Kameraliści Operetkowi\, składający się z wybitnie uzdolnionych artystów nowego pokolenia muzycznego oraz porywający tancerze. \n\n\n\nKoncert jest dedykowany każdemu\, kto kocha piękną\, melodyjną muzykę i jest gotów by szeroko otworzyć swe serce na nowe\, muzyczne i nie tylko\, doznania. \n\n\n\nZapraszamy do wspólnego muzykowania. \n\n\n\nDo zobaczenia i usłyszenia. \n\n\n\nObsada: Joanna Wojtaszewska – Sopran \n\n\n\nKamil Roch Karolczuk – Tenor \n\n\n\nKameraliści Operetkowi \n\n\n\nPara taneczna Czas trwania koncertu: ok.80 minut (bez przerwy).
URL:https://www.mdk.piekary.pl/wydarzenie/operetkowa-basn/
LOCATION:Piekary Śląskie ul. Bytomska 73
ATTACH;FMTTYPE=image/jpeg:https://www.mdk.piekary.pl/wp-content/uploads/2023/11/BASN_PIEKARY_SL_17022024_FB-1.jpg
ORGANIZER;CN="Miejski Dom Kultury w Piekarach %C5%9Al%C4%85skich":MAILTO:impresariat@mdk.piekary.pl
END:VEVENT
END:VCALENDAR