BEGIN:VCALENDAR
VERSION:2.0
PRODID:-//Miejski Dom Kultury w Piekarach Śląskich - ECPv6.15.17.1//NONSGML v1.0//EN
CALSCALE:GREGORIAN
METHOD:PUBLISH
X-WR-CALNAME:Miejski Dom Kultury w Piekarach Śląskich
X-ORIGINAL-URL:https://www.mdk.piekary.pl
X-WR-CALDESC:Wydarzenia dla Miejski Dom Kultury w Piekarach Śląskich
REFRESH-INTERVAL;VALUE=DURATION:PT1H
X-Robots-Tag:noindex
X-PUBLISHED-TTL:PT1H
BEGIN:VTIMEZONE
TZID:Europe/Warsaw
BEGIN:DAYLIGHT
TZOFFSETFROM:+0100
TZOFFSETTO:+0200
TZNAME:CEST
DTSTART:20220327T010000
END:DAYLIGHT
BEGIN:STANDARD
TZOFFSETFROM:+0200
TZOFFSETTO:+0100
TZNAME:CET
DTSTART:20221030T010000
END:STANDARD
BEGIN:DAYLIGHT
TZOFFSETFROM:+0100
TZOFFSETTO:+0200
TZNAME:CEST
DTSTART:20230326T010000
END:DAYLIGHT
BEGIN:STANDARD
TZOFFSETFROM:+0200
TZOFFSETTO:+0100
TZNAME:CET
DTSTART:20231029T010000
END:STANDARD
BEGIN:DAYLIGHT
TZOFFSETFROM:+0100
TZOFFSETTO:+0200
TZNAME:CEST
DTSTART:20240331T010000
END:DAYLIGHT
BEGIN:STANDARD
TZOFFSETFROM:+0200
TZOFFSETTO:+0100
TZNAME:CET
DTSTART:20241027T010000
END:STANDARD
END:VTIMEZONE
BEGIN:VEVENT
DTSTART;TZID=Europe/Warsaw:20230928T093000
DTEND;TZID=Europe/Warsaw:20230928T110000
DTSTAMP:20260426T034323
CREATED:20230926T081048Z
LAST-MODIFIED:20230926T081347Z
UID:8663-1695893400-1695898800@www.mdk.piekary.pl
SUMMARY:BEZPIECZNE PIEKARY
DESCRIPTION:AKCJA PROFILAKTYCZNA DLA DZIECI \n\n\n\n\n\n28 września\, ruszamy z kolejną akcją profilaktyczną pn. „Bezpieczne Piekary”. Podczas spotkania wystąpi Centrum Uśmiechu – Fruktaki Show z programem „Bezpiecznie na drodze”.  \n\n\n\n\n\n\n\nDo akcji włączyli się: \n\n\n\nMiasto Piekary Śląskie \n\n\n\nPolicja Piekary Śląskie \n\n\n\n Straż Miejska Piekary Śląskie \n\n\n\n Wodne Ochotnicze Pogotowie rachunkowe w Piekarach Śląskie \n\n\n\nPartnerzy wydarzenia: \n\n\n\nPanawit \n\n\n\nMETRO Piekary Śląskie \n\n\n\nZGK Piekary Śląskie \n\n\n\n Dziękujemy !
URL:https://www.mdk.piekary.pl/wydarzenie/bezpieczne-piekary/
LOCATION:Piekary Śląskie ul. Bytomska 73
ATTACH;FMTTYPE=image/jpeg:https://www.mdk.piekary.pl/wp-content/uploads/2023/09/BEZPIECZNE-PIEKARY-Plakat.jpg
ORGANIZER;CN="Miejski Dom Kultury w Piekarach %C5%9Al%C4%85skich":MAILTO:impresariat@mdk.piekary.pl
END:VEVENT
END:VCALENDAR